Workbook

Sheet Содержание книги
A1: Содержание
A4: № листа | B4: Электросетевой участок | C4: Центр питания
A5: 1-109 | B5: ЭСУ "Череповец"
A6: 110-118 | B6: ЭСУ "Бабаево"+
A7: 119-153 | B7: ЭСУ "Кадуй"+
A8: 154-166 | B8: ЭСУ "Чагода"+
A9: 167-207 | B9: ЭСУ "Шексна"+
A11: Содержание
A14: № листа | B14: Электросетевой участок | C14: Центр питания
A15: 1 а | B15: г, Вологда | C15: ОАО "БМЗ"
D16: яч, Т1, яч, Т2
A17: 1, 2 | B17: г, Вологда | C17: ПС "АНАНЬИНО"
D18: яч,7 - ф,"Город-7"
D19: яч,8 - ф,"Городской", яч,2 - ф,"Овощехранилище"
A20: 3 | B20: г, Вологда | C20: ПС "ИСКРА"
D21: яч,18 - ф,"РУБЦОВО"- СВ - ВЛ№2
A22: 4 | B22: г, Вологда | C22: ПС "МАЕГА"
D23: яч,13 - ф,"НИКИТИНО"-СВ - ВЛ№27
A24: 5,6, 7, 8, 9 | B24: г, Вологда | C24: ПС "ЗАПАДНАЯ
D25: яч,19 - "РМЗ-1", яч,24 - "РМЗ-2"
D26: яч,15 -"ОЧИСТНЫЕ-1", яч,9 -"ГОРОД-1"
D27: яч,21- "П/я-1", яч,20 - "П/я-2"
D28: яч,33 - "РП-35", яч,35 - "РП-37"
D29: яч,11 - "ГОРОД-2", яч,18 - "ОЧИСТНЫЕ-2"
A30: 10 | B30: г, Вологда | C30: ПС "СЕВЕРНАЯ 35/6 кВ
D31: Т1 - РП5ф3 ввод №1, Т2 - РП5ф17 ввод №2
A32: 11 | B32: г, Вологда | C32: РТП "ТЕПЛИЧНОГО ХОЗ - ВА"
D33: яч, 3 - ф,"Микрорайон-1" ввод № 1, яч,13 - ф,"Микрорайон-2" ввод № 2
A34: 12,13, 14 | B34: г, Вологда | C34: ГПП 110/10 кВ "ВОМЗ"
D35: яч,47 - РП 29 ввод № 1, яч,31 - РП 29 ввод № 2
D36: яч,5 - РП 14 ввод № 1, яч,22 - РП 14 ввод № 2
D37: яч,44 - РП 2 ввод № 1, яч,26в - РП 2 ввод № 2
A38: 15,16,17,18,19,20, 21 | B38: г, Вологда | C38: ПС ВОЛОГДА-ЮЖНАЯ РУ - 6 -10 кВ
D39: яч,15 - "ГОРОД-15", яч,24 - "ТУБДИСПАНСЕР"
D40: яч,10 - "ГОРОД-10", яч,14 - "ГОРОД-14"
D41: яч,20 - "ГОРОД 20"
D42: яч, 7- ф,"ГОРОД 7", яч,17 - ф,"ГОРОД 17"
D43: яч,3 - "ГОРОД-3", яч,5 - "ГОРОД-5"
D44: яч, 1 - "ГОРОД -1", яч, 20 - "РП 27"
D45: яч, 4 ф,"РОДИОНЦЕВО" - ПКУ
...

Sheet 1
B1: АО "Вологдаоблэнерго" | J1: код 900151 | N1: ПС "Малечкино" ф,Птицефабрика
B2: наименование предприятия | N2: наименование источника питания
N3: _________________________________
B4: ул, Горького, 99 | I4: Таблица № 1 | N4: ТП-1 ЦРП Малечкино; ТП-5 АВМ
B5: адрес
A6: почасовых записей показаний электрических счетчиков
A7: в режимный день 21 ДЕКАБРЯ 2022 г.
A8: 1630 | B8: 1628
A9: часы суток | B9: Активная энергия | J9: Реактивная энергия
B10: ТП-1 ЦРП Малечкино | F10: ТП-5 АВМ | J10: ТП-1 ЦРП Малечкино | N10: ТП-5 АВМ
B11: Расчет, Коэф, | E11: 30 | F11: Расчет, Коэф, | I11: 120 | J11: Расчет, Коэф, | M11: =E11 -> 30 | N11: Расчет, Коэф, | Q11: =I11 -> 120
B12: показания счетчика | C12: разность | E12: расход эл,энергии за час | F12: показания счетчика | G12: разность | I12: расход эл,энергии за час | J12: показания счетчика | K12: разность | M12: расход эл,энергии за час | N12: показания счетчика | O12: разность | Q12: расход эл,энергии за час
A13: 1 | B13: 2 | C13: 3 | E13: 4 | F13: 5 | G13: 6 | I13: 7 | J13: 8 | K13: 9 | M13: 10 | N13: 11 | O13: 12 | Q13: 13
A14: 0
A15: 1 | E15: 75.12 | I15: 14.784 | M15: 0 | Q15: 0
A16: 2 | E16: 74.56 | I16: 13.08 | M16: 0 | Q16: 0
A17: 3 | E17: 75.28 | I17: 13.224 | M17: 0 | Q17: 0
A18: 4 | E18: 74.88 | I18: 12.672 | M18: 0 | Q18: 0
A19: 5 | E19: 74.72 | I19: 12.528 | M19: 0 | Q19: 0
A20: 6 | E20: 74.08 | I20: 12.648 | M20: 0 | Q20: 0
A21: 7 | E21: 77.92 | I21: 11.616 | M21: 0 | Q21: 0
A22: 8 | E22: 111.68 | I22: 10.392 | M22: 0 | Q22: 0
A23: 9 | E23: 166.96 | I23: 11.496 | M23: 0 | Q23: 0
A24: 10 | E24: 190.16 | I24: 11.568 | M24: 0 | Q24: 0
A25: 11 | E25: 156.24 | I25: 15.072 | M25: 0 | Q25: 0
A26: 12 | E26: 176.32 | I26: 16.824 | M26: 0 | Q26: 0
... A38: 24 | E38: 103.36 | I38: 10.944 | M38: 0 | Q38: 0
A39: Итого | E39: =SUM(E15:E38) -> 2692.8 | I39: =SUM(I15:I38) -> 377.16 | M39: =SUM(M15:M38) -> 0 | Q39: =SUM(Q15:Q38) -> 0
A40: 1, При наличии на предприятии отклонений от нормальных режимов электропотребления (временное изменение схем питания, остановка на ремонт, резкое снижение
A41: эл,потребления и т,д,) последние необходимо перечислить,
A42: Главный инженер АО "Вологдаоблэнерго" А,В, Чурляев
A43: составляется самим предприятием с соблюдением всех пунктов настоящей таблицы,

Sheet 2
B1: АО "Вологдаоблэнерго" | J1: код 900151 | N1: ПС Малечкино, ф, Поселок
B2: наименование предприятия | N2: наименование источника питания
N3: ТП-8 ПС Малечкино В-1; В-2
B4: ул, Горького, 99 | I4: Таблица № 1
B5: адрес
A6: почасовых записей показаний электрических счетчиков
A7: ='1'!A7:Q7 -> в режимный день 21 ДЕКАБРЯ 2022 г.
A8: 1630 | B8: 1628
A9: часы суток | B9: Активная энергия | J9: Реактивная энергия
B10: ТП-8 ПС Малечкино В-1 | F10: ТП-8 ПС Малечкино В-2 | J10: ТП-8 ПС Малечкино В-1 | N10: ТП-8 ПС Малечкино В-2
B11: Расчет, Коэф, | E11: 80 | F11: Расчет, Коэф, | I11: 80 | J11: Расчет, Коэф, | M11: =E11 -> 80 | N11: Расчет, Коэф, | Q11: =I11 -> 80
B12: показания счетчика | C12: разность | E12: расход эл,энергии за час | F12: показания счетчика | G12: разность | I12: расход эл,энергии за час | J12: показания счетчика | K12: разность | M12: расход эл,энергии за час | N12: показания счетчика | O12: разность | Q12: расход эл,энергии за час
A13: 1 | B13: 2 | C13: 3 | E13: 4 | F13: 5 | G13: 6 | I13: 7 | J13: 8 | K13: 9 | M13: 10 | N13: 11 | O13: 12 | Q13: 13
A14: 0
A15: 1 | E15: 16.576 | I15: 24.32 | M15: 0 | Q15: 0
A16: 2 | E16: 14.016 | I16: 24.48 | M16: 0 | Q16: 0
A17: 3 | E17: 17.6 | I17: 23.776 | M17: 0 | Q17: 0
A18: 4 | E18: 24.192 | I18: 23.744 | M18: 0 | Q18: 0
A19: 5 | E19: 21.072 | I19: 23.216 | M19: 0 | Q19: 0
A20: 6 | E20: 21.072 | I20: 31.44 | M20: 0 | Q20: 0
A21: 7 | E21: 21.616 | I21: 45.376 | M21: 0 | Q21: 0
A22: 8 | E22: 28.288 | I22: 41.408 | M22: 0 | Q22: 0
A23: 9 | E23: 30.272 | I23: 39.008 | M23: 0 | Q23: 0
A24: 10 | E24: 29.936 | I24: 55.632 | M24: 0 | Q24: 0
A25: 11 | E25: 30.88 | I25: 43.376 | M25: 0 | Q25: 0
A26: 12 | E26: 30.128 | I26: 40.272 | M26: 0 | Q26: 0
... A38: 24 | E38: 19.232 | I38: 21.312 | M38: 0 | Q38: 0
A39: Итого | E39: =SUM(E15:E38) -> 612.976 | I39: =SUM(I15:I38) -> 746.736 | M39: =SUM(M15:M38) -> 0 | Q39: =SUM(Q15:Q38) -> 0
A40: 1, При наличии на предприятии отклонений от нормальных режимов электропотребления (временное изменение схем питания, остановка на ремонт, резкое снижение
A41: эл,потребления и т,д,) последние необходимо перечислить,
A42: Главный инженер АО "Вологдаоблэнерго" А,В, Чурляев
A43: составляется самим предприятием с соблюдением всех пунктов настоящей таблицы,

Sheet 3
B1: АО "Вологдаоблэнерго" | J1: код 900151 | N1: ПС Малечкино, ф, Поселок
B2: наименование предприятия | N2: наименование источника питания
N3: ТП-105; КТП-Дачи п,Малечкино
B4: ул, Горького, 99 | I4: Таблица № 1
B5: адрес
A6: почасовых записей показаний электрических счетчиков
A7: ='1'!A7:Q7 -> в режимный день 21 ДЕКАБРЯ 2022 г.
A8: 1630 | B8: 1628
A9: часы суток | B9: Активная энергия | J9: Реактивная энергия
B10: ТП-105 | F10: КТП-Дачи п,Малечкино | J10: ТП-105 | N10: КТП-Дачи п,Малечкино
B11: Расчет, Коэф, | E11: 80 | F11: Расчет, Коэф, | I11: 60 | J11: Расчет, Коэф, | M11: =E11 -> 80 | N11: Расчет, Коэф, | Q11: =I11 -> 60
B12: показания счетчика | C12: разность | E12: расход эл,энергии за час | F12: показания счетчика | G12: разность | I12: расход эл,энергии за час | J12: показания счетчика | K12: разность | M12: расход эл,энергии за час | N12: показания счетчика | O12: разность | Q12: расход эл,энергии за час
A13: 1 | B13: 2 | C13: 3 | E13: 4 | F13: 5 | G13: 6 | I13: 7 | J13: 8 | K13: 9 | M13: 10 | N13: 11 | O13: 12 | Q13: 13
A14: 0
A15: 1 | E15: 22.12 | I15: 1.56 | M15: 0 | Q15: 0
A16: 2 | E16: 20.64 | I16: 1.52 | M16: 0 | Q16: 0
A17: 3 | E17: 18.12 | I17: 1.56 | M17: 0 | Q17: 0
A18: 4 | E18: 18.52 | I18: 1.52 | M18: 0 | Q18: 0
A19: 5 | E19: 18.92 | I19: 1.56 | M19: 0 | Q19: 0
A20: 6 | E20: 20.64 | I20: 1.52 | M20: 0 | Q20: 0
A21: 7 | E21: 20.92 | I21: 1.52 | M21: 0 | Q21: 0
A22: 8 | E22: 22.84 | I22: 1.48 | M22: 0 | Q22: 0
A23: 9 | E23: 26.2 | I23: 1.56 | M23: 0 | Q23: 0
A24: 10 | E24: 27.92 | I24: 1.52 | M24: 0 | Q24: 0
A25: 11 | E25: 27.16 | I25: 1.52 | M25: 0 | Q25: 0
A26: 12 | E26: 26.96 | I26: 1.52 | M26: 0 | Q26: 0
... A38: 24 | E38: 24.36 | I38: 2.88 | M38: 0 | Q38: 0
A39: Итого | E39: =SUM(E15:E38) -> 617.4 | I39: =SUM(I15:I38) -> 52.72 | M39: =SUM(M15:M38) -> 0 | Q39: =SUM(Q15:Q38) -> 0
A40: 1, При наличии на предприятии отклонений от нормальных режимов электропотребления (временное изменение схем питания, остановка на ремонт, резкое снижение
A41: эл,потребления и т,д,) последние необходимо перечислить,
A42: Главный инженер АО "Вологдаоблэнерго" А,В, Чурляев
A43: составляется самим предприятием с соблюдением всех пунктов настоящей таблицы,

Sheet 4
B1: АО "Вологдаоблэнерго" | J1: код 900151 | N1: ПС Малечкино, ф, Поселок
B2: наименование предприятия | N2: наименование источника питания
N3: ТП-35; ТП-103
B4: ул, Горького, 99 | I4: Таблица № 1
B5: адрес
A6: почасовых записей показаний электрических счетчиков
A7: ='1'!A7:Q7 -> в режимный день 21 ДЕКАБРЯ 2022 г.
A8: 1630 | B8: 1628
A9: часы суток | B9: Активная энергия | J9: Реактивная энергия
B10: ТП-35 | F10: ТП-103 | J10: ТП-35 | N10: ТП-103
B11: Расчет, Коэф, | E11: 30 | F11: Расчет, Коэф, | I11: 120 | J11: Расчет, Коэф, | M11: =E11 -> 30 | N11: Расчет, Коэф, | Q11: =I11 -> 120
B12: показания счетчика | C12: разность | E12: расход эл,энергии за час | F12: показания счетчика | G12: разность | I12: расход эл,энергии за час | J12: показания счетчика | K12: разность | M12: расход эл,энергии за час | N12: показания счетчика | O12: разность | Q12: расход эл,энергии за час
A13: 1 | B13: 2 | C13: 3 | E13: 4 | F13: 5 | G13: 6 | I13: 7 | J13: 8 | K13: 9 | M13: 10 | N13: 11 | O13: 12 | Q13: 13
A14: 0
A15: 1 | E15: 1.67 | I15: 65.568 | M15: 0 | Q15: 0
A16: 2 | E16: 1.48 | I16: 58.32 | M16: 0 | Q16: 0
A17: 3 | E17: 1.33 | I17: 63.432 | M17: 0 | Q17: 0
A18: 4 | E18: 1.43 | I18: 56.4 | M18: 0 | Q18: 0
A19: 5 | E19: 1.48 | I19: 54.912 | M19: 0 | Q19: 0
A20: 6 | E20: 3.69 | I20: 60.816 | M20: 0 | Q20: 0
A21: 7 | E21: 1.95 | I21: 70.776 | M21: 0 | Q21: 0
A22: 8 | E22: 3.03 | I22: 77.4 | M22: 0 | Q22: 0
A23: 9 | E23: 6 | I23: 77.544 | M23: 0 | Q23: 0
A24: 10 | E24: 5.06 | I24: 78.504 | M24: 0 | Q24: 0
A25: 11 | E25: 6.18 | I25: 77.28 | M25: 0 | Q25: 0
A26: 12 | E26: 3.97 | I26: 79.584 | M26: 0 | Q26: 0
... A38: 24 | E38: 2.37 | I38: 75.936 | M38: 0 | Q38: 0
A39: Итого | E39: =SUM(E15:E38) -> 90.07 | I39: =SUM(I15:I38) -> 1974.768 | M39: =SUM(M15:M38) -> 0 | Q39: =SUM(Q15:Q38) -> 0
A40: 1, При наличии на предприятии отклонений от нормальных режимов электропотребления (временное изменение схем питания, остановка на ремонт, резкое снижение
A41: эл,потребления и т,д,) последние необходимо перечислить,
A42: Главный инженер АО "Вологдаоблэнерго" А,В, Чурляев
A43: составляется самим предприятием с соблюдением всех пунктов настоящей таблицы,

Sheet 5
B1: АО "Вологдаоблэнерго" | J1: код 900151 | N1: ПС Малечкино, ф, Поселок
B2: наименование предприятия | N2: наименование источника питания
N3: ТП-3 ПС Малечкино; ТП-97
B4: ул, Горького, 99 | I4: Таблица № 1
B5: адрес
A6: почасовых записей показаний электрических счетчиков
A7: ='1'!A7:Q7 -> в режимный день 21 ДЕКАБРЯ 2022 г.
A8: 1630 | B8: 1628
A9: часы суток | B9: Активная энергия | J9: Реактивная энергия
B10: ТП-3 ПС Малечкино | F10: ТП-97 | J10: ТП-3 ПС Малечкино | N10: ТП-97
B11: Расчет, Коэф, | E11: 120 | F11: Расчет, Коэф, | I11: 60 | J11: Расчет, Коэф, | M11: =E11 -> 120 | N11: Расчет, Коэф, | Q11: =I11 -> 60
B12: показания счетчика | C12: разность | E12: расход эл,энергии за час | F12: показания счетчика | G12: разность | I12: расход эл,энергии за час | J12: показания счетчика | K12: разность | M12: расход эл,энергии за час | N12: показания счетчика | O12: разность | Q12: расход эл,энергии за час
A13: 1 | B13: 2 | C13: 3 | E13: 4 | F13: 5 | G13: 6 | I13: 7 | J13: 8 | K13: 9 | M13: 10 | N13: 11 | O13: 12 | Q13: 13
A14: 0
A15: 1 | E15: 0 | I15: 33.144 | M15: 0 | Q15: 0
A16: 2 | E16: 0 | I16: 30.36 | M16: 0 | Q16: 0
A17: 3 | E17: 0 | I17: 27.96 | M17: 0 | Q17: 0
A18: 4 | E18: 0 | I18: 27.348 | M18: 0 | Q18: 0
A19: 5 | E19: 0 | I19: 27.288 | M19: 0 | Q19: 0
A20: 6 | E20: 0 | I20: 29.172 | M20: 0 | Q20: 0
A21: 7 | E21: 0 | I21: 33.264 | M21: 0 | Q21: 0
A22: 8 | E22: 0 | I22: 44.472 | M22: 0 | Q22: 0
A23: 9 | E23: 0 | I23: 50.496 | M23: 0 | Q23: 0
A24: 10 | E24: 0 | I24: 58.56 | M24: 0 | Q24: 0
A25: 11 | E25: 0 | I25: 58.716 | M25: 0 | Q25: 0
A26: 12 | E26: 0 | I26: 56.7 | M26: 0 | Q26: 0
... A37: 23 | E37: 0 | I37: 45.192 | M37: 0 | Q37: 0
A38: 24 | E38: 0 | I38: 36.516 | M38: 0 | Q38: 0 | R38: 1
A39: Итого | E39: =SUM(E15:E38) -> 0 | I39: =SUM(I15:I38) -> 1210.356 | M39: =SUM(M15:M38) -> 0 | Q39: =SUM(Q15:Q38) -> 0
A40: 1, При наличии на предприятии отклонений от нормальных режимов электропотребления (временное изменение схем питания, остановка на ремонт, резкое снижение
A41: эл,потребления и т,д,) последние необходимо перечислить,
A42: Главный инженер АО "Вологдаоблэнерго" А,В, Чурляев
A43: составляется самим предприятием с соблюдением всех пунктов настоящей таблицы,

Sheet 6
B1: АО "Вологдаоблэнерго" | J1: код 900151 | N1: ПС Малечкино, ф, Поселок
B2: наименование предприятия | N2: наименование источника питания
N3: ТП-15 Кормоцех В-1; В-2
B4: ул, Горького, 99 | I4: Таблица № 1
B5: адрес
A6: почасовых записей показаний электрических счетчиков
A7: ='1'!A7:Q7 -> в режимный день 21 ДЕКАБРЯ 2022 г.
A8: 1630 | B8: 1628
A9: часы суток | B9: Активная энергия | J9: Реактивная энергия
B10: ТП-15 Кормоцех В-1 | F10: ТП-15 Кормоцех В-2 | J10: ТП-15 Кормоцех В-1 | N10: ТП-15 Кормоцех В-2
B11: Расчет, Коэф, | E11: 60 | F11: Расчет, Коэф, | I11: 60 | J11: Расчет, Коэф, | M11: =E11 -> 60 | N11: Расчет, Коэф, | Q11: =I11 -> 60
B12: показания счетчика | C12: разность | E12: расход эл,энергии за час | F12: показания счетчика | G12: разность | I12: расход эл,энергии за час | J12: показания счетчика | K12: разность | M12: расход эл,энергии за час | N12: показания счетчика | O12: разность | Q12: расход эл,энергии за час
A13: 1 | B13: 2 | C13: 3 | E13: 4 | F13: 5 | G13: 6 | I13: 7 | J13: 8 | K13: 9 | M13: 10 | N13: 11 | O13: 12 | Q13: 13
A14: 0
A15: 1 | E15: 7.86 | I15: 0 | M15: 0 | Q15: 0
A16: 2 | E16: 7.86 | I16: 0 | M16: 0 | Q16: 0
A17: 3 | E17: 7.86 | I17: 0 | M17: 0 | Q17: 0
A18: 4 | E18: 7.86 | I18: 0 | M18: 0 | Q18: 0
A19: 5 | E19: 7.92 | I19: 0 | M19: 0 | Q19: 0
A20: 6 | E20: 7.74 | I20: 0 | M20: 0 | Q20: 0
A21: 7 | E21: 18.9 | I21: 0 | M21: 0 | Q21: 0
A22: 8 | E22: 34.74 | I22: 0 | M22: 0 | Q22: 0
A23: 9 | E23: 8.28 | I23: 0 | M23: 0 | Q23: 0
A24: 10 | E24: 6.72 | I24: 0 | M24: 0 | Q24: 0
A25: 11 | E25: 6.6 | I25: 0 | M25: 0 | Q25: 0
A26: 12 | E26: 39.96 | I26: 0 | M26: 0 | Q26: 0
... A38: 24 | E38: 8.28 | I38: 0 | M38: 0 | Q38: 0
A39: Итого | E39: =SUM(E15:E38) -> 256.8 | I39: =SUM(I15:I38) -> 0 | M39: =SUM(M15:M38) -> 0 | Q39: =SUM(Q15:Q38) -> 0
A40: 1, При наличии на предприятии отклонений от нормальных режимов электропотребления (временное изменение схем питания, остановка на ремонт, резкое снижение
A41: эл,потребления и т,д,) последние необходимо перечислить,
A42: Главный инженер АО "Вологдаоблэнерго" А,В, Чурляев
A43: составляется самим предприятием с соблюдением всех пунктов настоящей таблицы,

Sheet 7
B1: АО "Вологдаоблэнерго" | J1: код 900151 | N1: ПС Малечкино, ф, Парфеново-1
B2: наименование предприятия | N2: наименование источника питания
N3: ЦРП-Парфеново
B4: ул, Горького, 99 | I4: Таблица № 1
B5: адрес
A6: почасовых записей показаний электрических счетчиков
A7: ='1'!A7:Q7 -> в режимный день 21 ДЕКАБРЯ 2022 г.
A8: 1630 | B8: 1628
A9: часы суток | B9: Активная энергия | J9: Реактивная энергия
B10: ЦРП-Парфеново В-1 | F10: ЦРП-Парфеново В-2 | J10: ЦРП-Парфеново В-1 | N10: ЦРП-Парфеново В-2
B11: Расчет, Коэф, | E11: 4000 | F11: Расчет, Коэф, | I11: 3000 | J11: Расчет, Коэф, | M11: =E11 -> 4000 | N11: Расчет, Коэф, | Q11: =I11 -> 3000
B12: показания счетчика | C12: разность | E12: расход эл,энергии за час | F12: показания счетчика | G12: разность | I12: расход эл,энергии за час | J12: показания счетчика | K12: разность | M12: расход эл,энергии за час | N12: показания счетчика | O12: разность | Q12: расход эл,энергии за час
A13: 1 | B13: 2 | C13: 3 | E13: 4 | F13: 5 | G13: 6 | I13: 7 | J13: 8 | K13: 9 | M13: 10 | N13: 11 | O13: 12 | Q13: 13
A14: 0
A15: 1 | E15: 491.2 | I15: 0 | M15: 0 | Q15: 0
A16: 2 | E16: 471.2 | I16: 0 | M16: 0 | Q16: 0
A17: 3 | E17: 491.2 | I17: 0 | M17: 0 | Q17: 0
A18: 4 | E18: 468 | I18: 0 | M18: 0 | Q18: 0
A19: 5 | E19: 475.2 | I19: 0 | M19: 0 | Q19: 0
A20: 6 | E20: 476.8 | I20: 0 | M20: 0 | Q20: 0
A21: 7 | E21: 482.4 | I21: 0 | M21: 0 | Q21: 0
A22: 8 | E22: 596 | I22: 0 | M22: 0 | Q22: 0
A23: 9 | E23: 1106.4 | I23: 0 | M23: 0 | Q23: 0
A24: 10 | E24: 1056.8 | I24: 0 | M24: 0 | Q24: 0
A25: 11 | E25: 1084 | I25: 0 | M25: 0 | Q25: 0
A26: 12 | E26: 1012.8 | I26: 0 | M26: 0 | Q26: 0
... A38: 24 | E38: 456.8 | I38: 0 | M38: 0 | Q38: 0
A39: Итого | E39: =SUM(E15:E38) -> 15742.4 | I39: =SUM(I15:I38) -> 0 | M39: =SUM(M15:M38) -> 0 | Q39: =SUM(Q15:Q38) -> 0
A40: 1, При наличии на предприятии отклонений от нормальных режимов электропотребления (временное изменение схем питания, остановка на ремонт, резкое снижение
A41: эл,потребления и т,д,) последние необходимо перечислить,
A42: Главный инженер АО "Вологдаоблэнерго" А,В, Чурляев
A43: составляется самим предприятием с соблюдением всех пунктов настоящей таблицы,

Sheet 8
B1: АО "Вологдаоблэнерго" | J1: код 900151 | N1: ПС Малечкино, ф, Киселево
B2: наименование предприятия | N2: наименование источника питания
N3: ЦРП-Парфеново
B4: ул, Горького, 99 | I4: Таблица № 1
B5: адрес
A6: почасовых записей показаний электрических счетчиков
A7: ='1'!A7:Q7 -> в режимный день 21 ДЕКАБРЯ 2022 г.
A8: 1630 | B8: 1628
A9: часы суток | B9: Активная энергия | J9: Реактивная энергия
B10: ЦРП-Парфеново В ф,Киселево | J10: ЦРП-Парфеново В ф,Киселево
B11: Расчет, Коэф, | E11: 6000 | F11: Расчет, Коэф, | J11: Расчет, Коэф, | M11: =E11 -> 6000 | N11: Расчет, Коэф, | Q11: =I11 -> 0
B12: показания счетчика | C12: разность | E12: расход эл,энергии за час | F12: показания счетчика | G12: разность | I12: расход эл,энергии за час | J12: показания счетчика | K12: разность | M12: расход эл,энергии за час | N12: показания счетчика | O12: разность | Q12: расход эл,энергии за час
A13: 1 | B13: 2 | C13: 3 | E13: 4 | F13: 5 | G13: 6 | I13: 7 | J13: 8 | K13: 9 | M13: 10 | N13: 11 | O13: 12 | Q13: 13
A14: 0
A15: 1 | E15: 0 | M15: 0
A16: 2 | E16: 0 | M16: 0
A17: 3 | E17: 0 | M17: 0
A18: 4 | E18: 0 | M18: 0
A19: 5 | E19: 0 | M19: 0
A20: 6 | E20: 0 | M20: 0
A21: 7 | E21: 0 | M21: 0
A22: 8 | E22: 0 | M22: 0
A23: 9 | E23: 0 | M23: 0
A24: 10 | E24: 0 | M24: 0
A25: 11 | E25: 0 | M25: 0
A26: 12 | E26: 0 | M26: 0
... A38: 24 | E38: 0 | M38: 0
A39: Итого | E39: =SUM(E15:E38) -> 0 | I39: =SUM(I15:I38) -> 0 | M39: =SUM(M15:M38) -> 0 | Q39: =SUM(Q15:Q38) -> 0
A40: 1, При наличии на предприятии отклонений от нормальных режимов электропотребления (временное изменение схем питания, остановка на ремонт, резкое снижение
A41: эл,потребления и т,д,) последние необходимо перечислить,
A42: Главный инженер АО "Вологдаоблэнерго" А,В, Чурляев
A43: составляется самим предприятием с соблюдением всех пунктов настоящей таблицы,

Sheet 9
B1: АО "Вологдаоблэнерго" | J1: код 900151 | N1: ПС Малечкино, ф, Киселево
B2: наименование предприятия | N2: наименование источника питания
N3: ТП-51; КТП-250 Курилово-ферма
B4: ул, Горького, 99 | I4: Таблица № 1
B5: адрес
A6: почасовых записей показаний электрических счетчиков
A7: ='1'!A7:Q7 -> в режимный день 21 ДЕКАБРЯ 2022 г.
A8: 1630 | B8: 1628
A9: часы суток | B9: Активная энергия | J9: Реактивная энергия
B10: ТП-51 | F10: КТП-250 Курилово-ферма | J10: ТП-51 | N10: КТП-250 Курилово-ферма
B11: Расчет, Коэф, | E11: 120 | F11: Расчет, Коэф, | I11: 30 | J11: Расчет, Коэф, | M11: =E11 -> 120 | N11: Расчет, Коэф, | Q11: =I11 -> 30
B12: показания счетчика | C12: разность | E12: расход эл,энергии за час | F12: показания счетчика | G12: разность | I12: расход эл,энергии за час | J12: показания счетчика | K12: разность | M12: расход эл,энергии за час | N12: показания счетчика | O12: разность | Q12: расход эл,энергии за час
A13: 1 | B13: 2 | C13: 3 | E13: 4 | F13: 5 | G13: 6 | I13: 7 | J13: 8 | K13: 9 | M13: 10 | N13: 11 | O13: 12 | Q13: 13
A14: 0
A15: 1 | E15: 0 | I15: 5.04 | M15: 0 | Q15: 0
A16: 2 | E16: 0 | I16: 5.12 | M16: 0 | Q16: 0
A17: 3 | E17: 0 | I17: 5.04 | M17: 0 | Q17: 0
A18: 4 | E18: 0 | I18: 5.12 | M18: 0 | Q18: 0
A19: 5 | E19: 0 | I19: 5.04 | M19: 0 | Q19: 0
A20: 6 | E20: 0 | I20: 5.2 | M20: 0 | Q20: 0
A21: 7 | E21: 0 | I21: 5.36 | M21: 0 | Q21: 0
A22: 8 | E22: 0 | I22: 5.2 | M22: 0 | Q22: 0
A23: 9 | E23: 0 | I23: 5.36 | M23: 0 | Q23: 0
A24: 10 | E24: 0 | I24: 5.04 | M24: 0 | Q24: 0
A25: 11 | E25: 0 | I25: 5.44 | M25: 0 | Q25: 0
A26: 12 | E26: 0 | I26: 5.36 | M26: 0 | Q26: 0
... A38: 24 | E38: 0 | I38: 5.12 | M38: 0 | Q38: 0
A39: Итого | E39: =SUM(E15:E38) -> 0 | I39: =SUM(I15:I38) -> 137.68 | M39: =SUM(M15:M38) -> 0 | Q39: =SUM(Q15:Q38) -> 0
A40: 1, При наличии на предприятии отклонений от нормальных режимов электропотребления (временное изменение схем питания, остановка на ремонт, резкое снижение
A41: эл,потребления и т,д,) последние необходимо перечислить,
A42: Главный инженер АО "Вологдаоблэнерго" А,В, Чурляев
A43: составляется самим предприятием с соблюдением всех пунктов настоящей таблицы,

Sheet 10
B1: АО "Вологдаоблэнерго" | J1: код 900151 | N1: ПС Малечкино, ф, Тепл, комбинат
B2: наименование предприятия | N2: наименование источника питания
N3: ТП-33; КТП-400 Пилорама Карат плюс
B4: ул, Горького, 99 | I4: Таблица № 1
B5: адрес
A6: почасовых записей показаний электрических счетчиков
A7: ='1'!A7:Q7 -> в режимный день 21 ДЕКАБРЯ 2022 г.
A8: 1630 | B8: 1628
A9: часы суток | B9: Активная энергия | J9: Реактивная энергия
B10: ТП-33 | F10: КТП-400 Пилорама Карат плюс | J10: ТП-33 | N10: КТП-400 Пилорама Карат плюс
B11: Расчет, Коэф, | E11: 30 | F11: Расчет, Коэф, | I11: 120 | J11: Расчет, Коэф, | M11: =E11 -> 30 | N11: Расчет, Коэф, | Q11: =I11 -> 120
B12: показания счетчика | C12: разность | E12: расход эл,энергии за час | F12: показания счетчика | G12: разность | I12: расход эл,энергии за час | J12: показания счетчика | K12: разность | M12: расход эл,энергии за час | N12: показания счетчика | O12: разность | Q12: расход эл,энергии за час
A13: 1 | B13: 2 | C13: 3 | E13: 4 | F13: 5 | G13: 6 | I13: 7 | J13: 8 | K13: 9 | M13: 10 | N13: 11 | O13: 12 | Q13: 13
A14: 0
A15: 1 | E15: 3.72 | I15: 67.176 | M15: 0 | Q15: 0
A16: 2 | E16: 3.96 | I16: 62.496 | M16: 0 | Q16: 0
A17: 3 | E17: 9.72 | I17: 60.264 | M17: 0 | Q17: 0
A18: 4 | E18: 9.84 | I18: 64.176 | M18: 0 | Q18: 0
A19: 5 | E19: 9.64 | I19: 60.552 | M19: 0 | Q19: 0
A20: 6 | E20: 15.96 | I20: 63.36 | M20: 0 | Q20: 0
A21: 7 | E21: 14.56 | I21: 71.952 | M21: 0 | Q21: 0
A22: 8 | E22: 16.76 | I22: 75.24 | M22: 0 | Q22: 0
A23: 9 | E23: 12.4 | I23: 116.664 | M23: 0 | Q23: 0
A24: 10 | E24: 13.8 | I24: 143.784 | M24: 0 | Q24: 0
A25: 11 | E25: 11.24 | I25: 142.848 | M25: 0 | Q25: 0
A26: 12 | E26: 16.04 | I26: 140.76 | M26: 0 | Q26: 0
... A38: 24 | E38: 14.96 | I38: 66.48 | M38: 0 | Q38: 0
A39: Итого | E39: =SUM(E15:E38) -> 281.52 | I39: =SUM(I15:I38) -> 2321.88 | M39: =SUM(M15:M38) -> 0 | Q39: =SUM(Q15:Q38) -> 0
A40: 1, При наличии на предприятии отклонений от нормальных режимов электропотребления (временное изменение схем питания, остановка на ремонт, резкое снижение
A41: эл,потребления и т,д,) последние необходимо перечислить,
A42: Главный инженер АО "Вологдаоблэнерго" А,В, Чурляев
A43: составляется самим предприятием с соблюдением всех пунктов настоящей таблицы,

Sheet 11
B1: АО "Вологдаоблэнерго" | J1: код 900151 | N1: ПС Загородная, ф, Тоншалово-2
B2: наименование предприятия | N2: наименование источника питания
N3: ТП-4 очистные В-1; ТП-4 очистные В-2
B4: ул, Горького, 99 | I4: Таблица № 1
B5: адрес
A6: почасовых записей показаний электрических счетчиков
A7: ='1'!A7:Q7 -> в режимный день 21 ДЕКАБРЯ 2022 г.
A8: 1630 | B8: 1628
A9: часы суток | B9: Активная энергия | J9: Реактивная энергия
B10: ТП-4 очистные В-1 | F10: ТП-4 очистные В-2 | J10: ТП-4 очистные В-1 | N10: ТП-4 очистные В-2
B11: Расчет, Коэф, | E11: 120 | F11: Расчет, Коэф, | I11: 120 | J11: Расчет, Коэф, | M11: =E11 -> 120 | N11: Расчет, Коэф, | Q11: =I11 -> 120
B12: показания счетчика | C12: разность | E12: расход эл,энергии за час | F12: показания счетчика | G12: разность | I12: расход эл,энергии за час | J12: показания счетчика | K12: разность | M12: расход эл,энергии за час | N12: показания счетчика | O12: разность | Q12: расход эл,энергии за час
A13: 1 | B13: 2 | C13: 3 | E13: 4 | F13: 5 | G13: 6 | I13: 7 | J13: 8 | K13: 9 | M13: 10 | N13: 11 | O13: 12 | Q13: 13
A14: 0
A15: 1 | E15: 130.176 | I15: 30.408 | M15: 0 | Q15: 0
A16: 2 | E16: 130.008 | I16: 33.672 | M16: 0 | Q16: 0
A17: 3 | E17: 130.224 | I17: 33.72 | M17: 0 | Q17: 0
A18: 4 | E18: 128.808 | I18: 30.936 | M18: 0 | Q18: 0
A19: 5 | E19: 130.464 | I19: 33.432 | M19: 0 | Q19: 0
A20: 6 | E20: 131.784 | I20: 31.968 | M20: 0 | Q20: 0
A21: 7 | E21: 133.272 | I21: 35.64 | M21: 0 | Q21: 0
A22: 8 | E22: 137.64 | I22: 42.36 | M22: 0 | Q22: 0
A23: 9 | E23: 137.976 | I23: 43.248 | M23: 0 | Q23: 0
A24: 10 | E24: 136.824 | I24: 54.312 | M24: 0 | Q24: 0
A25: 11 | E25: 136.032 | I25: 61.92 | M25: 0 | Q25: 0
A26: 12 | E26: 136.296 | I26: 60.576 | M26: 0 | Q26: 0
... A38: 24 | E38: 131.184 | I38: 39.696 | M38: 0 | Q38: 0
A39: Итого | E39: =SUM(E15:E38) -> 3232.464 | I39: =SUM(I15:I38) -> 1123.392 | M39: =SUM(M15:M38) -> 0 | Q39: =SUM(Q15:Q38) -> 0
A40: 1, При наличии на предприятии отклонений от нормальных режимов электропотребления (временное изменение схем питания, остановка на ремонт, резкое снижение
A41: эл,потребления и т,д,) последние необходимо перечислить,
A42: Главный инженер АО "Вологдаоблэнерго" А,В, Чурляев
A43: составляется самим предприятием с соблюдением всех пунктов настоящей таблицы,

Sheet 12
B1: АО "Вологдаоблэнерго" | J1: код 900151 | N1: ПС Загородная, ф, Тоншалово-2
B2: наименование предприятия | N2: наименование источника питания
N3: ТП-3 Школа В-1; ТП-3 Школа В-2
B4: ул, Горького, 99 | I4: Таблица № 1
B5: адрес
A6: почасовых записей показаний электрических счетчиков
A7: ='1'!A7:Q7 -> в режимный день 21 ДЕКАБРЯ 2022 г.
A8: 1630 | B8: 1628
A9: часы суток | B9: Активная энергия | J9: Реактивная энергия
B10: ТП-3 Школа В-1 | F10: ТП-3 Школа В-2 | J10: ТП-3 Школа В-1 | N10: ТП-3 Школа В-2
B11: Расчет, Коэф, | E11: 120 | F11: Расчет, Коэф, | I11: 120 | J11: Расчет, Коэф, | M11: =E11 -> 120 | N11: Расчет, Коэф, | Q11: =I11 -> 120
B12: показания счетчика | C12: разность | E12: расход эл,энергии за час | F12: показания счетчика | G12: разность | I12: расход эл,энергии за час | J12: показания счетчика | K12: разность | M12: расход эл,энергии за час | N12: показания счетчика | O12: разность | Q12: расход эл,энергии за час
A13: 1 | B13: 2 | C13: 3 | E13: 4 | F13: 5 | G13: 6 | I13: 7 | J13: 8 | K13: 9 | M13: 10 | N13: 11 | O13: 12 | Q13: 13
A14: 0
A15: 1 | E15: 46.464 | I15: 0 | M15: 0 | Q15: 0
A16: 2 | E16: 44.976 | I16: 0 | M16: 0 | Q16: 0
A17: 3 | E17: 43.608 | I17: 0 | M17: 0 | Q17: 0
A18: 4 | E18: 43.296 | I18: 0 | M18: 0 | Q18: 0
A19: 5 | E19: 61.176 | I19: 0 | M19: 0 | Q19: 0
A20: 6 | E20: 72.936 | I20: 0 | M20: 0 | Q20: 0
A21: 7 | E21: 79.176 | I21: 0 | M21: 0 | Q21: 0
A22: 8 | E22: 97.32 | I22: 0 | M22: 0 | Q22: 0
A23: 9 | E23: 120.264 | I23: 0 | M23: 0 | Q23: 0
A24: 10 | E24: 135.12 | I24: 0 | M24: 0 | Q24: 0
A25: 11 | E25: 146.544 | I25: 0 | M25: 0 | Q25: 0
A26: 12 | E26: 140.64 | I26: 0 | M26: 0 | Q26: 0
... A38: 24 | E38: 47.808 | I38: 0 | M38: 0 | Q38: 0
A39: Итого | E39: =SUM(E15:E38) -> 2089.968 | I39: =SUM(I15:I38) -> 0 | M39: =SUM(M15:M38) -> 0 | Q39: =SUM(Q15:Q38) -> 0
A40: 1, При наличии на предприятии отклонений от нормальных режимов электропотребления (временное изменение схем питания, остановка на ремонт, резкое снижение
A41: эл,потребления и т,д,) последние необходимо перечислить,
A42: Главный инженер АО "Вологдаоблэнерго" А,В, Чурляев
A43: составляется самим предприятием с соблюдением всех пунктов настоящей таблицы,

Sheet 13
B1: АО "Вологдаоблэнерго" | J1: код 900151 | N1: ПС Загородная, ф, Тоншалово-2
B2: наименование предприятия | N2: наименование источника питания
N3: ТП-5 ПМК-1 В-1
B4: ул, Горького, 99 | I4: Таблица № 1 | N4: ТП-5 ПМК-1 В-2
B5: адрес
A6: почасовых записей показаний электрических счетчиков
A7: ='1'!A7:Q7 -> в режимный день 21 ДЕКАБРЯ 2022 г.
A8: 1630 | B8: 1628
A9: часы суток | B9: Активная энергия | J9: Реактивная энергия
B10: =N3 -> ТП-5 ПМК-1 В-1 | F10: =N4 -> ТП-5 ПМК-1 В-2 | J10: =B10 -> ТП-5 ПМК-1 В-1 | N10: =F10 -> ТП-5 ПМК-1 В-2
B11: Расчет, Коэф, | E11: 120 | F11: Расчет, Коэф, | I11: 120 | J11: Расчет, Коэф, | M11: =E11 -> 120 | N11: Расчет, Коэф, | Q11: =I11 -> 120
B12: показания счетчика | C12: разность | E12: расход эл,энергии за час | F12: показания счетчика | G12: разность | I12: расход эл,энергии за час | J12: показания счетчика | K12: разность | M12: расход эл,энергии за час | N12: показания счетчика | O12: разность | Q12: расход эл,энергии за час
A13: 1 | B13: 2 | C13: 3 | E13: 4 | F13: 5 | G13: 6 | I13: 7 | J13: 8 | K13: 9 | M13: 10 | N13: 11 | O13: 12 | Q13: 13
A14: 0
A15: 1 | E15: 19.2 | I15: 48.984 | M15: 0 | Q15: 0
A16: 2 | E16: 18.744 | I16: 42.936 | M16: 0 | Q16: 0
A17: 3 | E17: 18.696 | I17: 39.648 | M17: 0 | Q17: 0
A18: 4 | E18: 18.072 | I18: 38.856 | M18: 0 | Q18: 0
A19: 5 | E19: 17.736 | I19: 53.064 | M19: 0 | Q19: 0
A20: 6 | E20: 18.24 | I20: 70.416 | M20: 0 | Q20: 0
A21: 7 | E21: 19.2 | I21: 76.872 | M21: 0 | Q21: 0
A22: 8 | E22: 21.336 | I22: 83.496 | M22: 0 | Q22: 0
A23: 9 | E23: 23.328 | I23: 92.208 | M23: 0 | Q23: 0
A24: 10 | E24: 24.768 | I24: 89.112 | M24: 0 | Q24: 0
A25: 11 | E25: 25.608 | I25: 76.08 | M25: 0 | Q25: 0
A26: 12 | E26: 23.52 | I26: 67.32 | M26: 0 | Q26: 0
... A38: 24 | E38: 21.024 | I38: 58.32 | M38: 0 | Q38: 0
A39: Итого | E39: =SUM(E15:E38) -> 542.952 | I39: =SUM(I15:I38) -> 1706.496 | M39: =SUM(M15:M38) -> 0 | Q39: =SUM(Q15:Q38) -> 0
A40: 1, При наличии на предприятии отклонений от нормальных режимов электропотребления (временное изменение схем питания, остановка на ремонт, резкое снижение
A41: эл,потребления и т,д,) последние необходимо перечислить,
A42: Главный инженер АО "Вологдаоблэнерго" А,В, Чурляев
A43: составляется самим предприятием с соблюдением всех пунктов настоящей таблицы,

Sheet 14
B1: АО "Вологдаоблэнерго" | J1: код 900151 | N1: ПС Загородная, ф, Тоншалово-2
B2: наименование предприятия | N2: наименование источника питания
N3: ТП-6 Детский сад В-1
B4: ул, Горького, 99 | I4: Таблица № 1 | N4: ТП-6 Детский сад В-2
B5: адрес
A6: почасовых записей показаний электрических счетчиков
A7: ='1'!A7:Q7 -> в режимный день 21 ДЕКАБРЯ 2022 г.
A8: 1630 | B8: 1628
A9: часы суток | B9: Активная энергия | J9: Реактивная энергия
B10: =N3 -> ТП-6 Детский сад В-1 | F10: =N4 -> ТП-6 Детский сад В-2 | J10: =B10 -> ТП-6 Детский сад В-1 | N10: =F10 -> ТП-6 Детский сад В-2
B11: Расчет, Коэф, | E11: 120 | F11: Расчет, Коэф, | I11: 120 | J11: Расчет, Коэф, | M11: =E11 -> 120 | N11: Расчет, Коэф, | Q11: =I11 -> 120
B12: показания счетчика | C12: разность | E12: расход эл,энергии за час | F12: показания счетчика | G12: разность | I12: расход эл,энергии за час | J12: показания счетчика | K12: разность | M12: расход эл,энергии за час | N12: показания счетчика | O12: разность | Q12: расход эл,энергии за час
A13: 1 | B13: 2 | C13: 3 | E13: 4 | F13: 5 | G13: 6 | I13: 7 | J13: 8 | K13: 9 | M13: 10 | N13: 11 | O13: 12 | Q13: 13
A14: 0
A15: 1 | E15: 54.504 | I15: 39.792 | M15: 0 | Q15: 0
A16: 2 | E16: 51.096 | I16: 33.408 | M16: 0 | Q16: 0
A17: 3 | E17: 47.208 | I17: 33.792 | M17: 0 | Q17: 0
A18: 4 | E18: 47.616 | I18: 33.12 | M18: 0 | Q18: 0
A19: 5 | E19: 46.896 | I19: 33.744 | M19: 0 | Q19: 0
A20: 6 | E20: 47.4 | I20: 36.936 | M20: 0 | Q20: 0
A21: 7 | E21: 56.856 | I21: 42.096 | M21: 0 | Q21: 0
A22: 8 | E22: 61.656 | I22: 50.664 | M22: 0 | Q22: 0
A23: 9 | E23: 61.848 | I23: 48 | M23: 0 | Q23: 0
A24: 10 | E24: 60.768 | I24: 45.072 | M24: 0 | Q24: 0
A25: 11 | E25: 60.624 | I25: 45 | M25: 0 | Q25: 0
A26: 12 | E26: 63.504 | I26: 48.72 | M26: 0 | Q26: 0
... A38: 24 | E38: 63.576 | I38: 47.352 | M38: 0 | Q38: 0
A39: Итого | E39: =SUM(E15:E38) -> 1599.024 | I39: =SUM(I15:I38) -> 1214.424 | M39: =SUM(M15:M38) -> 0 | Q39: =SUM(Q15:Q38) -> 0
A40: 1, При наличии на предприятии отклонений от нормальных режимов электропотребления (временное изменение схем питания, остановка на ремонт, резкое снижение
A41: эл,потребления и т,д,) последние необходимо перечислить,
A42: Главный инженер АО "Вологдаоблэнерго" А,В, Чурляев
A43: составляется самим предприятием с соблюдением всех пунктов настоящей таблицы,

Sheet 15
B1: АО "Вологдаоблэнерго" | J1: код 900151 | N1: ПС Загородная, ф, Тоншалово-2
B2: наименование предприятия | N2: наименование источника питания
N3: ТП-2 Поселок
B4: ул, Горького, 99 | I4: Таблица № 1
B5: адрес
A6: почасовых записей показаний электрических счетчиков
A7: ='1'!A7:Q7 -> в режимный день 21 ДЕКАБРЯ 2022 г.
A8: 1630 | B8: 1628
A9: часы суток | B9: Активная энергия | J9: Реактивная энергия
B10: =N3 -> ТП-2 Поселок | F10: =N4 -> 0 | J10: =B10 -> ТП-2 Поселок | N10: =F10 -> 0
B11: Расчет, Коэф, | E11: 200 | F11: Расчет, Коэф, | I11: 120 | J11: Расчет, Коэф, | M11: =E11 -> 200 | N11: Расчет, Коэф, | Q11: =I11 -> 120
B12: показания счетчика | C12: разность | E12: расход эл,энергии за час | F12: показания счетчика | G12: разность | I12: расход эл,энергии за час | J12: показания счетчика | K12: разность | M12: расход эл,энергии за час | N12: показания счетчика | O12: разность | Q12: расход эл,энергии за час
A13: 1 | B13: 2 | C13: 3 | E13: 4 | F13: 5 | G13: 6 | I13: 7 | J13: 8 | K13: 9 | M13: 10 | N13: 11 | O13: 12 | Q13: 13
A14: 0
A15: 1 | E15: 112.36 | I15: 0 | M15: 0 | Q15: 0
A16: 2 | E16: 101.12 | I16: 0 | M16: 0 | Q16: 0
A17: 3 | E17: 95.8 | I17: 0 | M17: 0 | Q17: 0
A18: 4 | E18: 93.2 | I18: 0 | M18: 0 | Q18: 0
A19: 5 | E19: 106.08 | I19: 0 | M19: 0 | Q19: 0
A20: 6 | E20: 129.2 | I20: 0 | M20: 0 | Q20: 0
A21: 7 | E21: 141.48 | I21: 0 | M21: 0 | Q21: 0
A22: 8 | E22: 152.04 | I22: 0 | M22: 0 | Q22: 0
A23: 9 | E23: 155.68 | I23: 0 | M23: 0 | Q23: 0
A24: 10 | E24: 155.52 | I24: 0 | M24: 0 | Q24: 0
A25: 11 | E25: 147.68 | I25: 0 | M25: 0 | Q25: 0
A26: 12 | E26: 142.8 | I26: 0 | M26: 0 | Q26: 0
... A38: 24 | E38: 124.28 | I38: 0 | M38: 0 | Q38: 0
A39: Итого | E39: =SUM(E15:E38) -> 3542.96 | I39: =SUM(I15:I38) -> 0 | M39: =SUM(M15:M38) -> 0 | Q39: =SUM(Q15:Q38) -> 0
A40: 1, При наличии на предприятии отклонений от нормальных режимов электропотребления (временное изменение схем питания, остановка на ремонт, резкое снижение
A41: эл,потребления и т,д,) последние необходимо перечислить,
A42: Главный инженер АО "Вологдаоблэнерго" А,В, Чурляев
A43: составляется самим предприятием с соблюдением всех пунктов настоящей таблицы,

Sheet 16
B1: АО "Вологдаоблэнерго" | J1: код 900151 | N1: ПС Загородная, ф, Солманское
B2: наименование предприятия | N2: наименование источника питания
N3: ТП-Котельная ПМК-2 В-1
B4: ул, Горького, 99 | I4: Таблица № 1 | N4: ТП-Котельная ПМК-2 В-2
B5: адрес
A6: почасовых записей показаний электрических счетчиков
A7: ='1'!A7:Q7 -> в режимный день 21 ДЕКАБРЯ 2022 г.
A8: 1630 | B8: 1628
A9: часы суток | B9: Активная энергия | J9: Реактивная энергия
B10: =N3 -> ТП-Котельная ПМК-2 В-1 | F10: =N4 -> ТП-Котельная ПМК-2 В-2 | J10: =B10 -> ТП-Котельная ПМК-2 В-1 | N10: =F10 -> ТП-Котельная ПМК-2 В-2
B11: Расчет, Коэф, | E11: 80 | F11: Расчет, Коэф, | I11: 80 | J11: Расчет, Коэф, | M11: =E11 -> 80 | N11: Расчет, Коэф, | Q11: =I11 -> 80
B12: показания счетчика | C12: разность | E12: расход эл,энергии за час | F12: показания счетчика | G12: разность | I12: расход эл,энергии за час | J12: показания счетчика | K12: разность | M12: расход эл,энергии за час | N12: показания счетчика | O12: разность | Q12: расход эл,энергии за час
A13: 1 | B13: 2 | C13: 3 | E13: 4 | F13: 5 | G13: 6 | I13: 7 | J13: 8 | K13: 9 | M13: 10 | N13: 11 | O13: 12 | Q13: 13
A14: 0
A15: 1 | E15: 15.344 | I15: 0 | M15: 0 | Q15: 0
A16: 2 | E16: 14.704 | I16: 0 | M16: 0 | Q16: 0
A17: 3 | E17: 14.848 | I17: 0 | M17: 0 | Q17: 0
A18: 4 | E18: 15.168 | I18: 0 | M18: 0 | Q18: 0
A19: 5 | E19: 14.64 | I19: 0 | M19: 0 | Q19: 0
A20: 6 | E20: 14.928 | I20: 0 | M20: 0 | Q20: 0
A21: 7 | E21: 23.584 | I21: 0 | M21: 0 | Q21: 0
A22: 8 | E22: 27.344 | I22: 0 | M22: 0 | Q22: 0
A23: 9 | E23: 81.936 | I23: 0 | M23: 0 | Q23: 0
A24: 10 | E24: 69.712 | I24: 0 | M24: 0 | Q24: 0
A25: 11 | E25: 68.496 | I25: 0 | M25: 0 | Q25: 0
A26: 12 | E26: 58.944 | I26: 0 | M26: 0 | Q26: 0
... A38: 24 | E38: 14.32 | I38: 0 | M38: 0 | Q38: 0
A39: Итого | E39: =SUM(E15:E38) -> 728.896 | I39: =SUM(I15:I38) -> 0 | M39: =SUM(M15:M38) -> 0 | Q39: =SUM(Q15:Q38) -> 0
A40: 1, При наличии на предприятии отклонений от нормальных режимов электропотребления (временное изменение схем питания, остановка на ремонт, резкое снижение
A41: эл,потребления и т,д,) последние необходимо перечислить,
A42: Главный инженер АО "Вологдаоблэнерго" А,В, Чурляев
A43: составляется самим предприятием с соблюдением всех пунктов настоящей таблицы,

Sheet 17
B1: АО "Вологдаоблэнерго" | J1: код 900151 | N1: ПС Нелазское, ф, Шулма
B2: наименование предприятия | N2: наименование источника питания
N3: ТП-244
B4: ул, Горького, 99 | I4: Таблица № 1 | N4: ТП-250
B5: адрес
A6: почасовых записей показаний электрических счетчиков
A7: ='1'!A7:Q7 -> в режимный день 21 ДЕКАБРЯ 2022 г.
A8: 1630 | B8: 1628
A9: часы суток | B9: Активная энергия | J9: Реактивная энергия
B10: =N3 -> ТП-244 | F10: =N4 -> ТП-250 | J10: =B10 -> ТП-244 | N10: =F10 -> ТП-250
B11: Расчет, Коэф, | E11: 60 | F11: Расчет, Коэф, | I11: 60 | J11: Расчет, Коэф, | M11: =E11 -> 60 | N11: Расчет, Коэф, | Q11: =I11 -> 60
B12: показания счетчика | C12: разность | E12: расход эл,энергии за час | F12: показания счетчика | G12: разность | I12: расход эл,энергии за час | J12: показания счетчика | K12: разность | M12: расход эл,энергии за час | N12: показания счетчика | O12: разность | Q12: расход эл,энергии за час
A13: 1 | B13: 2 | C13: 3 | E13: 4 | F13: 5 | G13: 6 | I13: 7 | J13: 8 | K13: 9 | M13: 10 | N13: 11 | O13: 12 | Q13: 13
A14: 0
A15: 1 | E15: 0 | I15: 35.4 | M15: 0 | Q15: 0
A16: 2 | E16: 0 | I16: 35.34 | M16: 0 | Q16: 0
A17: 3 | E17: 0 | I17: 35.4 | M17: 0 | Q17: 0
A18: 4 | E18: 0 | I18: 35.34 | M18: 0 | Q18: 0
A19: 5 | E19: 0 | I19: 35.4 | M19: 0 | Q19: 0
A20: 6 | E20: 0 | I20: 35.4 | M20: 0 | Q20: 0
A21: 7 | E21: 0 | I21: 35.52 | M21: 0 | Q21: 0
A22: 8 | E22: 0 | I22: 35.58 | M22: 0 | Q22: 0
A23: 9 | E23: 0 | I23: 35.7 | M23: 0 | Q23: 0
A24: 10 | E24: 0 | I24: 35.58 | M24: 0 | Q24: 0
A25: 11 | E25: 0 | I25: 35.58 | M25: 0 | Q25: 0
A26: 12 | E26: 0 | I26: 35.64 | M26: 0 | Q26: 0
... A38: 24 | E38: 0 | I38: 35.4 | M38: 0 | Q38: 0
A39: Итого | E39: =SUM(E15:E38) -> 0 | I39: =SUM(I15:I38) -> 852.78 | M39: =SUM(M15:M38) -> 0 | Q39: =SUM(Q15:Q38) -> 0
A40: 1, При наличии на предприятии отклонений от нормальных режимов электропотребления (временное изменение схем питания, остановка на ремонт, резкое снижение
A41: эл,потребления и т,д,) последние необходимо перечислить,
A42: Главный инженер АО "Вологдаоблэнерго" А,В, Чурляев
A43: составляется самим предприятием с соблюдением всех пунктов настоящей таблицы,

Sheet 18
B1: АО "Вологдаоблэнерго" | J1: код 900151 | N1: ПС Нелазское, ф, Шулма
B2: наименование предприятия | N2: наименование источника питания
N3: ТП-Поселок
B4: ул, Горького, 99 | I4: Таблица № 1 | N4: ТП-Школа
B5: адрес
A6: почасовых записей показаний электрических счетчиков
A7: ='1'!A7:Q7 -> в режимный день 21 ДЕКАБРЯ 2022 г.
A8: 1630 | B8: 1628
A9: часы суток | B9: Активная энергия | J9: Реактивная энергия
B10: =N3 -> ТП-Поселок | F10: =N4 -> ТП-Школа | J10: =B10 -> ТП-Поселок | N10: =F10 -> ТП-Школа
B11: Расчет, Коэф, | E11: 120 | F11: Расчет, Коэф, | I11: 120 | J11: Расчет, Коэф, | M11: =E11 -> 120 | N11: Расчет, Коэф, | Q11: =I11 -> 120
B12: показания счетчика | C12: разность | E12: расход эл,энергии за час | F12: показания счетчика | G12: разность | I12: расход эл,энергии за час | J12: показания счетчика | K12: разность | M12: расход эл,энергии за час | N12: показания счетчика | O12: разность | Q12: расход эл,энергии за час
A13: 1 | B13: 2 | C13: 3 | E13: 4 | F13: 5 | G13: 6 | I13: 7 | J13: 8 | K13: 9 | M13: 10 | N13: 11 | O13: 12 | Q13: 13
A14: 0
A15: 1 | E15: 127.56 | I15: 11.64 | M15: 0 | Q15: 0
A16: 2 | E16: 123 | I16: 9.24 | M16: 0 | Q16: 0
A17: 3 | E17: 119.76 | I17: 9.192 | M17: 0 | Q17: 0
A18: 4 | E18: 124.44 | I18: 11.208 | M18: 0 | Q18: 0
A19: 5 | E19: 123.6 | I19: 9.192 | M19: 0 | Q19: 0
A20: 6 | E20: 133.32 | I20: 8.928 | M20: 0 | Q20: 0
A21: 7 | E21: 150.96 | I21: 10.728 | M21: 0 | Q21: 0
A22: 8 | E22: 155.4 | I22: 23.376 | M22: 0 | Q22: 0
A23: 9 | E23: 164.64 | I23: 30.288 | M23: 0 | Q23: 0
A24: 10 | E24: 161.16 | I24: 36.768 | M24: 0 | Q24: 0
A25: 11 | E25: 156.6 | I25: 36.048 | M25: 0 | Q25: 0
A26: 12 | E26: 160.56 | I26: 27.288 | M26: 0 | Q26: 0
... A38: 24 | E38: 140.16 | I38: 7.752 | M38: 0 | Q38: 0
A39: Итого | E39: =SUM(E15:E38) -> 3729.12 | I39: =SUM(I15:I38) -> 417.072 | M39: =SUM(M15:M38) -> 0 | Q39: =SUM(Q15:Q38) -> 0
A40: 1, При наличии на предприятии отклонений от нормальных режимов электропотребления (временное изменение схем питания, остановка на ремонт, резкое снижение
A41: эл,потребления и т,д,) последние необходимо перечислить,
A42: Главный инженер АО "Вологдаоблэнерго" А,В, Чурляев
A43: составляется самим предприятием с соблюдением всех пунктов настоящей таблицы,

Sheet 19
B1: АО "Вологдаоблэнерго" | J1: код 900151 | N1: ПС Нелазское, ф, К-с Нелазское-2
B2: наименование предприятия | N2: наименование источника питания
N3: ТП-14 В-1
B4: ул, Горького, 99 | I4: Таблица № 1 | N4: ТП-14 В-2
B5: адрес
A6: почасовых записей показаний электрических счетчиков
A7: ='1'!A7:Q7 -> в режимный день 21 ДЕКАБРЯ 2022 г.
A8: 1630 | B8: 1628
A9: часы суток | B9: Активная энергия | J9: Реактивная энергия
B10: =N3 -> ТП-14 В-1 | F10: =N4 -> ТП-14 В-2 | J10: =B10 -> ТП-14 В-1 | N10: =F10 -> ТП-14 В-2
B11: Расчет, Коэф, | E11: 120 | F11: Расчет, Коэф, | I11: 120 | J11: Расчет, Коэф, | M11: =E11 -> 120 | N11: Расчет, Коэф, | Q11: =I11 -> 120
B12: показания счетчика | C12: разность | E12: расход эл,энергии за час | F12: показания счетчика | G12: разность | I12: расход эл,энергии за час | J12: показания счетчика | K12: разность | M12: расход эл,энергии за час | N12: показания счетчика | O12: разность | Q12: расход эл,энергии за час
A13: 1 | B13: 2 | C13: 3 | E13: 4 | F13: 5 | G13: 6 | I13: 7 | J13: 8 | K13: 9 | M13: 10 | N13: 11 | O13: 12 | Q13: 13
A14: 0
A15: 1 | E15: 0 | I15: 78.36 | M15: 0 | Q15: 0
A16: 2 | E16: 0 | I16: 68.04 | M16: 0 | Q16: 0
A17: 3 | E17: 0 | I17: 59.52 | M17: 0 | Q17: 0
A18: 4 | E18: 0 | I18: 68.52 | M18: 0 | Q18: 0
A19: 5 | E19: 0 | I19: 57 | M19: 0 | Q19: 0
A20: 6 | E20: 0 | I20: 65.4 | M20: 0 | Q20: 0
A21: 7 | E21: 0 | I21: 46.2 | M21: 0 | Q21: 0
A22: 8 | E22: 0 | I22: 49.32 | M22: 0 | Q22: 0
A23: 9 | E23: 0 | I23: 81.96 | M23: 0 | Q23: 0
A24: 10 | E24: 0 | I24: 70.2 | M24: 0 | Q24: 0
A25: 11 | E25: 0 | I25: 69.84 | M25: 0 | Q25: 0
A26: 12 | E26: 0 | I26: 61.8 | M26: 0 | Q26: 0
... A38: 24 | E38: 0 | I38: 69.6 | M38: 0 | Q38: 0
A39: Итого | E39: =SUM(E15:E38) -> 0 | I39: =SUM(I15:I38) -> 1631.64 | M39: =SUM(M15:M38) -> 0 | Q39: =SUM(Q15:Q38) -> 0
A40: 1, При наличии на предприятии отклонений от нормальных режимов электропотребления (временное изменение схем питания, остановка на ремонт, резкое снижение
A41: эл,потребления и т,д,) последние необходимо перечислить,
A42: Главный инженер АО "Вологдаоблэнерго" А,В, Чурляев
A43: составляется самим предприятием с соблюдением всех пунктов настоящей таблицы,

Sheet 20
B1: АО "Вологдаоблэнерго" | J1: код 900151 | N1: ПС Нелазское, ф, К-с Нелазское-2
B2: наименование предприятия | N2: наименование источника питания
N3: ТП-15 В-1
B4: ул, Горького, 99 | I4: Таблица № 1 | N4: ТП-15 В-2
B5: адрес
A6: почасовых записей показаний электрических счетчиков
A7: ='1'!A7:Q7 -> в режимный день 21 ДЕКАБРЯ 2022 г.
A8: 1630 | B8: 1628
A9: часы суток | B9: Активная энергия | J9: Реактивная энергия
B10: =N3 -> ТП-15 В-1 | F10: =N4 -> ТП-15 В-2 | J10: =B10 -> ТП-15 В-1 | N10: =F10 -> ТП-15 В-2
B11: Расчет, Коэф, | E11: 200 | F11: Расчет, Коэф, | I11: 120 | J11: Расчет, Коэф, | M11: =E11 -> 200 | N11: Расчет, Коэф, | Q11: =I11 -> 120
B12: показания счетчика | C12: разность | E12: расход эл,энергии за час | F12: показания счетчика | G12: разность | I12: расход эл,энергии за час | J12: показания счетчика | K12: разность | M12: расход эл,энергии за час | N12: показания счетчика | O12: разность | Q12: расход эл,энергии за час
A13: 1 | B13: 2 | C13: 3 | E13: 4 | F13: 5 | G13: 6 | I13: 7 | J13: 8 | K13: 9 | M13: 10 | N13: 11 | O13: 12 | Q13: 13
A14: 0
A15: 1 | E15: 0 | I15: 41.28 | M15: 0 | Q15: 0
A16: 2 | E16: 0 | I16: 40.2 | M16: 0 | Q16: 0
A17: 3 | E17: 0 | I17: 40.2 | M17: 0 | Q17: 0
A18: 4 | E18: 0 | I18: 42.6 | M18: 0 | Q18: 0
A19: 5 | E19: 0 | I19: 40.32 | M19: 0 | Q19: 0
A20: 6 | E20: 0 | I20: 44.16 | M20: 0 | Q20: 0
A21: 7 | E21: 0 | I21: 56.76 | M21: 0 | Q21: 0
A22: 8 | E22: 0 | I22: 62.28 | M22: 0 | Q22: 0
A23: 9 | E23: 0 | I23: 61.8 | M23: 0 | Q23: 0
A24: 10 | E24: 0 | I24: 54.24 | M24: 0 | Q24: 0
A25: 11 | E25: 0 | I25: 62.04 | M25: 0 | Q25: 0
A26: 12 | E26: 0 | I26: 79.68 | M26: 0 | Q26: 0
... A38: 24 | E38: 0 | I38: 28.92 | M38: 0 | Q38: 0
A39: Итого | E39: =SUM(E15:E38) -> 0 | I39: =SUM(I15:I38) -> 1076.4 | M39: =SUM(M15:M38) -> 0 | Q39: =SUM(Q15:Q38) -> 0
A40: 1, При наличии на предприятии отклонений от нормальных режимов электропотребления (временное изменение схем питания, остановка на ремонт, резкое снижение
A41: эл,потребления и т,д,) последние необходимо перечислить,
A42: Главный инженер АО "Вологдаоблэнерго" А,В, Чурляев
A43: составляется самим предприятием с соблюдением всех пунктов настоящей таблицы,

Sheet 21
B1: АО "Вологдаоблэнерго" | J1: код 900151 | N1: ПС Нелазское, ф, Шулма очистные
B2: наименование предприятия | N2: наименование источника питания
N3: КТП-Ива
B4: ул, Горького, 99 | I4: Таблица № 1
B5: адрес
A6: почасовых записей показаний электрических счетчиков
A7: ='1'!A7:Q7 -> в режимный день 21 ДЕКАБРЯ 2022 г.
A8: 1630 | B8: 1628
A9: часы суток | B9: Активная энергия | J9: Реактивная энергия
B10: =N3 -> КТП-Ива | F10: =N4 -> 0 | J10: =B10 -> КТП-Ива | N10: =F10 -> 0
B11: Расчет, Коэф, | E11: 30 | F11: Расчет, Коэф, | I11: 120 | J11: Расчет, Коэф, | M11: =E11 -> 30 | N11: Расчет, Коэф, | Q11: =I11 -> 120
B12: показания счетчика | C12: разность | E12: расход эл,энергии за час | F12: показания счетчика | G12: разность | I12: расход эл,энергии за час | J12: показания счетчика | K12: разность | M12: расход эл,энергии за час | N12: показания счетчика | O12: разность | Q12: расход эл,энергии за час
A13: 1 | B13: 2 | C13: 3 | E13: 4 | F13: 5 | G13: 6 | I13: 7 | J13: 8 | K13: 9 | M13: 10 | N13: 11 | O13: 12 | Q13: 13
A14: 0
A15: 1 | E15: 7.89 | M15: 0
A16: 2 | E16: 12.21 | M16: 0
A17: 3 | E17: 11.67 | M17: 0
A18: 4 | E18: 10.98 | M18: 0
A19: 5 | E19: 8.01 | M19: 0
A20: 6 | E20: 9.03 | M20: 0
A21: 7 | E21: 8.07 | M21: 0
A22: 8 | E22: 8.73 | M22: 0
A23: 9 | E23: 9.99 | M23: 0
A24: 10 | E24: 12.12 | M24: 0
A25: 11 | E25: 11.88 | M25: 0
A26: 12 | E26: 12.36 | M26: 0
... A38: 24 | E38: 8.55 | M38: 0
A39: Итого | E39: =SUM(E15:E38) -> 260.94 | I39: =SUM(I15:I38) -> 0 | M39: =SUM(M15:M38) -> 0 | Q39: =SUM(Q15:Q38) -> 0
A40: 1, При наличии на предприятии отклонений от нормальных режимов электропотребления (временное изменение схем питания, остановка на ремонт, резкое снижение
A41: эл,потребления и т,д,) последние необходимо перечислить,
A42: Главный инженер АО "Вологдаоблэнерго" А,В, Чурляев
A43: составляется самим предприятием с соблюдением всех пунктов настоящей таблицы,

Sheet 22
B1: АО "Вологдаоблэнерго" | J1: код 900151 | N1: ПС Нелазское, ф, Крутец
B2: наименование предприятия | N2: наименование источника питания
N3: КТП-1 "Сад-3 ЧМК"
B4: ул, Горького, 99 | I4: Таблица № 1 | N4: КТП-2 "Сад-3 ЧМК"
B5: адрес
A6: почасовых записей показаний электрических счетчиков
A7: ='1'!A7:Q7 -> в режимный день 21 ДЕКАБРЯ 2022 г.
A8: 1630 | B8: 1628
A9: часы суток | B9: Активная энергия | J9: Реактивная энергия
B10: =N3 -> КТП-1 "Сад-3 ЧМК" | F10: =N4 -> КТП-2 "Сад-3 ЧМК" | J10: =B10 -> КТП-1 "Сад-3 ЧМК" | N10: =F10 -> КТП-2 "Сад-3 ЧМК"
B11: Расчет, Коэф, | E11: 60 | F11: Расчет, Коэф, | I11: 60 | J11: Расчет, Коэф, | M11: =E11 -> 60 | N11: Расчет, Коэф, | Q11: =I11 -> 60
B12: показания счетчика | C12: разность | E12: расход эл,энергии за час | F12: показания счетчика | G12: разность | I12: расход эл,энергии за час | J12: показания счетчика | K12: разность | M12: расход эл,энергии за час | N12: показания счетчика | O12: разность | Q12: расход эл,энергии за час
A13: 1 | B13: 2 | C13: 3 | E13: 4 | F13: 5 | G13: 6 | I13: 7 | J13: 8 | K13: 9 | M13: 10 | N13: 11 | O13: 12 | Q13: 13
A14: 0
A15: 1 | E15: 4.44 | I15: 21.6 | M15: 0 | Q15: 0
A16: 2 | E16: 4.5 | I16: 20.94 | M16: 0 | Q16: 0
A17: 3 | E17: 4.5 | I17: 20.16 | M17: 0 | Q17: 0
A18: 4 | E18: 4.56 | I18: 20.1 | M18: 0 | Q18: 0
A19: 5 | E19: 4.56 | I19: 20.58 | M19: 0 | Q19: 0
A20: 6 | E20: 4.5 | I20: 20.7 | M20: 0 | Q20: 0
A21: 7 | E21: 4.62 | I21: 22.02 | M21: 0 | Q21: 0
A22: 8 | E22: 4.56 | I22: 18.9 | M22: 0 | Q22: 0
A23: 9 | E23: 4.62 | I23: 20.88 | M23: 0 | Q23: 0
A24: 10 | E24: 4.14 | I24: 19.2 | M24: 0 | Q24: 0
A25: 11 | E25: 4.02 | I25: 18.48 | M25: 0 | Q25: 0
A26: 12 | E26: 4.08 | I26: 15.96 | M26: 0 | Q26: 0
... A38: 24 | E38: 4.68 | I38: 13.5 | M38: 0 | Q38: 0
A39: Итого | E39: =SUM(E15:E38) -> 107.34 | I39: =SUM(I15:I38) -> 552.42 | M39: =SUM(M15:M38) -> 0 | Q39: =SUM(Q15:Q38) -> 0
A40: 1, При наличии на предприятии отклонений от нормальных режимов электропотребления (временное изменение схем питания, остановка на ремонт, резкое снижение
A41: эл,потребления и т,д,) последние необходимо перечислить,
A42: Главный инженер АО "Вологдаоблэнерго" А,В, Чурляев
A43: составляется самим предприятием с соблюдением всех пунктов настоящей таблицы,

Sheet 23
B1: АО "Вологдаоблэнерго" | J1: код 900151 | N1: ПС Суда, ф, Андога
B2: наименование предприятия | N2: наименование источника питания
N3: ТП-243
B4: ул, Горького, 99 | I4: Таблица № 1 | N4: КТП-63 Кривец-1
B5: адрес
A6: почасовых записей показаний электрических счетчиков
A7: ='1'!A7:Q7 -> в режимный день 21 ДЕКАБРЯ 2022 г.
A8: 1630 | B8: 1628
A9: часы суток | B9: Активная энергия | J9: Реактивная энергия
B10: =N3 -> ТП-243 | F10: =N4 -> КТП-63 Кривец-1 | J10: =B10 -> ТП-243 | N10: =F10 -> КТП-63 Кривец-1
B11: Расчет, Коэф, | E11: 60 | F11: Расчет, Коэф, | I11: 20 | J11: Расчет, Коэф, | M11: =E11 -> 60 | N11: Расчет, Коэф, | Q11: =I11 -> 20
B12: показания счетчика | C12: разность | E12: расход эл,энергии за час | F12: показания счетчика | G12: разность | I12: расход эл,энергии за час | J12: показания счетчика | K12: разность | M12: расход эл,энергии за час | N12: показания счетчика | O12: разность | Q12: расход эл,энергии за час
A13: 1 | B13: 2 | C13: 3 | E13: 4 | F13: 5 | G13: 6 | I13: 7 | J13: 8 | K13: 9 | M13: 10 | N13: 11 | O13: 12 | Q13: 13
A14: 0
A15: 1 | E15: 0 | I15: 0.04 | M15: 0 | Q15: 0
A16: 2 | E16: 0 | I16: 0.04 | M16: 0 | Q16: 0
A17: 3 | E17: 0 | I17: 0.04 | M17: 0 | Q17: 0
A18: 4 | E18: 0 | I18: 0.04 | M18: 0 | Q18: 0
A19: 5 | E19: 0 | I19: 0.04 | M19: 0 | Q19: 0
A20: 6 | E20: 0 | I20: 0.04 | M20: 0 | Q20: 0
A21: 7 | E21: 0 | I21: 0.06 | M21: 0 | Q21: 0
A22: 8 | E22: 0 | I22: 0.04 | M22: 0 | Q22: 0
A23: 9 | E23: 0 | I23: 0.04 | M23: 0 | Q23: 0
A24: 10 | E24: 0 | I24: 0.04 | M24: 0 | Q24: 0
A25: 11 | E25: 0 | I25: 0.04 | M25: 0 | Q25: 0
A26: 12 | E26: 0 | I26: 0.04 | M26: 0 | Q26: 0
... A38: 24 | E38: 0 | I38: 0.04 | M38: 0 | Q38: 0
A39: Итого | E39: =SUM(E15:E38) -> 0 | I39: =SUM(I15:I38) -> 1 | M39: =SUM(M15:M38) -> 0 | Q39: =SUM(Q15:Q38) -> 0
A40: 1, При наличии на предприятии отклонений от нормальных режимов электропотребления (временное изменение схем питания, остановка на ремонт, резкое снижение
A41: эл,потребления и т,д,) последние необходимо перечислить,
A42: Главный инженер АО "Вологдаоблэнерго" А,В, Чурляев
A43: составляется самим предприятием с соблюдением всех пунктов настоящей таблицы,

Sheet 24
B1: АО "Вологдаоблэнерго" | J1: код 900151 | N1: ПС Суда, ф, Сойволовское
B2: наименование предприятия | N2: наименование источника питания
N3: КТП общества садоводов "Заря-2"
B4: ул, Горького, 99 | I4: Таблица № 1 | N4: КТП "Дачи"
B5: адрес
A6: почасовых записей показаний электрических счетчиков
A7: ='1'!A7:Q7 -> в режимный день 21 ДЕКАБРЯ 2022 г.
A8: 1630 | B8: 1628
A9: часы суток | B9: Активная энергия | J9: Реактивная энергия
B10: =N3 -> КТП общества садоводов "Заря-2" | F10: =N4 -> КТП "Дачи" | J10: =B10 -> КТП общества садоводов "Заря-2" | N10: =F10 -> КТП "Дачи"
B11: Расчет, Коэф, | E11: 40 | F11: Расчет, Коэф, | I11: 60 | J11: Расчет, Коэф, | M11: =E11 -> 40 | N11: Расчет, Коэф, | Q11: =I11 -> 60
B12: показания счетчика | C12: разность | E12: расход эл,энергии за час | F12: показания счетчика | G12: разность | I12: расход эл,энергии за час | J12: показания счетчика | K12: разность | M12: расход эл,энергии за час | N12: показания счетчика | O12: разность | Q12: расход эл,энергии за час
A13: 1 | B13: 2 | C13: 3 | E13: 4 | F13: 5 | G13: 6 | I13: 7 | J13: 8 | K13: 9 | M13: 10 | N13: 11 | O13: 12 | Q13: 13
A14: 0
A15: 1 | E15: 9.344 | I15: 7.44 | M15: 0 | Q15: 0
A16: 2 | E16: 8.76 | I16: 7.44 | M16: 0 | Q16: 0
A17: 3 | E17: 8.824 | I17: 7.476 | M17: 0 | Q17: 0
A18: 4 | E18: 9.392 | I18: 7.428 | M18: 0 | Q18: 0
A19: 5 | E19: 8.8 | I19: 7.428 | M19: 0 | Q19: 0
A20: 6 | E20: 9.08 | I20: 7.392 | M20: 0 | Q20: 0
A21: 7 | E21: 9.616 | I21: 7.404 | M21: 0 | Q21: 0
A22: 8 | E22: 9.16 | I22: 7.368 | M22: 0 | Q22: 0
A23: 9 | E23: 9.36 | I23: 7.26 | M23: 0 | Q23: 0
A24: 10 | E24: 9.592 | I24: 7.248 | M24: 0 | Q24: 0
A25: 11 | E25: 9.296 | I25: 7.896 | M25: 0 | Q25: 0
A26: 12 | E26: 9.28 | I26: 7.26 | M26: 0 | Q26: 0
... A38: 24 | E38: 9.264 | I38: 7.38 | M38: 0 | Q38: 0
A39: Итого | E39: =SUM(E15:E38) -> 225.56 | I39: =SUM(I15:I38) -> 178.008 | M39: =SUM(M15:M38) -> 0 | Q39: =SUM(Q15:Q38) -> 0
A40: 1, При наличии на предприятии отклонений от нормальных режимов электропотребления (временное изменение схем питания, остановка на ремонт, резкое снижение
A41: эл,потребления и т,д,) последние необходимо перечислить,
A42: Главный инженер АО "Вологдаоблэнерго" А,В, Чурляев
A43: составляется самим предприятием с соблюдением всех пунктов настоящей таблицы,

Sheet 25
B1: АО "Вологдаоблэнерго" | J1: код 900151 | N1: ПС Петринево, ф, Романово
B2: наименование предприятия | N2: наименование источника питания
N3: ТП-317
B4: ул, Горького, 99 | I4: Таблица № 1
B5: адрес
A6: почасовых записей показаний электрических счетчиков
A7: ='1'!A7:Q7 -> в режимный день 21 ДЕКАБРЯ 2022 г.
A8: 1630 | B8: 1628
A9: часы суток | B9: Активная энергия | J9: Реактивная энергия
B10: =N3 -> ТП-317 | F10: =N4 -> 0 | J10: =B10 -> ТП-317 | N10: =F10 -> 0
B11: Расчет, Коэф, | E11: 120 | F11: Расчет, Коэф, | I11: 120 | J11: Расчет, Коэф, | M11: =E11 -> 120 | N11: Расчет, Коэф, | Q11: =I11 -> 120
B12: показания счетчика | C12: разность | E12: расход эл,энергии за час | F12: показания счетчика | G12: разность | I12: расход эл,энергии за час | J12: показания счетчика | K12: разность | M12: расход эл,энергии за час | N12: показания счетчика | O12: разность | Q12: расход эл,энергии за час
A13: 1 | B13: 2 | C13: 3 | E13: 4 | F13: 5 | G13: 6 | I13: 7 | J13: 8 | K13: 9 | M13: 10 | N13: 11 | O13: 12 | Q13: 13
A14: 0
A15: 1 | E15: 7.98 | M15: 0
A16: 2 | E16: 7.14 | M16: 0
A17: 3 | E17: 6.24 | M17: 0
A18: 4 | E18: 7.32 | M18: 0
A19: 5 | E19: 9.9 | M19: 0
A20: 6 | E20: 10.92 | M20: 0
A21: 7 | E21: 13.26 | M21: 0
A22: 8 | E22: 8.1 | M22: 0
A23: 9 | E23: 10.02 | M23: 0
A24: 10 | E24: 11.34 | M24: 0
A25: 11 | E25: 10.02 | M25: 0
A26: 12 | E26: 9.66 | M26: 0
... A38: 24 | E38: 8.52 | M38: 0
A39: Итого | E39: =SUM(E15:E38) -> 261.18 | I39: =SUM(I15:I38) -> 0 | M39: =SUM(M15:M38) -> 0 | Q39: =SUM(Q15:Q38) -> 0
A40: 1, При наличии на предприятии отклонений от нормальных режимов электропотребления (временное изменение схем питания, остановка на ремонт, резкое снижение
A41: эл,потребления и т,д,) последние необходимо перечислить,
A42: Главный инженер АО "Вологдаоблэнерго" А,В, Чурляев
A43: составляется самим предприятием с соблюдением всех пунктов настоящей таблицы,

Sheet 26
B1: АО "Вологдаоблэнерго" | J1: код 900151 | N1: ПС Домозерово, ф,Дом-2
B2: наименование предприятия | N2: наименование источника питания
N3: ТП-Водозабор (встроен) В-1
B4: ул, Горького, 99 | I4: Таблица № 1 | N4: ТП-Водозабор (встроен) В-2
B5: адрес
A6: почасовых записей показаний электрических счетчиков
A7: ='1'!A7:Q7 -> в режимный день 21 ДЕКАБРЯ 2022 г.
A8: 1630 | B8: 1628
A9: часы суток | B9: Активная энергия | J9: Реактивная энергия
B10: =N3 -> ТП-Водозабор (встроен) В-1 | F10: =N4 -> ТП-Водозабор (встроен) В-2 | J10: =B10 -> ТП-Водозабор (встроен) В-1 | N10: =F10 -> ТП-Водозабор (встроен) В-2
B11: Расчет, Коэф, | E11: 20 | F11: Расчет, Коэф, | I11: 20 | J11: Расчет, Коэф, | M11: =E11 -> 20 | N11: Расчет, Коэф, | Q11: =I11 -> 20
B12: показания счетчика | C12: разность | E12: расход эл,энергии за час | F12: показания счетчика | G12: разность | I12: расход эл,энергии за час | J12: показания счетчика | K12: разность | M12: расход эл,энергии за час | N12: показания счетчика | O12: разность | Q12: расход эл,энергии за час
A13: 1 | B13: 2 | C13: 3 | E13: 4 | F13: 5 | G13: 6 | I13: 7 | J13: 8 | K13: 9 | M13: 10 | N13: 11 | O13: 12 | Q13: 13
A14: 0
A15: 1 | E15: 0 | I15: 36.82 | M15: 0 | Q15: 0
A16: 2 | E16: 0 | I16: 36.8 | M16: 0 | Q16: 0
A17: 3 | E17: 0 | I17: 36.9 | M17: 0 | Q17: 0
A18: 4 | E18: 0 | I18: 36.92 | M18: 0 | Q18: 0
A19: 5 | E19: 0 | I19: 36.7 | M19: 0 | Q19: 0
A20: 6 | E20: 0 | I20: 36.62 | M20: 0 | Q20: 0
A21: 7 | E21: 0 | I21: 33.94 | M21: 0 | Q21: 0
A22: 8 | E22: 0 | I22: 32.76 | M22: 0 | Q22: 0
A23: 9 | E23: 0 | I23: 32.32 | M23: 0 | Q23: 0
A24: 10 | E24: 0 | I24: 32.48 | M24: 0 | Q24: 0
A25: 11 | E25: 0 | I25: 32.46 | M25: 0 | Q25: 0
A26: 12 | E26: 0 | I26: 31.86 | M26: 0 | Q26: 0
... A38: 24 | E38: 0 | I38: 35.78 | M38: 0 | Q38: 0
A39: Итого | E39: =SUM(E15:E38) -> 0 | I39: =SUM(I15:I38) -> 841.46 | M39: =SUM(M15:M38) -> 0 | Q39: =SUM(Q15:Q38) -> 0
A40: 1, При наличии на предприятии отклонений от нормальных режимов электропотребления (временное изменение схем питания, остановка на ремонт, резкое снижение
A41: эл,потребления и т,д,) последние необходимо перечислить,
A42: Главный инженер АО "Вологдаоблэнерго" А,В, Чурляев
A43: составляется самим предприятием с соблюдением всех пунктов настоящей таблицы,

Sheet 27
B1: АО "Вологдаоблэнерго" | J1: код 900151 | N1: ПС Домозерово, ф,Дом-2
B2: наименование предприятия | N2: наименование источника питания
N3: ТП-Школа ПС Домозерово В-1
B4: ул, Горького, 99 | I4: Таблица № 1 | N4: ТП-Школа ПС Домозерово В-2
B5: адрес
A6: почасовых записей показаний электрических счетчиков
A7: ='1'!A7:Q7 -> в режимный день 21 ДЕКАБРЯ 2022 г.
A8: 1630 | B8: 1628
A9: часы суток | B9: Активная энергия | J9: Реактивная энергия
B10: =N3 -> ТП-Школа ПС Домозерово В-1 | F10: =N4 -> ТП-Школа ПС Домозерово В-2 | J10: =B10 -> ТП-Школа ПС Домозерово В-1 | N10: =F10 -> ТП-Школа ПС Домозерово В-2
B11: Расчет, Коэф, | E11: 120 | F11: Расчет, Коэф, | I11: 120 | J11: Расчет, Коэф, | M11: =E11 -> 120 | N11: Расчет, Коэф, | Q11: =I11 -> 120
B12: показания счетчика | C12: разность | E12: расход эл,энергии за час | F12: показания счетчика | G12: разность | I12: расход эл,энергии за час | J12: показания счетчика | K12: разность | M12: расход эл,энергии за час | N12: показания счетчика | O12: разность | Q12: расход эл,энергии за час
A13: 1 | B13: 2 | C13: 3 | E13: 4 | F13: 5 | G13: 6 | I13: 7 | J13: 8 | K13: 9 | M13: 10 | N13: 11 | O13: 12 | Q13: 13
A14: 0
A15: 1 | E15: 0 | I15: 29.496 | M15: 0 | Q15: 0
A16: 2 | E16: 0 | I16: 27.456 | M16: 0 | Q16: 0
A17: 3 | E17: 0 | I17: 27.624 | M17: 0 | Q17: 0
A18: 4 | E18: 0 | I18: 26.856 | M18: 0 | Q18: 0
A19: 5 | E19: 0 | I19: 26.52 | M19: 0 | Q19: 0
