Workbook

Sheet Содержание книги
A1: Содержание
A4: № листа | B4: Электросетевой участок | C4: Центр питания
A5: 1-109 | B5: ЭСУ "Череповец"
A6: 110-118 | B6: ЭСУ "Бабаево"+
A7: 119-153 | B7: ЭСУ "Кадуй"+
A8: 154-166 | B8: ЭСУ "Чагода"+
A9: 167-207 | B9: ЭСУ "Шексна"+
A11: Содержание
A14: № листа | B14: Электросетевой участок | C14: Центр питания
A15: 1 а | B15: г, Вологда | C15: ОАО "БМЗ"
D16: яч, Т1, яч, Т2
A17: 1, 2 | B17: г, Вологда | C17: ПС "АНАНЬИНО"
D18: яч,7 - ф,"Город-7"
D19: яч,8 - ф,"Городской", яч,2 - ф,"Овощехранилище"
A20: 3 | B20: г, Вологда | C20: ПС "ИСКРА"
D21: яч,18 - ф,"РУБЦОВО"- СВ - ВЛ№2
A22: 4 | B22: г, Вологда | C22: ПС "МАЕГА"
D23: яч,13 - ф,"НИКИТИНО"-СВ - ВЛ№27
A24: 5,6, 7, 8, 9 | B24: г, Вологда | C24: ПС "ЗАПАДНАЯ
D25: яч,19 - "РМЗ-1", яч,24 - "РМЗ-2"
D26: яч,15 -"ОЧИСТНЫЕ-1", яч,9 -"ГОРОД-1"
D27: яч,21- "П/я-1", яч,20 - "П/я-2"
D28: яч,33 - "РП-35", яч,35 - "РП-37"
D29: яч,11 - "ГОРОД-2", яч,18 - "ОЧИСТНЫЕ-2"
A30: 10 | B30: г, Вологда | C30: ПС "СЕВЕРНАЯ 35/6 кВ
D31: Т1 - РП5ф3 ввод №1, Т2 - РП5ф17 ввод №2
A32: 11 | B32: г, Вологда | C32: РТП "ТЕПЛИЧНОГО ХОЗ - ВА"
D33: яч, 3 - ф,"Микрорайон-1" ввод № 1, яч,13 - ф,"Микрорайон-2" ввод № 2
A34: 12,13, 14 | B34: г, Вологда | C34: ГПП 110/10 кВ "ВОМЗ"
D35: яч,47 - РП 29 ввод № 1, яч,31 - РП 29 ввод № 2
D36: яч,5 - РП 14 ввод № 1, яч,22 - РП 14 ввод № 2
D37: яч,44 - РП 2 ввод № 1, яч,26в - РП 2 ввод № 2
A38: 15,16,17,18,19,20, 21 | B38: г, Вологда | C38: ПС ВОЛОГДА-ЮЖНАЯ РУ - 6 -10 кВ
D39: яч,15 - "ГОРОД-15", яч,24 - "ТУБДИСПАНСЕР"
D40: яч,10 - "ГОРОД-10", яч,14 - "ГОРОД-14"
D41: яч,20 - "ГОРОД 20"
D42: яч, 7- ф,"ГОРОД 7", яч,17 - ф,"ГОРОД 17"
D43: яч,3 - "ГОРОД-3", яч,5 - "ГОРОД-5"
D44: яч, 1 - "ГОРОД -1", яч, 20 - "РП 27"
D45: яч, 4 ф,"РОДИОНЦЕВО" - ПКУ
D46: яч, 307, 409 ф,"Охмыльцево"
A47: 22 | B47: г, Вологда | C47: ГПП ВОЛОГДА - ТЯГОВАЯ 110/27,5/6 кВ
D48: яч, 1 - ТП 450
A49: 23 | B49: г, Вологда | C49: ТП 10 СЖД ОАО РЖД
D50: яч,5 - ТП 238, яч,7 - ТП 651
A51: 24 | B51: г, Вологда | C51: ТП 34 СЖД ОАО РЖД
D52: яч,2 - ТП 660, яч,6 - ТП 662
A53: 25,26,27,28,29 | B53: г, Вологда | C53: ТГК- 2 ВТЭЦ РП 6 кВ
D54: яч,10 - РП 3 ввод № 1, яч, 115 - РП 3 ввод № 2
D55: яч, 114 - РП 23 ввод № 1, яч, 107 - РП 23 ввод № 2
D56: яч, 3 - ТП 217
D57: яч, 5 - РП 1 ввод № 1, яч, 12 - РП 1 ввод № 2
D58: яч, 4 - РП 20 ввод № 1, яч, 7 - РП 20 ввод № 2
A59: 30,31,32,33,34,34-1 | B59: г, Вологда | C59: ПС "ЦЕНТРАЛЬНАЯ" 110/6 кВ
D60: яч,4 - ТП 54 -Ι ввод № 1, яч, 30 - ТП 54 - ΙΙ ввод № 2
D61: яч, 14 - РП 13- Ι , яч, 22 - РП 13- ΙΙ
D62: яч,12 - РП 4 -Ι , яч, 24 - РП 4 -ΙΙ
D63: яч, 2 - РП 8 яч, 11
D64: яч,28 - ТП 11 -ΙΙ
D65: яч,22 - РП 21-I, яч,7 - РП 21-II
A66: 35, 36 | B66: г, Вологда | C66: ПС "ГОРОДСКАЯ" 35/6 кВ
D67: Т-1 - ЗРУ ф,1 ввод № 1, Т-3 - ЗРУ ф,20 ввод № 2 ,
D68: Т-2 - РП 9 ф, 11
A69: 37, 38, 39 | B69: г, Вологда | C69: ПС "ВОСТОЧНАЯ" 110/35/10 кВ
D70: яч,2 - "РП 39-1", яч, 21 - "РП 39-2"
D71: яч,15 - "РМЗ-1", яч,32 - "РМЗ-2"
D72: яч, 11- "ГОРОД-1", яч, 28- "ГОРОД-2"
A73: 40, 41 | B73: г, Вологда | C73: ПС "ЛУГОВАЯ"
D74: яч, 23 - ф,"ГОРОД-2 , яч, 2 - ф,"ГОРОД-3"
D75: яч,10 - ф,"ГОРОД-1" , яч,25 - ф,"ГОРОД-4"
A76: 42 | B76: г, Вологда | C76: РП "ГОРКА"
D77: яч, 4 - ф,"ЛОСТА-1", яч, 8 - ф,"ЛОСТА-2"
A78: 43, 44 | B78: г, Вологда | C78: ГПП 2 ЗАО ВПЗ
D79: яч, 53 - ВЛ № 8
D80: яч, 6 - ТП 535, яч, 24 - ТП 536
A81: 45 | B81: г, Вологда | C81: ГПП 1 ЗАО ВПЗ
D82: яч, 10 - ТП 463, яч, 34 - ТП 463
A83: 46 | B83: ЭСУ "Кубенское" | C83: ПС "Кубенское"
D84: ф, СПТУ
A85: 47, 48 | B85: ЭСУ п, Молочное | C85: ПС "Молочное" 35/10 кВ
D86: яч,,17 - ф,Молочное-1, яч 12 - ф,Молочное-2
D87: яч 18 - ф,Молочное-3 , яч 10, - ф,Очистные
A88: 49, 50 | B88: ЭСУ "Устье-Кубенское" | C88: РТП "КОРНИЛОВО" 35/10 кВ
D89: ф, "КОММУНАЛЬНЫЙ"
D90: ф, "УСТЬЕ", ф, "СХТ"
D91: ф,7 - КТП-21, ф,7 - КТП-16
D92: ф,7 - КТП-4, ф,14 - КТП-24
A93: 51, 52, 53 | B93: ЭСУ "Шуйское" | C93: ПС "ШУЙСКОЕ" 35/ 10 кВ
D94: яч, 16 - ф, "Биокомплекс"
D95: яч, 14 - ф,"Райцентр"
D96: яч, 14 - ф, "Школа"
A97: 54 | B97: ЭСУ г, Сокол | C97: ПС "ГДЗ" 110/6 кВ
D98: яч, 7 - ГДЗ-1 -РТП 6, яч, 17 - ГДЗ-2 - РТП 6
D99: яч, 14 - ГДЗ - ЛПК-1
A100: 55 | B100: ЭСУ г, Сокол | C100: ОАО "СОКОЛРЕММАШ"
D101: ЗРУ 6 кВ ф,3 - ТП 27, РУ -0,4 кВ ф,17
A102: 56, 57, 58, | B102: ЭСУ г, Сокол | C102: ОАО "Сокольский" ЦБК" ГПП 35/6 кВ
D103: яч,4 - РП 5, яч, 6 - РУ 3
D104: яч,2 - РТП 2, яч, 3 - РТП 2
D105: Освещение города 2-3 РУ-4 яч, 5, РУ-1 яч,9 - ТП 70
...

Sheet 1
B1: АО "Вологдаоблэнерго" | J1: код 900151 | N1: ПС "Малечкино" ф,Птицефабрика
B2: наименование предприятия | N2: наименование источника питания
N3: _________________________________
B4: ул, Горького, 99 | I4: Таблица № 1 | N4: ТП-1 ЦРП Малечкино; ТП-5 АВМ
B5: адрес
A6: почасовых записей показаний электрических счетчиков
A7: в режимный день 21 ДЕКАБРЯ 2022 г.
A8: 1630 | B8: 1628
A9: часы суток | B9: Активная энергия | J9: Реактивная энергия
B10: ТП-1 ЦРП Малечкино | F10: ТП-5 АВМ | J10: ТП-1 ЦРП Малечкино | N10: ТП-5 АВМ
B11: Расчет, Коэф, | E11: 30 | F11: Расчет, Коэф, | I11: 120 | J11: Расчет, Коэф, | M11: =E11 -> 30 | N11: Расчет, Коэф, | Q11: =I11 -> 120
B12: показания счетчика | C12: разность | E12: расход эл,энергии за час | F12: показания счетчика | G12: разность | I12: расход эл,энергии за час | J12: показания счетчика | K12: разность | M12: расход эл,энергии за час | N12: показания счетчика | O12: разность | Q12: расход эл,энергии за час
A13: 1 | B13: 2 | C13: 3 | E13: 4 | F13: 5 | G13: 6 | I13: 7 | J13: 8 | K13: 9 | M13: 10 | N13: 11 | O13: 12 | Q13: 13
A14: 0
A15: 1 | E15: 75.12 | I15: 14.784 | M15: 0 | Q15: 0
A16: 2 | E16: 74.56 | I16: 13.08 | M16: 0 | Q16: 0
A17: 3 | E17: 75.28 | I17: 13.224 | M17: 0 | Q17: 0
A18: 4 | E18: 74.88 | I18: 12.672 | M18: 0 | Q18: 0
A19: 5 | E19: 74.72 | I19: 12.528 | M19: 0 | Q19: 0
A20: 6 | E20: 74.08 | I20: 12.648 | M20: 0 | Q20: 0
A21: 7 | E21: 77.92 | I21: 11.616 | M21: 0 | Q21: 0
A22: 8 | E22: 111.68 | I22: 10.392 | M22: 0 | Q22: 0
A23: 9 | E23: 166.96 | I23: 11.496 | M23: 0 | Q23: 0
A24: 10 | E24: 190.16 | I24: 11.568 | M24: 0 | Q24: 0
A25: 11 | E25: 156.24 | I25: 15.072 | M25: 0 | Q25: 0
A26: 12 | E26: 176.32 | I26: 16.824 | M26: 0 | Q26: 0
... A38: 24 | E38: 103.36 | I38: 10.944 | M38: 0 | Q38: 0
A39: Итого | E39: =SUM(E15:E38) -> 2692.8 | I39: =SUM(I15:I38) -> 377.16 | M39: =SUM(M15:M38) -> 0 | Q39: =SUM(Q15:Q38) -> 0
A40: 1, При наличии на предприятии отклонений от нормальных режимов электропотребления (временное изменение схем питания, остановка на ремонт, резкое снижение
A41: эл,потребления и т,д,) последние необходимо перечислить,
A42: Главный инженер АО "Вологдаоблэнерго" А,В, Чурляев
A43: составляется самим предприятием с соблюдением всех пунктов настоящей таблицы,

Sheet 2
B1: АО "Вологдаоблэнерго" | J1: код 900151 | N1: ПС Малечкино, ф, Поселок
B2: наименование предприятия | N2: наименование источника питания
N3: ТП-8 ПС Малечкино В-1; В-2
B4: ул, Горького, 99 | I4: Таблица № 1
B5: адрес
A6: почасовых записей показаний электрических счетчиков
A7: ='1'!A7:Q7 -> в режимный день 21 ДЕКАБРЯ 2022 г.
A8: 1630 | B8: 1628
A9: часы суток | B9: Активная энергия | J9: Реактивная энергия
B10: ТП-8 ПС Малечкино В-1 | F10: ТП-8 ПС Малечкино В-2 | J10: ТП-8 ПС Малечкино В-1 | N10: ТП-8 ПС Малечкино В-2
B11: Расчет, Коэф, | E11: 80 | F11: Расчет, Коэф, | I11: 80 | J11: Расчет, Коэф, | M11: =E11 -> 80 | N11: Расчет, Коэф, | Q11: =I11 -> 80
B12: показания счетчика | C12: разность | E12: расход эл,энергии за час | F12: показания счетчика | G12: разность | I12: расход эл,энергии за час | J12: показания счетчика | K12: разность | M12: расход эл,энергии за час | N12: показания счетчика | O12: разность | Q12: расход эл,энергии за час
A13: 1 | B13: 2 | C13: 3 | E13: 4 | F13: 5 | G13: 6 | I13: 7 | J13: 8 | K13: 9 | M13: 10 | N13: 11 | O13: 12 | Q13: 13
A14: 0
A15: 1 | E15: 16.576 | I15: 24.32 | M15: 0 | Q15: 0
A16: 2 | E16: 14.016 | I16: 24.48 | M16: 0 | Q16: 0
A17: 3 | E17: 17.6 | I17: 23.776 | M17: 0 | Q17: 0
A18: 4 | E18: 24.192 | I18: 23.744 | M18: 0 | Q18: 0
A19: 5 | E19: 21.072 | I19: 23.216 | M19: 0 | Q19: 0
A20: 6 | E20: 21.072 | I20: 31.44 | M20: 0 | Q20: 0
A21: 7 | E21: 21.616 | I21: 45.376 | M21: 0 | Q21: 0
A22: 8 | E22: 28.288 | I22: 41.408 | M22: 0 | Q22: 0
A23: 9 | E23: 30.272 | I23: 39.008 | M23: 0 | Q23: 0
A24: 10 | E24: 29.936 | I24: 55.632 | M24: 0 | Q24: 0
A25: 11 | E25: 30.88 | I25: 43.376 | M25: 0 | Q25: 0
A26: 12 | E26: 30.128 | I26: 40.272 | M26: 0 | Q26: 0
... A38: 24 | E38: 19.232 | I38: 21.312 | M38: 0 | Q38: 0
A39: Итого | E39: =SUM(E15:E38) -> 612.976 | I39: =SUM(I15:I38) -> 746.736 | M39: =SUM(M15:M38) -> 0 | Q39: =SUM(Q15:Q38) -> 0
A40: 1, При наличии на предприятии отклонений от нормальных режимов электропотребления (временное изменение схем питания, остановка на ремонт, резкое снижение
A41: эл,потребления и т,д,) последние необходимо перечислить,
A42: Главный инженер АО "Вологдаоблэнерго" А,В, Чурляев
A43: составляется самим предприятием с соблюдением всех пунктов настоящей таблицы,

Sheet 3
B1: АО "Вологдаоблэнерго" | J1: код 900151 | N1: ПС Малечкино, ф, Поселок
B2: наименование предприятия | N2: наименование источника питания
N3: ТП-105; КТП-Дачи п,Малечкино
B4: ул, Горького, 99 | I4: Таблица № 1
B5: адрес
A6: почасовых записей показаний электрических счетчиков
A7: ='1'!A7:Q7 -> в режимный день 21 ДЕКАБРЯ 2022 г.
A8: 1630 | B8: 1628
A9: часы суток | B9: Активная энергия | J9: Реактивная энергия
B10: ТП-105 | F10: КТП-Дачи п,Малечкино | J10: ТП-105 | N10: КТП-Дачи п,Малечкино
B11: Расчет, Коэф, | E11: 80 | F11: Расчет, Коэф, | I11: 60 | J11: Расчет, Коэф, | M11: =E11 -> 80 | N11: Расчет, Коэф, | Q11: =I11 -> 60
B12: показания счетчика | C12: разность | E12: расход эл,энергии за час | F12: показания счетчика | G12: разность | I12: расход эл,энергии за час | J12: показания счетчика | K12: разность | M12: расход эл,энергии за час | N12: показания счетчика | O12: разность | Q12: расход эл,энергии за час
A13: 1 | B13: 2 | C13: 3 | E13: 4 | F13: 5 | G13: 6 | I13: 7 | J13: 8 | K13: 9 | M13: 10 | N13: 11 | O13: 12 | Q13: 13
A14: 0
A15: 1 | E15: 22.12 | I15: 1.56 | M15: 0 | Q15: 0
A16: 2 | E16: 20.64 | I16: 1.52 | M16: 0 | Q16: 0
A17: 3 | E17: 18.12 | I17: 1.56 | M17: 0 | Q17: 0
A18: 4 | E18: 18.52 | I18: 1.52 | M18: 0 | Q18: 0
A19: 5 | E19: 18.92 | I19: 1.56 | M19: 0 | Q19: 0
A20: 6 | E20: 20.64 | I20: 1.52 | M20: 0 | Q20: 0
A21: 7 | E21: 20.92 | I21: 1.52 | M21: 0 | Q21: 0
A22: 8 | E22: 22.84 | I22: 1.48 | M22: 0 | Q22: 0
A23: 9 | E23: 26.2 | I23: 1.56 | M23: 0 | Q23: 0
A24: 10 | E24: 27.92 | I24: 1.52 | M24: 0 | Q24: 0
A25: 11 | E25: 27.16 | I25: 1.52 | M25: 0 | Q25: 0
A26: 12 | E26: 26.96 | I26: 1.52 | M26: 0 | Q26: 0
... A38: 24 | E38: 24.36 | I38: 2.88 | M38: 0 | Q38: 0
A39: Итого | E39: =SUM(E15:E38) -> 617.4 | I39: =SUM(I15:I38) -> 52.72 | M39: =SUM(M15:M38) -> 0 | Q39: =SUM(Q15:Q38) -> 0
A40: 1, При наличии на предприятии отклонений от нормальных режимов электропотребления (временное изменение схем питания, остановка на ремонт, резкое снижение
A41: эл,потребления и т,д,) последние необходимо перечислить,
A42: Главный инженер АО "Вологдаоблэнерго" А,В, Чурляев
A43: составляется самим предприятием с соблюдением всех пунктов настоящей таблицы,

Sheet 4
B1: АО "Вологдаоблэнерго" | J1: код 900151 | N1: ПС Малечкино, ф, Поселок
B2: наименование предприятия | N2: наименование источника питания
N3: ТП-35; ТП-103
B4: ул, Горького, 99 | I4: Таблица № 1
B5: адрес
A6: почасовых записей показаний электрических счетчиков
A7: ='1'!A7:Q7 -> в режимный день 21 ДЕКАБРЯ 2022 г.
A8: 1630 | B8: 1628
A9: часы суток | B9: Активная энергия | J9: Реактивная энергия
B10: ТП-35 | F10: ТП-103 | J10: ТП-35 | N10: ТП-103
B11: Расчет, Коэф, | E11: 30 | F11: Расчет, Коэф, | I11: 120 | J11: Расчет, Коэф, | M11: =E11 -> 30 | N11: Расчет, Коэф, | Q11: =I11 -> 120
B12: показания счетчика | C12: разность | E12: расход эл,энергии за час | F12: показания счетчика | G12: разность | I12: расход эл,энергии за час | J12: показания счетчика | K12: разность | M12: расход эл,энергии за час | N12: показания счетчика | O12: разность | Q12: расход эл,энергии за час
A13: 1 | B13: 2 | C13: 3 | E13: 4 | F13: 5 | G13: 6 | I13: 7 | J13: 8 | K13: 9 | M13: 10 | N13: 11 | O13: 12 | Q13: 13
A14: 0
A15: 1 | E15: 1.67 | I15: 65.568 | M15: 0 | Q15: 0
A16: 2 | E16: 1.48 | I16: 58.32 | M16: 0 | Q16: 0
A17: 3 | E17: 1.33 | I17: 63.432 | M17: 0 | Q17: 0
A18: 4 | E18: 1.43 | I18: 56.4 | M18: 0 | Q18: 0
A19: 5 | E19: 1.48 | I19: 54.912 | M19: 0 | Q19: 0
A20: 6 | E20: 3.69 | I20: 60.816 | M20: 0 | Q20: 0
A21: 7 | E21: 1.95 | I21: 70.776 | M21: 0 | Q21: 0
A22: 8 | E22: 3.03 | I22: 77.4 | M22: 0 | Q22: 0
A23: 9 | E23: 6 | I23: 77.544 | M23: 0 | Q23: 0
A24: 10 | E24: 5.06 | I24: 78.504 | M24: 0 | Q24: 0
A25: 11 | E25: 6.18 | I25: 77.28 | M25: 0 | Q25: 0
A26: 12 | E26: 3.97 | I26: 79.584 | M26: 0 | Q26: 0
... A38: 24 | E38: 2.37 | I38: 75.936 | M38: 0 | Q38: 0
A39: Итого | E39: =SUM(E15:E38) -> 90.07 | I39: =SUM(I15:I38) -> 1974.768 | M39: =SUM(M15:M38) -> 0 | Q39: =SUM(Q15:Q38) -> 0
A40: 1, При наличии на предприятии отклонений от нормальных режимов электропотребления (временное изменение схем питания, остановка на ремонт, резкое снижение
A41: эл,потребления и т,д,) последние необходимо перечислить,
A42: Главный инженер АО "Вологдаоблэнерго" А,В, Чурляев
A43: составляется самим предприятием с соблюдением всех пунктов настоящей таблицы,

Sheet 5
B1: АО "Вологдаоблэнерго" | J1: код 900151 | N1: ПС Малечкино, ф, Поселок
B2: наименование предприятия | N2: наименование источника питания
N3: ТП-3 ПС Малечкино; ТП-97
B4: ул, Горького, 99 | I4: Таблица № 1
B5: адрес
A6: почасовых записей показаний электрических счетчиков
A7: ='1'!A7:Q7 -> в режимный день 21 ДЕКАБРЯ 2022 г.
A8: 1630 | B8: 1628
A9: часы суток | B9: Активная энергия | J9: Реактивная энергия
B10: ТП-3 ПС Малечкино | F10: ТП-97 | J10: ТП-3 ПС Малечкино | N10: ТП-97
B11: Расчет, Коэф, | E11: 120 | F11: Расчет, Коэф, | I11: 60 | J11: Расчет, Коэф, | M11: =E11 -> 120 | N11: Расчет, Коэф, | Q11: =I11 -> 60
B12: показания счетчика | C12: разность | E12: расход эл,энергии за час | F12: показания счетчика | G12: разность | I12: расход эл,энергии за час | J12: показания счетчика | K12: разность | M12: расход эл,энергии за час | N12: показания счетчика | O12: разность | Q12: расход эл,энергии за час
A13: 1 | B13: 2 | C13: 3 | E13: 4 | F13: 5 | G13: 6 | I13: 7 | J13: 8 | K13: 9 | M13: 10 | N13: 11 | O13: 12 | Q13: 13
A14: 0
A15: 1 | E15: 0 | I15: 33.144 | M15: 0 | Q15: 0
A16: 2 | E16: 0 | I16: 30.36 | M16: 0 | Q16: 0
A17: 3 | E17: 0 | I17: 27.96 | M17: 0 | Q17: 0
A18: 4 | E18: 0 | I18: 27.348 | M18: 0 | Q18: 0
A19: 5 | E19: 0 | I19: 27.288 | M19: 0 | Q19: 0
A20: 6 | E20: 0 | I20: 29.172 | M20: 0 | Q20: 0
A21: 7 | E21: 0 | I21: 33.264 | M21: 0 | Q21: 0
A22: 8 | E22: 0 | I22: 44.472 | M22: 0 | Q22: 0
A23: 9 | E23: 0 | I23: 50.496 | M23: 0 | Q23: 0
A24: 10 | E24: 0 | I24: 58.56 | M24: 0 | Q24: 0
A25: 11 | E25: 0 | I25: 58.716 | M25: 0 | Q25: 0
A26: 12 | E26: 0 | I26: 56.7 | M26: 0 | Q26: 0
... A37: 23 | E37: 0 | I37: 45.192 | M37: 0 | Q37: 0
A38: 24 | E38: 0 | I38: 36.516 | M38: 0 | Q38: 0 | R38: 1
A39: Итого | E39: =SUM(E15:E38) -> 0 | I39: =SUM(I15:I38) -> 1210.356 | M39: =SUM(M15:M38) -> 0 | Q39: =SUM(Q15:Q38) -> 0
A40: 1, При наличии на предприятии отклонений от нормальных режимов электропотребления (временное изменение схем питания, остановка на ремонт, резкое снижение
A41: эл,потребления и т,д,) последние необходимо перечислить,
A42: Главный инженер АО "Вологдаоблэнерго" А,В, Чурляев
A43: составляется самим предприятием с соблюдением всех пунктов настоящей таблицы,

Sheet 6
B1: АО "Вологдаоблэнерго" | J1: код 900151 | N1: ПС Малечкино, ф, Поселок
B2: наименование предприятия | N2: наименование источника питания
N3: ТП-15 Кормоцех В-1; В-2
B4: ул, Горького, 99 | I4: Таблица № 1
B5: адрес
A6: почасовых записей показаний электрических счетчиков
A7: ='1'!A7:Q7 -> в режимный день 21 ДЕКАБРЯ 2022 г.
A8: 1630 | B8: 1628
A9: часы суток | B9: Активная энергия | J9: Реактивная энергия
B10: ТП-15 Кормоцех В-1 | F10: ТП-15 Кормоцех В-2 | J10: ТП-15 Кормоцех В-1 | N10: ТП-15 Кормоцех В-2
B11: Расчет, Коэф, | E11: 60 | F11: Расчет, Коэф, | I11: 60 | J11: Расчет, Коэф, | M11: =E11 -> 60 | N11: Расчет, Коэф, | Q11: =I11 -> 60
B12: показания счетчика | C12: разность | E12: расход эл,энергии за час | F12: показания счетчика | G12: разность | I12: расход эл,энергии за час | J12: показания счетчика | K12: разность | M12: расход эл,энергии за час | N12: показания счетчика | O12: разность | Q12: расход эл,энергии за час
A13: 1 | B13: 2 | C13: 3 | E13: 4 | F13: 5 | G13: 6 | I13: 7 | J13: 8 | K13: 9 | M13: 10 | N13: 11 | O13: 12 | Q13: 13
A14: 0
A15: 1 | E15: 7.86 | I15: 0 | M15: 0 | Q15: 0
A16: 2 | E16: 7.86 | I16: 0 | M16: 0 | Q16: 0
A17: 3 | E17: 7.86 | I17: 0 | M17: 0 | Q17: 0
A18: 4 | E18: 7.86 | I18: 0 | M18: 0 | Q18: 0
A19: 5 | E19: 7.92 | I19: 0 | M19: 0 | Q19: 0
A20: 6 | E20: 7.74 | I20: 0 | M20: 0 | Q20: 0
A21: 7 | E21: 18.9 | I21: 0 | M21: 0 | Q21: 0
A22: 8 | E22: 34.74 | I22: 0 | M22: 0 | Q22: 0
A23: 9 | E23: 8.28 | I23: 0 | M23: 0 | Q23: 0
A24: 10 | E24: 6.72 | I24: 0 | M24: 0 | Q24: 0
A25: 11 | E25: 6.6 | I25: 0 | M25: 0 | Q25: 0
A26: 12 | E26: 39.96 | I26: 0 | M26: 0 | Q26: 0
... A38: 24 | E38: 8.28 | I38: 0 | M38: 0 | Q38: 0
A39: Итого | E39: =SUM(E15:E38) -> 256.8 | I39: =SUM(I15:I38) -> 0 | M39: =SUM(M15:M38) -> 0 | Q39: =SUM(Q15:Q38) -> 0
A40: 1, При наличии на предприятии отклонений от нормальных режимов электропотребления (временное изменение схем питания, остановка на ремонт, резкое снижение
A41: эл,потребления и т,д,) последние необходимо перечислить,
A42: Главный инженер АО "Вологдаоблэнерго" А,В, Чурляев
A43: составляется самим предприятием с соблюдением всех пунктов настоящей таблицы,

Sheet 7
B1: АО "Вологдаоблэнерго" | J1: код 900151 | N1: ПС Малечкино, ф, Парфеново-1
B2: наименование предприятия | N2: наименование источника питания
N3: ЦРП-Парфеново
B4: ул, Горького, 99 | I4: Таблица № 1
B5: адрес
A6: почасовых записей показаний электрических счетчиков
A7: ='1'!A7:Q7 -> в режимный день 21 ДЕКАБРЯ 2022 г.
A8: 1630 | B8: 1628
A9: часы суток | B9: Активная энергия | J9: Реактивная энергия
B10: ЦРП-Парфеново В-1 | F10: ЦРП-Парфеново В-2 | J10: ЦРП-Парфеново В-1 | N10: ЦРП-Парфеново В-2
B11: Расчет, Коэф, | E11: 4000 | F11: Расчет, Коэф, | I11: 3000 | J11: Расчет, Коэф, | M11: =E11 -> 4000 | N11: Расчет, Коэф, | Q11: =I11 -> 3000
B12: показания счетчика | C12: разность | E12: расход эл,энергии за час | F12: показания счетчика | G12: разность | I12: расход эл,энергии за час | J12: показания счетчика | K12: разность | M12: расход эл,энергии за час | N12: показания счетчика | O12: разность | Q12: расход эл,энергии за час
A13: 1 | B13: 2 | C13: 3 | E13: 4 | F13: 5 | G13: 6 | I13: 7 | J13: 8 | K13: 9 | M13: 10 | N13: 11 | O13: 12 | Q13: 13
A14: 0
A15: 1 | E15: 491.2 | I15: 0 | M15: 0 | Q15: 0
A16: 2 | E16: 471.2 | I16: 0 | M16: 0 | Q16: 0
A17: 3 | E17: 491.2 | I17: 0 | M17: 0 | Q17: 0
A18: 4 | E18: 468 | I18: 0 | M18: 0 | Q18: 0
A19: 5 | E19: 475.2 | I19: 0 | M19: 0 | Q19: 0
A20: 6 | E20: 476.8 | I20: 0 | M20: 0 | Q20: 0
A21: 7 | E21: 482.4 | I21: 0 | M21: 0 | Q21: 0
A22: 8 | E22: 596 | I22: 0 | M22: 0 | Q22: 0
A23: 9 | E23: 1106.4 | I23: 0 | M23: 0 | Q23: 0
A24: 10 | E24: 1056.8 | I24: 0 | M24: 0 | Q24: 0
A25: 11 | E25: 1084 | I25: 0 | M25: 0 | Q25: 0
A26: 12 | E26: 1012.8 | I26: 0 | M26: 0 | Q26: 0
... A38: 24 | E38: 456.8 | I38: 0 | M38: 0 | Q38: 0
A39: Итого | E39: =SUM(E15:E38) -> 15742.4 | I39: =SUM(I15:I38) -> 0 | M39: =SUM(M15:M38) -> 0 | Q39: =SUM(Q15:Q38) -> 0
A40: 1, При наличии на предприятии отклонений от нормальных режимов электропотребления (временное изменение схем питания, остановка на ремонт, резкое снижение
A41: эл,потребления и т,д,) последние необходимо перечислить,
A42: Главный инженер АО "Вологдаоблэнерго" А,В, Чурляев
A43: составляется самим предприятием с соблюдением всех пунктов настоящей таблицы,

Sheet 8
B1: АО "Вологдаоблэнерго" | J1: код 900151 | N1: ПС Малечкино, ф, Киселево
B2: наименование предприятия | N2: наименование источника питания
N3: ЦРП-Парфеново
B4: ул, Горького, 99 | I4: Таблица № 1
B5: адрес
A6: почасовых записей показаний электрических счетчиков
A7: ='1'!A7:Q7 -> в режимный день 21 ДЕКАБРЯ 2022 г.
A8: 1630 | B8: 1628
A9: часы суток | B9: Активная энергия | J9: Реактивная энергия
B10: ЦРП-Парфеново В ф,Киселево | J10: ЦРП-Парфеново В ф,Киселево
B11: Расчет, Коэф, | E11: 6000 | F11: Расчет, Коэф, | J11: Расчет, Коэф, | M11: =E11 -> 6000 | N11: Расчет, Коэф, | Q11: =I11 -> 0
B12: показания счетчика | C12: разность | E12: расход эл,энергии за час | F12: показания счетчика | G12: разность | I12: расход эл,энергии за час | J12: показания счетчика | K12: разность | M12: расход эл,энергии за час | N12: показания счетчика | O12: разность | Q12: расход эл,энергии за час
A13: 1 | B13: 2 | C13: 3 | E13: 4 | F13: 5 | G13: 6 | I13: 7 | J13: 8 | K13: 9 | M13: 10 | N13: 11 | O13: 12 | Q13: 13
A14: 0
A15: 1 | E15: 0 | M15: 0
A16: 2 | E16: 0 | M16: 0
A17: 3 | E17: 0 | M17: 0
A18: 4 | E18: 0 | M18: 0
A19: 5 | E19: 0 | M19: 0
A20: 6 | E20: 0 | M20: 0
A21: 7 | E21: 0 | M21: 0
A22: 8 | E22: 0 | M22: 0
A23: 9 | E23: 0 | M23: 0
A24: 10 | E24: 0 | M24: 0
A25: 11 | E25: 0 | M25: 0
A26: 12 | E26: 0 | M26: 0
... A38: 24 | E38: 0 | M38: 0
A39: Итого | E39: =SUM(E15:E38) -> 0 | I39: =SUM(I15:I38) -> 0 | M39: =SUM(M15:M38) -> 0 | Q39: =SUM(Q15:Q38) -> 0
A40: 1, При наличии на предприятии отклонений от нормальных режимов электропотребления (временное изменение схем питания, остановка на ремонт, резкое снижение
A41: эл,потребления и т,д,) последние необходимо перечислить,
A42: Главный инженер АО "Вологдаоблэнерго" А,В, Чурляев
A43: составляется самим предприятием с соблюдением всех пунктов настоящей таблицы,

Sheet 9
B1: АО "Вологдаоблэнерго" | J1: код 900151 | N1: ПС Малечкино, ф, Киселево
B2: наименование предприятия | N2: наименование источника питания
N3: ТП-51; КТП-250 Курилово-ферма
B4: ул, Горького, 99 | I4: Таблица № 1
B5: адрес
A6: почасовых записей показаний электрических счетчиков
A7: ='1'!A7:Q7 -> в режимный день 21 ДЕКАБРЯ 2022 г.
A8: 1630 | B8: 1628
A9: часы суток | B9: Активная энергия | J9: Реактивная энергия
B10: ТП-51 | F10: КТП-250 Курилово-ферма | J10: ТП-51 | N10: КТП-250 Курилово-ферма
B11: Расчет, Коэф, | E11: 120 | F11: Расчет, Коэф, | I11: 30 | J11: Расчет, Коэф, | M11: =E11 -> 120 | N11: Расчет, Коэф, | Q11: =I11 -> 30
B12: показания счетчика | C12: разность | E12: расход эл,энергии за час | F12: показания счетчика | G12: разность | I12: расход эл,энергии за час | J12: показания счетчика | K12: разность | M12: расход эл,энергии за час | N12: показания счетчика | O12: разность | Q12: расход эл,энергии за час
A13: 1 | B13: 2 | C13: 3 | E13: 4 | F13: 5 | G13: 6 | I13: 7 | J13: 8 | K13: 9 | M13: 10 | N13: 11 | O13: 12 | Q13: 13
A14: 0
A15: 1 | E15: 0 | I15: 5.04 | M15: 0 | Q15: 0
A16: 2 | E16: 0 | I16: 5.12 | M16: 0 | Q16: 0
A17: 3 | E17: 0 | I17: 5.04 | M17: 0 | Q17: 0
A18: 4 | E18: 0 | I18: 5.12 | M18: 0 | Q18: 0
A19: 5 | E19: 0 | I19: 5.04 | M19: 0 | Q19: 0
A20: 6 | E20: 0 | I20: 5.2 | M20: 0 | Q20: 0
A21: 7 | E21: 0 | I21: 5.36 | M21: 0 | Q21: 0
A22: 8 | E22: 0 | I22: 5.2 | M22: 0 | Q22: 0
A23: 9 | E23: 0 | I23: 5.36 | M23: 0 | Q23: 0
A24: 10 | E24: 0 | I24: 5.04 | M24: 0 | Q24: 0
A25: 11 | E25: 0 | I25: 5.44 | M25: 0 | Q25: 0
A26: 12 | E26: 0 | I26: 5.36 | M26: 0 | Q26: 0
... A38: 24 | E38: 0 | I38: 5.12 | M38: 0 | Q38: 0
A39: Итого | E39: =SUM(E15:E38) -> 0 | I39: =SUM(I15:I38) -> 137.68 | M39: =SUM(M15:M38) -> 0 | Q39: =SUM(Q15:Q38) -> 0
A40: 1, При наличии на предприятии отклонений от нормальных режимов электропотребления (временное изменение схем питания, остановка на ремонт, резкое снижение
A41: эл,потребления и т,д,) последние необходимо перечислить,
A42: Главный инженер АО "Вологдаоблэнерго" А,В, Чурляев
A43: составляется самим предприятием с соблюдением всех пунктов настоящей таблицы,

Sheet 10
B1: АО "Вологдаоблэнерго" | J1: код 900151 | N1: ПС Малечкино, ф, Тепл, комбинат
B2: наименование предприятия | N2: наименование источника питания
N3: ТП-33; КТП-400 Пилорама Карат плюс
B4: ул, Горького, 99 | I4: Таблица № 1
B5: адрес
A6: почасовых записей показаний электрических счетчиков
A7: ='1'!A7:Q7 -> в режимный день 21 ДЕКАБРЯ 2022 г.
A8: 1630 | B8: 1628
A9: часы суток | B9: Активная энергия | J9: Реактивная энергия
B10: ТП-33 | F10: КТП-400 Пилорама Карат плюс | J10: ТП-33 | N10: КТП-400 Пилорама Карат плюс
B11: Расчет, Коэф, | E11: 30 | F11: Расчет, Коэф, | I11: 120 | J11: Расчет, Коэф, | M11: =E11 -> 30 | N11: Расчет, Коэф, | Q11: =I11 -> 120
B12: показания счетчика | C12: разность | E12: расход эл,энергии за час | F12: показания счетчика | G12: разность | I12: расход эл,энергии за час | J12: показания счетчика | K12: разность | M12: расход эл,энергии за час | N12: показания счетчика | O12: разность | Q12: расход эл,энергии за час
A13: 1 | B13: 2 | C13: 3 | E13: 4 | F13: 5 | G13: 6 | I13: 7 | J13: 8 | K13: 9 | M13: 10 | N13: 11 | O13: 12 | Q13: 13
A14: 0
A15: 1 | E15: 3.72 | I15: 67.176 | M15: 0 | Q15: 0
A16: 2 | E16: 3.96 | I16: 62.496 | M16: 0 | Q16: 0
A17: 3 | E17: 9.72 | I17: 60.264 | M17: 0 | Q17: 0
A18: 4 | E18: 9.84 | I18: 64.176 | M18: 0 | Q18: 0
A19: 5 | E19: 9.64 | I19: 60.552 | M19: 0 | Q19: 0
A20: 6 | E20: 15.96 | I20: 63.36 | M20: 0 | Q20: 0
A21: 7 | E21: 14.56 | I21: 71.952 | M21: 0 | Q21: 0
A22: 8 | E22: 16.76 | I22: 75.24 | M22: 0 | Q22: 0
A23: 9 | E23: 12.4 | I23: 116.664 | M23: 0 | Q23: 0
A24: 10 | E24: 13.8 | I24: 143.784 | M24: 0 | Q24: 0
A25: 11 | E25: 11.24 | I25: 142.848 | M25: 0 | Q25: 0
A26: 12 | E26: 16.04 | I26: 140.76 | M26: 0 | Q26: 0
... A38: 24 | E38: 14.96 | I38: 66.48 | M38: 0 | Q38: 0
A39: Итого | E39: =SUM(E15:E38) -> 281.52 | I39: =SUM(I15:I38) -> 2321.88 | M39: =SUM(M15:M38) -> 0 | Q39: =SUM(Q15:Q38) -> 0
A40: 1, При наличии на предприятии отклонений от нормальных режимов электропотребления (временное изменение схем питания, остановка на ремонт, резкое снижение
A41: эл,потребления и т,д,) последние необходимо перечислить,
A42: Главный инженер АО "Вологдаоблэнерго" А,В, Чурляев
A43: составляется самим предприятием с соблюдением всех пунктов настоящей таблицы,

Sheet 11
B1: АО "Вологдаоблэнерго" | J1: код 900151 | N1: ПС Загородная, ф, Тоншалово-2
B2: наименование предприятия | N2: наименование источника питания
N3: ТП-4 очистные В-1; ТП-4 очистные В-2
B4: ул, Горького, 99 | I4: Таблица № 1
B5: адрес
A6: почасовых записей показаний электрических счетчиков
A7: ='1'!A7:Q7 -> в режимный день 21 ДЕКАБРЯ 2022 г.
A8: 1630 | B8: 1628
A9: часы суток | B9: Активная энергия | J9: Реактивная энергия
B10: ТП-4 очистные В-1 | F10: ТП-4 очистные В-2 | J10: ТП-4 очистные В-1 | N10: ТП-4 очистные В-2
B11: Расчет, Коэф, | E11: 120 | F11: Расчет, Коэф, | I11: 120 | J11: Расчет, Коэф, | M11: =E11 -> 120 | N11: Расчет, Коэф, | Q11: =I11 -> 120
B12: показания счетчика | C12: разность | E12: расход эл,энергии за час | F12: показания счетчика | G12: разность | I12: расход эл,энергии за час | J12: показания счетчика | K12: разность | M12: расход эл,энергии за час | N12: показания счетчика | O12: разность | Q12: расход эл,энергии за час
A13: 1 | B13: 2 | C13: 3 | E13: 4 | F13: 5 | G13: 6 | I13: 7 | J13: 8 | K13: 9 | M13: 10 | N13: 11 | O13: 12 | Q13: 13
A14: 0
A15: 1 | E15: 130.176 | I15: 30.408 | M15: 0 | Q15: 0
A16: 2 | E16: 130.008 | I16: 33.672 | M16: 0 | Q16: 0
A17: 3 | E17: 130.224 | I17: 33.72 | M17: 0 | Q17: 0
A18: 4 | E18: 128.808 | I18: 30.936 | M18: 0 | Q18: 0
A19: 5 | E19: 130.464 | I19: 33.432 | M19: 0 | Q19: 0
A20: 6 | E20: 131.784 | I20: 31.968 | M20: 0 | Q20: 0
A21: 7 | E21: 133.272 | I21: 35.64 | M21: 0 | Q21: 0
A22: 8 | E22: 137.64 | I22: 42.36 | M22: 0 | Q22: 0
A23: 9 | E23: 137.976 | I23: 43.248 | M23: 0 | Q23: 0
A24: 10 | E24: 136.824 | I24: 54.312 | M24: 0 | Q24: 0
A25: 11 | E25: 136.032 | I25: 61.92 | M25: 0 | Q25: 0
A26: 12 | E26: 136.296 | I26: 60.576 | M26: 0 | Q26: 0
... A38: 24 | E38: 131.184 | I38: 39.696 | M38: 0 | Q38: 0
A39: Итого | E39: =SUM(E15:E38) -> 3232.464 | I39: =SUM(I15:I38) -> 1123.392 | M39: =SUM(M15:M38) -> 0 | Q39: =SUM(Q15:Q38) -> 0
A40: 1, При наличии на предприятии отклонений от нормальных режимов электропотребления (временное изменение схем питания, остановка на ремонт, резкое снижение
A41: эл,потребления и т,д,) последние необходимо перечислить,
A42: Главный инженер АО "Вологдаоблэнерго" А,В, Чурляев
A43: составляется самим предприятием с соблюдением всех пунктов настоящей таблицы,

Sheet 12
B1: АО "Вологдаоблэнерго" | J1: код 900151 | N1: ПС Загородная, ф, Тоншалово-2
B2: наименование предприятия | N2: наименование источника питания
N3: ТП-3 Школа В-1; ТП-3 Школа В-2
B4: ул, Горького, 99 | I4: Таблица № 1
B5: адрес
A6: почасовых записей показаний электрических счетчиков
A7: ='1'!A7:Q7 -> в режимный день 21 ДЕКАБРЯ 2022 г.
A8: 1630 | B8: 1628
A9: часы суток | B9: Активная энергия | J9: Реактивная энергия
B10: ТП-3 Школа В-1 | F10: ТП-3 Школа В-2 | J10: ТП-3 Школа В-1 | N10: ТП-3 Школа В-2
B11: Расчет, Коэф, | E11: 120 | F11: Расчет, Коэф, | I11: 120 | J11: Расчет, Коэф, | M11: =E11 -> 120 | N11: Расчет, Коэф, | Q11: =I11 -> 120
B12: показания счетчика | C12: разность | E12: расход эл,энергии за час | F12: показания счетчика | G12: разность | I12: расход эл,энергии за час | J12: показания счетчика | K12: разность | M12: расход эл,энергии за час | N12: показания счетчика | O12: разность | Q12: расход эл,энергии за час
A13: 1 | B13: 2 | C13: 3 | E13: 4 | F13: 5 | G13: 6 | I13: 7 | J13: 8 | K13: 9 | M13: 10 | N13: 11 | O13: 12 | Q13: 13
A14: 0
A15: 1 | E15: 46.464 | I15: 0 | M15: 0 | Q15: 0
A16: 2 | E16: 44.976 | I16: 0 | M16: 0 | Q16: 0
A17: 3 | E17: 43.608 | I17: 0 | M17: 0 | Q17: 0
A18: 4 | E18: 43.296 | I18: 0 | M18: 0 | Q18: 0
A19: 5 | E19: 61.176 | I19: 0 | M19: 0 | Q19: 0
A20: 6 | E20: 72.936 | I20: 0 | M20: 0 | Q20: 0
A21: 7 | E21: 79.176 | I21: 0 | M21: 0 | Q21: 0
A22: 8 | E22: 97.32 | I22: 0 | M22: 0 | Q22: 0
A23: 9 | E23: 120.264 | I23: 0 | M23: 0 | Q23: 0
A24: 10 | E24: 135.12 | I24: 0 | M24: 0 | Q24: 0
A25: 11 | E25: 146.544 | I25: 0 | M25: 0 | Q25: 0
A26: 12 | E26: 140.64 | I26: 0 | M26: 0 | Q26: 0
... A38: 24 | E38: 47.808 | I38: 0 | M38: 0 | Q38: 0
A39: Итого | E39: =SUM(E15:E38) -> 2089.968 | I39: =SUM(I15:I38) -> 0 | M39: =SUM(M15:M38) -> 0 | Q39: =SUM(Q15:Q38) -> 0
A40: 1, При наличии на предприятии отклонений от нормальных режимов электропотребления (временное изменение схем питания, остановка на ремонт, резкое снижение
A41: эл,потребления и т,д,) последние необходимо перечислить,
A42: Главный инженер АО "Вологдаоблэнерго" А,В, Чурляев
A43: составляется самим предприятием с соблюдением всех пунктов настоящей таблицы,

Sheet 13
B1: АО "Вологдаоблэнерго" | J1: код 900151 | N1: ПС Загородная, ф, Тоншалово-2
B2: наименование предприятия | N2: наименование источника питания
N3: ТП-5 ПМК-1 В-1
B4: ул, Горького, 99 | I4: Таблица № 1 | N4: ТП-5 ПМК-1 В-2
B5: адрес
A6: почасовых записей показаний электрических счетчиков
A7: ='1'!A7:Q7 -> в режимный день 21 ДЕКАБРЯ 2022 г.
A8: 1630 | B8: 1628
A9: часы суток | B9: Активная энергия | J9: Реактивная энергия
B10: =N3 -> ТП-5 ПМК-1 В-1 | F10: =N4 -> ТП-5 ПМК-1 В-2 | J10: =B10 -> ТП-5 ПМК-1 В-1 | N10: =F10 -> ТП-5 ПМК-1 В-2
B11: Расчет, Коэф, | E11: 120 | F11: Расчет, Коэф, | I11: 120 | J11: Расчет, Коэф, | M11: =E11 -> 120 | N11: Расчет, Коэф, | Q11: =I11 -> 120
B12: показания счетчика | C12: разность | E12: расход эл,энергии за час | F12: показания счетчика | G12: разность | I12: расход эл,энергии за час | J12: показания счетчика | K12: разность | M12: расход эл,энергии за час | N12: показания счетчика | O12: разность | Q12: расход эл,энергии за час
A13: 1 | B13: 2 | C13: 3 | E13: 4 | F13: 5 | G13: 6 | I13: 7 | J13: 8 | K13: 9 | M13: 10 | N13: 11 | O13: 12 | Q13: 13
A14: 0
A15: 1 | E15: 19.2 | I15: 48.984 | M15: 0 | Q15: 0
A16: 2 | E16: 18.744 | I16: 42.936 | M16: 0 | Q16: 0
A17: 3 | E17: 18.696 | I17: 39.648 | M17: 0 | Q17: 0
A18: 4 | E18: 18.072 | I18: 38.856 | M18: 0 | Q18: 0
A19: 5 | E19: 17.736 | I19: 53.064 | M19: 0 | Q19: 0
A20: 6 | E20: 18.24 | I20: 70.416 | M20: 0 | Q20: 0
A21: 7 | E21: 19.2 | I21: 76.872 | M21: 0 | Q21: 0
A22: 8 | E22: 21.336 | I22: 83.496 | M22: 0 | Q22: 0
A23: 9 | E23: 23.328 | I23: 92.208 | M23: 0 | Q23: 0
A24: 10 | E24: 24.768 | I24: 89.112 | M24: 0 | Q24: 0
A25: 11 | E25: 25.608 | I25: 76.08 | M25: 0 | Q25: 0
A26: 12 | E26: 23.52 | I26: 67.32 | M26: 0 | Q26: 0
... A38: 24 | E38: 21.024 | I38: 58.32 | M38: 0 | Q38: 0
A39: Итого | E39: =SUM(E15:E38) -> 542.952 | I39: =SUM(I15:I38) -> 1706.496 | M39: =SUM(M15:M38) -> 0 | Q39: =SUM(Q15:Q38) -> 0
A40: 1, При наличии на предприятии отклонений от нормальных режимов электропотребления (временное изменение схем питания, остановка на ремонт, резкое снижение
A41: эл,потребления и т,д,) последние необходимо перечислить,
A42: Главный инженер АО "Вологдаоблэнерго" А,В, Чурляев
A43: составляется самим предприятием с соблюдением всех пунктов настоящей таблицы,

Sheet 14
B1: АО "Вологдаоблэнерго" | J1: код 900151 | N1: ПС Загородная, ф, Тоншалово-2
B2: наименование предприятия | N2: наименование источника питания
N3: ТП-6 Детский сад В-1
B4: ул, Горького, 99 | I4: Таблица № 1 | N4: ТП-6 Детский сад В-2
B5: адрес
A6: почасовых записей показаний электрических счетчиков
A7: ='1'!A7:Q7 -> в режимный день 21 ДЕКАБРЯ 2022 г.
A8: 1630 | B8: 1628
A9: часы суток | B9: Активная энергия | J9: Реактивная энергия
B10: =N3 -> ТП-6 Детский сад В-1 | F10: =N4 -> ТП-6 Детский сад В-2 | J10: =B10 -> ТП-6 Детский сад В-1 | N10: =F10 -> ТП-6 Детский сад В-2
B11: Расчет, Коэф, | E11: 120 | F11: Расчет, Коэф, | I11: 120 | J11: Расчет, Коэф, | M11: =E11 -> 120 | N11: Расчет, Коэф, | Q11: =I11 -> 120
B12: показания счетчика | C12: разность | E12: расход эл,энергии за час | F12: показания счетчика | G12: разность | I12: расход эл,энергии за час | J12: показания счетчика | K12: разность | M12: расход эл,энергии за час | N12: показания счетчика | O12: разность | Q12: расход эл,энергии за час
A13: 1 | B13: 2 | C13: 3 | E13: 4 | F13: 5 | G13: 6 | I13: 7 | J13: 8 | K13: 9 | M13: 10 | N13: 11 | O13: 12 | Q13: 13
A14: 0
A15: 1 | E15: 54.504 | I15: 39.792 | M15: 0 | Q15: 0
A16: 2 | E16: 51.096 | I16: 33.408 | M16: 0 | Q16: 0
A17: 3 | E17: 47.208 | I17: 33.792 | M17: 0 | Q17: 0
A18: 4 | E18: 47.616 | I18: 33.12 | M18: 0 | Q18: 0
A19: 5 | E19: 46.896 | I19: 33.744 | M19: 0 | Q19: 0
A20: 6 | E20: 47.4 | I20: 36.936 | M20: 0 | Q20: 0
A21: 7 | E21: 56.856 | I21: 42.096 | M21: 0 | Q21: 0
A22: 8 | E22: 61.656 | I22: 50.664 | M22: 0 | Q22: 0
A23: 9 | E23: 61.848 | I23: 48 | M23: 0 | Q23: 0
A24: 10 | E24: 60.768 | I24: 45.072 | M24: 0 | Q24: 0
A25: 11 | E25: 60.624 | I25: 45 | M25: 0 | Q25: 0
A26: 12 | E26: 63.504 | I26: 48.72 | M26: 0 | Q26: 0
... A38: 24 | E38: 63.576 | I38: 47.352 | M38: 0 | Q38: 0
A39: Итого | E39: =SUM(E15:E38) -> 1599.024 | I39: =SUM(I15:I38) -> 1214.424 | M39: =SUM(M15:M38) -> 0 | Q39: =SUM(Q15:Q38) -> 0
A40: 1, При наличии на предприятии отклонений от нормальных режимов электропотребления (временное изменение схем питания, остановка на ремонт, резкое снижение
A41: эл,потребления и т,д,) последние необходимо перечислить,
A42: Главный инженер АО "Вологдаоблэнерго" А,В, Чурляев
A43: составляется самим предприятием с соблюдением всех пунктов настоящей таблицы,

Sheet 15
B1: АО "Вологдаоблэнерго" | J1: код 900151 | N1: ПС Загородная, ф, Тоншалово-2
B2: наименование предприятия | N2: наименование источника питания
N3: ТП-2 Поселок
B4: ул, Горького, 99 | I4: Таблица № 1
B5: адрес
A6: почасовых записей показаний электрических счетчиков
A7: ='1'!A7:Q7 -> в режимный день 21 ДЕКАБРЯ 2022 г.
A8: 1630 | B8: 1628
A9: часы суток | B9: Активная энергия | J9: Реактивная энергия
B10: =N3 -> ТП-2 Поселок | F10: =N4 -> 0 | J10: =B10 -> ТП-2 Поселок | N10: =F10 -> 0
B11: Расчет, Коэф, | E11: 200 | F11: Расчет, Коэф, | I11: 120 | J11: Расчет, Коэф, | M11: =E11 -> 200 | N11: Расчет, Коэф, | Q11: =I11 -> 120
B12: показания счетчика | C12: разность | E12: расход эл,энергии за час | F12: показания счетчика | G12: разность | I12: расход эл,энергии за час | J12: показания счетчика | K12: разность | M12: расход эл,энергии за час | N12: показания счетчика | O12: разность | Q12: расход эл,энергии за час
A13: 1 | B13: 2 | C13: 3 | E13: 4 | F13: 5 | G13: 6 | I13: 7 | J13: 8 | K13: 9 | M13: 10 | N13: 11 | O13: 12 | Q13: 13
A14: 0
A15: 1 | E15: 112.36 | I15: 0 | M15: 0 | Q15: 0
A16: 2 | E16: 101.12 | I16: 0 | M16: 0 | Q16: 0
A17: 3 | E17: 95.8 | I17: 0 | M17: 0 | Q17: 0
A18: 4 | E18: 93.2 | I18: 0 | M18: 0 | Q18: 0
A19: 5 | E19: 106.08 | I19: 0 | M19: 0 | Q19: 0
A20: 6 | E20: 129.2 | I20: 0 | M20: 0 | Q20: 0
A21: 7 | E21: 141.48 | I21: 0 | M21: 0 | Q21: 0
A22: 8 | E22: 152.04 | I22: 0 | M22: 0 | Q22: 0
A23: 9 | E23: 155.68 | I23: 0 | M23: 0 | Q23: 0
A24: 10 | E24: 155.52 | I24: 0 | M24: 0 | Q24: 0
A25: 11 | E25: 147.68 | I25: 0 | M25: 0 | Q25: 0
A26: 12 | E26: 142.8 | I26: 0 | M26: 0 | Q26: 0
... A38: 24 | E38: 124.28 | I38: 0 | M38: 0 | Q38: 0
A39: Итого | E39: =SUM(E15:E38) -> 3542.96 | I39: =SUM(I15:I38) -> 0 | M39: =SUM(M15:M38) -> 0 | Q39: =SUM(Q15:Q38) -> 0
A40: 1, При наличии на предприятии отклонений от нормальных режимов электропотребления (временное изменение схем питания, остановка на ремонт, резкое снижение
A41: эл,потребления и т,д,) последние необходимо перечислить,
A42: Главный инженер АО "Вологдаоблэнерго" А,В, Чурляев
A43: составляется самим предприятием с соблюдением всех пунктов настоящей таблицы,

Sheet 16
B1: АО "Вологдаоблэнерго" | J1: код 900151 | N1: ПС Загородная, ф, Солманское
B2: наименование предприятия | N2: наименование источника питания
N3: ТП-Котельная ПМК-2 В-1
B4: ул, Горького, 99 | I4: Таблица № 1 | N4: ТП-Котельная ПМК-2 В-2
B5: адрес
A6: почасовых записей показаний электрических счетчиков
A7: ='1'!A7:Q7 -> в режимный день 21 ДЕКАБРЯ 2022 г.
A8: 1630 | B8: 1628
A9: часы суток | B9: Активная энергия | J9: Реактивная энергия
B10: =N3 -> ТП-Котельная ПМК-2 В-1 | F10: =N4 -> ТП-Котельная ПМК-2 В-2 | J10: =B10 -> ТП-Котельная ПМК-2 В-1 | N10: =F10 -> ТП-Котельная ПМК-2 В-2
B11: Расчет, Коэф, | E11: 80 | F11: Расчет, Коэф, | I11: 80 | J11: Расчет, Коэф, | M11: =E11 -> 80 | N11: Расчет, Коэф, | Q11: =I11 -> 80
B12: показания счетчика | C12: разность | E12: расход эл,энергии за час | F12: показания счетчика | G12: разность | I12: расход эл,энергии за час | J12: показания счетчика | K12: разность | M12: расход эл,энергии за час | N12: показания счетчика | O12: разность | Q12: расход эл,энергии за час
A13: 1 | B13: 2 | C13: 3 | E13: 4 | F13: 5 | G13: 6 | I13: 7 | J13: 8 | K13: 9 | M13: 10 | N13: 11 | O13: 12 | Q13: 13
A14: 0
A15: 1 | E15: 15.344 | I15: 0 | M15: 0 | Q15: 0
A16: 2 | E16: 14.704 | I16: 0 | M16: 0 | Q16: 0
A17: 3 | E17: 14.848 | I17: 0 | M17: 0 | Q17: 0
A18: 4 | E18: 15.168 | I18: 0 | M18: 0 | Q18: 0
A19: 5 | E19: 14.64 | I19: 0 | M19: 0 | Q19: 0
A20: 6 | E20: 14.928 | I20: 0 | M20: 0 | Q20: 0
A21: 7 | E21: 23.584 | I21: 0 | M21: 0 | Q21: 0
A22: 8 | E22: 27.344 | I22: 0 | M22: 0 | Q22: 0
A23: 9 | E23: 81.936 | I23: 0 | M23: 0 | Q23: 0
A24: 10 | E24: 69.712 | I24: 0 | M24: 0 | Q24: 0
A25: 11 | E25: 68.496 | I25: 0 | M25: 0 | Q25: 0
A26: 12 | E26: 58.944 | I26: 0 | M26: 0 | Q26: 0
... A38: 24 | E38: 14.32 | I38: 0 | M38: 0 | Q38: 0
A39: Итого | E39: =SUM(E15:E38) -> 728.896 | I39: =SUM(I15:I38) -> 0 | M39: =SUM(M15:M38) -> 0 | Q39: =SUM(Q15:Q38) -> 0
A40: 1, При наличии на предприятии отклонений от нормальных режимов электропотребления (временное изменение схем питания, остановка на ремонт, резкое снижение
A41: эл,потребления и т,д,) последние необходимо перечислить,
A42: Главный инженер АО "Вологдаоблэнерго" А,В, Чурляев
A43: составляется самим предприятием с соблюдением всех пунктов настоящей таблицы,

Sheet 17
B1: АО "Вологдаоблэнерго" | J1: код 900151 | N1: ПС Нелазское, ф, Шулма
B2: наименование предприятия | N2: наименование источника питания
N3: ТП-244
B4: ул, Горького, 99 | I4: Таблица № 1 | N4: ТП-250
B5: адрес
A6: почасовых записей показаний электрических счетчиков
A7: ='1'!A7:Q7 -> в режимный день 21 ДЕКАБРЯ 2022 г.
A8: 1630 | B8: 1628
A9: часы суток | B9: Активная энергия | J9: Реактивная энергия
B10: =N3 -> ТП-244 | F10: =N4 -> ТП-250 | J10: =B10 -> ТП-244 | N10: =F10 -> ТП-250
B11: Расчет, Коэф, | E11: 60 | F11: Расчет, Коэф, | I11: 60 | J11: Расчет, Коэф, | M11: =E11 -> 60 | N11: Расчет, Коэф, | Q11: =I11 -> 60
B12: показания счетчика | C12: разность | E12: расход эл,энергии за час | F12: показания счетчика | G12: разность | I12: расход эл,энергии за час | J12: показания счетчика | K12: разность | M12: расход эл,энергии за час | N12: показания счетчика | O12: разность | Q12: расход эл,энергии за час
A13: 1 | B13: 2 | C13: 3 | E13: 4 | F13: 5 | G13: 6 | I13: 7 | J13: 8 | K13: 9 | M13: 10 | N13: 11 | O13: 12 | Q13: 13
A14: 0
A15: 1 | E15: 0 | I15: 35.4 | M15: 0 | Q15: 0
A16: 2 | E16: 0 | I16: 35.34 | M16: 0 | Q16: 0
A17: 3 | E17: 0 | I17: 35.4 | M17: 0 | Q17: 0
A18: 4 | E18: 0 | I18: 35.34 | M18: 0 | Q18: 0
A19: 5 | E19: 0 | I19: 35.4 | M19: 0 | Q19: 0
A20: 6 | E20: 0 | I20: 35.4 | M20: 0 | Q20: 0
A21: 7 | E21: 0 | I21: 35.52 | M21: 0 | Q21: 0
A22: 8 | E22: 0 | I22: 35.58 | M22: 0 | Q22: 0
A23: 9 | E23: 0 | I23: 35.7 | M23: 0 | Q23: 0
A24: 10 | E24: 0 | I24: 35.58 | M24: 0 | Q24: 0
A25: 11 | E25: 0 | I25: 35.58 | M25: 0 | Q25: 0
A26: 12 | E26: 0 | I26: 35.64 | M26: 0 | Q26: 0
... A38: 24 | E38: 0 | I38: 35.4 | M38: 0 | Q38: 0
A39: Итого | E39: =SUM(E15:E38) -> 0 | I39: =SUM(I15:I38) -> 852.78 | M39: =SUM(M15:M38) -> 0 | Q39: =SUM(Q15:Q38) -> 0
A40: 1, При наличии на предприятии отклонений от нормальных режимов электропотребления (временное изменение схем питания, остановка на ремонт, резкое снижение
A41: эл,потребления и т,д,) последние необходимо перечислить,
A42: Главный инженер АО "Вологдаоблэнерго" А,В, Чурляев
A43: составляется самим предприятием с соблюдением всех пунктов настоящей таблицы,

Sheet 18
B1: АО "Вологдаоблэнерго" | J1: код 900151 | N1: ПС Нелазское, ф, Шулма
B2: наименование предприятия | N2: наименование источника питания
N3: ТП-Поселок
B4: ул, Горького, 99 | I4: Таблица № 1 | N4: ТП-Школа
B5: адрес
A6: почасовых записей показаний электрических счетчиков
A7: ='1'!A7:Q7 -> в режимный день 21 ДЕКАБРЯ 2022 г.
A8: 1630 | B8: 1628
A9: часы суток | B9: Активная энергия | J9: Реактивная энергия
B10: =N3 -> ТП-Поселок | F10: =N4 -> ТП-Школа | J10: =B10 -> ТП-Поселок | N10: =F10 -> ТП-Школа
B11: Расчет, Коэф, | E11: 120 | F11: Расчет, Коэф, | I11: 120 | J11: Расчет, Коэф, | M11: =E11 -> 120 | N11: Расчет, Коэф, | Q11: =I11 -> 120
B12: показания счетчика | C12: разность | E12: расход эл,энергии за час | F12: показания счетчика | G12: разность | I12: расход эл,энергии за час | J12: показания счетчика | K12: разность | M12: расход эл,энергии за час | N12: показания счетчика | O12: разность | Q12: расход эл,энергии за час
A13: 1 | B13: 2 | C13: 3 | E13: 4 | F13: 5 | G13: 6 | I13: 7 | J13: 8 | K13: 9 | M13: 10 | N13: 11 | O13: 12 | Q13: 13
A14: 0
A15: 1 | E15: 127.56 | I15: 11.64 | M15: 0 | Q15: 0
A16: 2 | E16: 123 | I16: 9.24 | M16: 0 | Q16: 0
A17: 3 | E17: 119.76 | I17: 9.192 | M17: 0 | Q17: 0
A18: 4 | E18: 124.44 | I18: 11.208 | M18: 0 | Q18: 0
A19: 5 | E19: 123.6 | I19: 9.192 | M19: 0 | Q19: 0
A20: 6 | E20: 133.32 | I20: 8.928 | M20: 0 | Q20: 0
A21: 7 | E21: 150.96 | I21: 10.728 | M21: 0 | Q21: 0
A22: 8 | E22: 155.4 | I22: 23.376 | M22: 0 | Q22: 0
A23: 9 | E23: 164.64 | I23: 30.288 | M23: 0 | Q23: 0
A24: 10 | E24: 161.16 | I24: 36.768 | M24: 0 | Q24: 0
A25: 11 | E25: 156.6 | I25: 36.048 | M25: 0 | Q25: 0
A26: 12 | E26: 160.56 | I26: 27.288 | M26: 0 | Q26: 0
... A38: 24 | E38: 140.16 | I38: 7.752 | M38: 0 | Q38: 0
A39: Итого | E39: =SUM(E15:E38) -> 3729.12 | I39: =SUM(I15:I38) -> 417.072 | M39: =SUM(M15:M38) -> 0 | Q39: =SUM(Q15:Q38) -> 0
A40: 1, При наличии на предприятии отклонений от нормальных режимов электропотребления (временное изменение схем питания, остановка на ремонт, резкое снижение
A41: эл,потребления и т,д,) последние необходимо перечислить,
A42: Главный инженер АО "Вологдаоблэнерго" А,В, Чурляев
A43: составляется самим предприятием с соблюдением всех пунктов настоящей таблицы,

Sheet 19
B1: АО "Вологдаоблэнерго" | J1: код 900151 | N1: ПС Нелазское, ф, К-с Нелазское-2
B2: наименование предприятия | N2: наименование источника питания
N3: ТП-14 В-1
B4: ул, Горького, 99 | I4: Таблица № 1 | N4: ТП-14 В-2
B5: адрес
A6: почасовых записей показаний электрических счетчиков
A7: ='1'!A7:Q7 -> в режимный день 21 ДЕКАБРЯ 2022 г.
A8: 1630 | B8: 1628
A9: часы суток | B9: Активная энергия | J9: Реактивная энергия
B10: =N3 -> ТП-14 В-1 | F10: =N4 -> ТП-14 В-2 | J10: =B10 -> ТП-14 В-1 | N10: =F10 -> ТП-14 В-2
B11: Расчет, Коэф, | E11: 120 | F11: Расчет, Коэф, | I11: 120 | J11: Расчет, Коэф, | M11: =E11 -> 120 | N11: Расчет, Коэф, | Q11: =I11 -> 120
B12: показания счетчика | C12: разность | E12: расход эл,энергии за час | F12: показания счетчика | G12: разность | I12: расход эл,энергии за час | J12: показания счетчика | K12: разность | M12: расход эл,энергии за час | N12: показания счетчика | O12: разность | Q12: расход эл,энергии за час
A13: 1 | B13: 2 | C13: 3 | E13: 4 | F13: 5 | G13: 6 | I13: 7 | J13: 8 | K13: 9 | M13: 10 | N13: 11 | O13: 12 | Q13: 13
A14: 0
A15: 1 | E15: 0 | I15: 78.36 | M15: 0 | Q15: 0
A16: 2 | E16: 0 | I16: 68.04 | M16: 0 | Q16: 0
A17: 3 | E17: 0 | I17: 59.52 | M17: 0 | Q17: 0
A18: 4 | E18: 0 | I18: 68.52 | M18: 0 | Q18: 0
A19: 5 | E19: 0 | I19: 57 | M19: 0 | Q19: 0
A20: 6 | E20: 0 | I20: 65.4 | M20: 0 | Q20: 0
A21: 7 | E21: 0 | I21: 46.2 | M21: 0 | Q21: 0
A22: 8 | E22: 0 | I22: 49.32 | M22: 0 | Q22: 0
A23: 9 | E23: 0 | I23: 81.96 | M23: 0 | Q23: 0
A24: 10 | E24: 0 | I24: 70.2 | M24: 0 | Q24: 0
A25: 11 | E25: 0 | I25: 69.84 | M25: 0 | Q25: 0
A26: 12 | E26: 0 | I26: 61.8 | M26: 0 | Q26: 0
... A38: 24 | E38: 0 | I38: 69.6 | M38: 0 | Q38: 0
A39: Итого | E39: =SUM(E15:E38) -> 0 | I39: =SUM(I15:I38) -> 1631.64 | M39: =SUM(M15:M38) -> 0 | Q39: =SUM(Q15:Q38) -> 0
A40: 1, При наличии на предприятии отклонений от нормальных режимов электропотребления (временное изменение схем питания, остановка на ремонт, резкое снижение
A41: эл,потребления и т,д,) последние необходимо перечислить,
A42: Главный инженер АО "Вологдаоблэнерго" А,В, Чурляев
A43: составляется самим предприятием с соблюдением всех пунктов настоящей таблицы,

Sheet 20
B1: АО "Вологдаоблэнерго" | J1: код 900151 | N1: ПС Нелазское, ф, К-с Нелазское-2
B2: наименование предприятия | N2: наименование источника питания
N3: ТП-15 В-1
B4: ул, Горького, 99 | I4: Таблица № 1 | N4: ТП-15 В-2
B5: адрес
A6: почасовых записей показаний электрических счетчиков
A7: ='1'!A7:Q7 -> в режимный день 21 ДЕКАБРЯ 2022 г.
A8: 1630 | B8: 1628
A9: часы суток | B9: Активная энергия | J9: Реактивная энергия
B10: =N3 -> ТП-15 В-1 | F10: =N4 -> ТП-15 В-2 | J10: =B10 -> ТП-15 В-1 | N10: =F10 -> ТП-15 В-2
B11: Расчет, Коэф, | E11: 200 | F11: Расчет, Коэф, | I11: 120 | J11: Расчет, Коэф, | M11: =E11 -> 200 | N11: Расчет, Коэф, | Q11: =I11 -> 120
B12: показания счетчика | C12: разность | E12: расход эл,энергии за час | F12: показания счетчика | G12: разность | I12: расход эл,энергии за час | J12: показания счетчика | K12: разность | M12: расход эл,энергии за час | N12: показания счетчика | O12: разность | Q12: расход эл,энергии за час
A13: 1 | B13: 2 | C13: 3 | E13: 4 | F13: 5 | G13: 6 | I13: 7 | J13: 8 | K13: 9 | M13: 10 | N13: 11 | O13: 12 | Q13: 13
A14: 0
A15: 1 | E15: 0 | I15: 41.28 | M15: 0 | Q15: 0
A16: 2 | E16: 0 | I16: 40.2 | M16: 0 | Q16: 0
A17: 3 | E17: 0 | I17: 40.2 | M17: 0 | Q17: 0
A18: 4 | E18: 0 | I18: 42.6 | M18: 0 | Q18: 0
A19: 5 | E19: 0 | I19: 40.32 | M19: 0 | Q19: 0
A20: 6 | E20: 0 | I20: 44.16 | M20: 0 | Q20: 0
A21: 7 | E21: 0 | I21: 56.76 | M21: 0 | Q21: 0
A22: 8 | E22: 0 | I22: 62.28 | M22: 0 | Q22: 0
A23: 9 | E23: 0 | I23: 61.8 | M23: 0 | Q23: 0
A24: 10 | E24: 0 | I24: 54.24 | M24: 0 | Q24: 0
A25: 11 | E25: 0 | I25: 62.04 | M25: 0 | Q25: 0
A26: 12 | E26: 0 | I26: 79.68 | M26: 0 | Q26: 0
... A38: 24 | E38: 0 | I38: 28.92 | M38: 0 | Q38: 0
A39: Итого | E39: =SUM(E15:E38) -> 0 | I39: =SUM(I15:I38) -> 1076.4 | M39: =SUM(M15:M38) -> 0 | Q39: =SUM(Q15:Q38) -> 0
A40: 1, При наличии на предприятии отклонений от нормальных режимов электропотребления (временное изменение схем питания, остановка на ремонт, резкое снижение
A41: эл,потребления и т,д,) последние необходимо перечислить,
A42: Главный инженер АО "Вологдаоблэнерго" А,В, Чурляев
A43: составляется самим предприятием с соблюдением всех пунктов настоящей таблицы,

Sheet 21
B1: АО "Вологдаоблэнерго" | J1: код 900151 | N1: ПС Нелазское, ф, Шулма очистные
B2: наименование предприятия | N2: наименование источника питания
N3: КТП-Ива
B4: ул, Горького, 99 | I4: Таблица № 1
B5: адрес
A6: почасовых записей показаний электрических счетчиков
A7: ='1'!A7:Q7 -> в режимный день 21 ДЕКАБРЯ 2022 г.
A8: 1630 | B8: 1628
A9: часы суток | B9: Активная энергия | J9: Реактивная энергия
B10: =N3 -> КТП-Ива | F10: =N4 -> 0 | J10: =B10 -> КТП-Ива | N10: =F10 -> 0
B11: Расчет, Коэф, | E11: 30 | F11: Расчет, Коэф, | I11: 120 | J11: Расчет, Коэф, | M11: =E11 -> 30 | N11: Расчет, Коэф, | Q11: =I11 -> 120
B12: показания счетчика | C12: разность | E12: расход эл,энергии за час | F12: показания счетчика | G12: разность | I12: расход эл,энергии за час | J12: показания счетчика | K12: разность | M12: расход эл,энергии за час | N12: показания счетчика | O12: разность | Q12: расход эл,энергии за час
A13: 1 | B13: 2 | C13: 3 | E13: 4 | F13: 5 | G13: 6 | I13: 7 | J13: 8 | K13: 9 | M13: 10 | N13: 11 | O13: 12 | Q13: 13
A14: 0
A15: 1 | E15: 7.89 | M15: 0
A16: 2 | E16: 12.21 | M16: 0
A17: 3 | E17: 11.67 | M17: 0
A18: 4 | E18: 10.98 | M18: 0
A19: 5 | E19: 8.01 | M19: 0
A20: 6 | E20: 9.03 | M20: 0
A21: 7 | E21: 8.07 | M21: 0
A22: 8 | E22: 8.73 | M22: 0
A23: 9 | E23: 9.99 | M23: 0
A24: 10 | E24: 12.12 | M24: 0
A25: 11 | E25: 11.88 | M25: 0
A26: 12 | E26: 12.36 | M26: 0
... A38: 24 | E38: 8.55 | M38: 0
A39: Итого | E39: =SUM(E15:E38) -> 260.94 | I39: =SUM(I15:I38) -> 0 | M39: =SUM(M15:M38) -> 0 | Q39: =SUM(Q15:Q38) -> 0
A40: 1, При наличии на предприятии отклонений от нормальных режимов электропотребления (временное изменение схем питания, остановка на ремонт, резкое снижение
A41: эл,потребления и т,д,) последние необходимо перечислить,
A42: Главный инженер АО "Вологдаоблэнерго" А,В, Чурляев
A43: составляется самим предприятием с соблюдением всех пунктов настоящей таблицы,

Sheet 22
B1: АО "Вологдаоблэнерго" | J1: код 900151 | N1: ПС Нелазское, ф, Крутец
B2: наименование предприятия | N2: наименование источника питания
N3: КТП-1 "Сад-3 ЧМК"
B4: ул, Горького, 99 | I4: Таблица № 1 | N4: КТП-2 "Сад-3 ЧМК"
B5: адрес
A6: почасовых записей показаний электрических счетчиков
A7: ='1'!A7:Q7 -> в режимный день 21 ДЕКАБРЯ 2022 г.
A8: 1630 | B8: 1628
A9: часы суток | B9: Активная энергия | J9: Реактивная энергия
B10: =N3 -> КТП-1 "Сад-3 ЧМК" | F10: =N4 -> КТП-2 "Сад-3 ЧМК" | J10: =B10 -> КТП-1 "Сад-3 ЧМК" | N10: =F10 -> КТП-2 "Сад-3 ЧМК"
B11: Расчет, Коэф, | E11: 60 | F11: Расчет, Коэф, | I11: 60 | J11: Расчет, Коэф, | M11: =E11 -> 60 | N11: Расчет, Коэф, | Q11: =I11 -> 60
B12: показания счетчика | C12: разность | E12: расход эл,энергии за час | F12: показания счетчика | G12: разность | I12: расход эл,энергии за час | J12: показания счетчика | K12: разность | M12: расход эл,энергии за час | N12: показания счетчика | O12: разность | Q12: расход эл,энергии за час
A13: 1 | B13: 2 | C13: 3 | E13: 4 | F13: 5 | G13: 6 | I13: 7 | J13: 8 | K13: 9 | M13: 10 | N13: 11 | O13: 12 | Q13: 13
A14: 0
A15: 1 | E15: 4.44 | I15: 21.6 | M15: 0 | Q15: 0
A16: 2 | E16: 4.5 | I16: 20.94 | M16: 0 | Q16: 0
A17: 3 | E17: 4.5 | I17: 20.16 | M17: 0 | Q17: 0
A18: 4 | E18: 4.56 | I18: 20.1 | M18: 0 | Q18: 0
A19: 5 | E19: 4.56 | I19: 20.58 | M19: 0 | Q19: 0
A20: 6 | E20: 4.5 | I20: 20.7 | M20: 0 | Q20: 0
A21: 7 | E21: 4.62 | I21: 22.02 | M21: 0 | Q21: 0
A22: 8 | E22: 4.56 | I22: 18.9 | M22: 0 | Q22: 0
A23: 9 | E23: 4.62 | I23: 20.88 | M23: 0 | Q23: 0
A24: 10 | E24: 4.14 | I24: 19.2 | M24: 0 | Q24: 0
A25: 11 | E25: 4.02 | I25: 18.48 | M25: 0 | Q25: 0
A26: 12 | E26: 4.08 | I26: 15.96 | M26: 0 | Q26: 0
... A38: 24 | E38: 4.68 | I38: 13.5 | M38: 0 | Q38: 0
A39: Итого | E39: =SUM(E15:E38) -> 107.34 | I39: =SUM(I15:I38) -> 552.42 | M39: =SUM(M15:M38) -> 0 | Q39: =SUM(Q15:Q38) -> 0
A40: 1, При наличии на предприятии отклонений от нормальных режимов электропотребления (временное изменение схем питания, остановка на ремонт, резкое снижение
A41: эл,потребления и т,д,) последние необходимо перечислить,
A42: Главный инженер АО "Вологдаоблэнерго" А,В, Чурляев
A43: составляется самим предприятием с соблюдением всех пунктов настоящей таблицы,

Sheet 23
B1: АО "Вологдаоблэнерго" | J1: код 900151 | N1: ПС Суда, ф, Андога
B2: наименование предприятия | N2: наименование источника питания
N3: ТП-243
B4: ул, Горького, 99 | I4: Таблица № 1 | N4: КТП-63 Кривец-1
B5: адрес
A6: почасовых записей показаний электрических счетчиков
A7: ='1'!A7:Q7 -> в режимный день 21 ДЕКАБРЯ 2022 г.
A8: 1630 | B8: 1628
A9: часы суток | B9: Активная энергия | J9: Реактивная энергия
B10: =N3 -> ТП-243 | F10: =N4 -> КТП-63 Кривец-1 | J10: =B10 -> ТП-243 | N10: =F10 -> КТП-63 Кривец-1
B11: Расчет, Коэф, | E11: 60 | F11: Расчет, Коэф, | I11: 20 | J11: Расчет, Коэф, | M11: =E11 -> 60 | N11: Расчет, Коэф, | Q11: =I11 -> 20
B12: показания счетчика | C12: разность | E12: расход эл,энергии за час | F12: показания счетчика | G12: разность | I12: расход эл,энергии за час | J12: показания счетчика | K12: разность | M12: расход эл,энергии за час | N12: показания счетчика | O12: разность | Q12: расход эл,энергии за час
A13: 1 | B13: 2 | C13: 3 | E13: 4 | F13: 5 | G13: 6 | I13: 7 | J13: 8 | K13: 9 | M13: 10 | N13: 11 | O13: 12 | Q13: 13
A14: 0
A15: 1 | E15: 0 | I15: 0.04 | M15: 0 | Q15: 0
A16: 2 | E16: 0 | I16: 0.04 | M16: 0 | Q16: 0
A17: 3 | E17: 0 | I17: 0.04 | M17: 0 | Q17: 0
A18: 4 | E18: 0 | I18: 0.04 | M18: 0 | Q18: 0
A19: 5 | E19: 0 | I19: 0.04 | M19: 0 | Q19: 0
A20: 6 | E20: 0 | I20: 0.04 | M20: 0 | Q20: 0
A21: 7 | E21: 0 | I21: 0.06 | M21: 0 | Q21: 0
A22: 8 | E22: 0 | I22: 0.04 | M22: 0 | Q22: 0
A23: 9 | E23: 0 | I23: 0.04 | M23: 0 | Q23: 0
A24: 10 | E24: 0 | I24: 0.04 | M24: 0 | Q24: 0
A25: 11 | E25: 0 | I25: 0.04 | M25: 0 | Q25: 0
A26: 12 | E26: 0 | I26: 0.04 | M26: 0 | Q26: 0
... A38: 24 | E38: 0 | I38: 0.04 | M38: 0 | Q38: 0
A39: Итого | E39: =SUM(E15:E38) -> 0 | I39: =SUM(I15:I38) -> 1 | M39: =SUM(M15:M38) -> 0 | Q39: =SUM(Q15:Q38) -> 0
A40: 1, При наличии на предприятии отклонений от нормальных режимов электропотребления (временное изменение схем питания, остановка на ремонт, резкое снижение
A41: эл,потребления и т,д,) последние необходимо перечислить,
A42: Главный инженер АО "Вологдаоблэнерго" А,В, Чурляев
A43: составляется самим предприятием с соблюдением всех пунктов настоящей таблицы,

Sheet 24
B1: АО "Вологдаоблэнерго" | J1: код 900151 | N1: ПС Суда, ф, Сойволовское
B2: наименование предприятия | N2: наименование источника питания
N3: КТП общества садоводов "Заря-2"
B4: ул, Горького, 99 | I4: Таблица № 1 | N4: КТП "Дачи"
B5: адрес
A6: почасовых записей показаний электрических счетчиков
A7: ='1'!A7:Q7 -> в режимный день 21 ДЕКАБРЯ 2022 г.
A8: 1630 | B8: 1628
A9: часы суток | B9: Активная энергия | J9: Реактивная энергия
B10: =N3 -> КТП общества садоводов "Заря-2" | F10: =N4 -> КТП "Дачи" | J10: =B10 -> КТП общества садоводов "Заря-2" | N10: =F10 -> КТП "Дачи"
B11: Расчет, Коэф, | E11: 40 | F11: Расчет, Коэф, | I11: 60 | J11: Расчет, Коэф, | M11: =E11 -> 40 | N11: Расчет, Коэф, | Q11: =I11 -> 60
B12: показания счетчика | C12: разность | E12: расход эл,энергии за час | F12: показания счетчика | G12: разность | I12: расход эл,энергии за час | J12: показания счетчика | K12: разность | M12: расход эл,энергии за час | N12: показания счетчика | O12: разность | Q12: расход эл,энергии за час
A13: 1 | B13: 2 | C13: 3 | E13: 4 | F13: 5 | G13: 6 | I13: 7 | J13: 8 | K13: 9 | M13: 10 | N13: 11 | O13: 12 | Q13: 13
A14: 0
A15: 1 | E15: 9.344 | I15: 7.44 | M15: 0 | Q15: 0
A16: 2 | E16: 8.76 | I16: 7.44 | M16: 0 | Q16: 0
A17: 3 | E17: 8.824 | I17: 7.476 | M17: 0 | Q17: 0
A18: 4 | E18: 9.392 | I18: 7.428 | M18: 0 | Q18: 0
A19: 5 | E19: 8.8 | I19: 7.428 | M19: 0 | Q19: 0
A20: 6 | E20: 9.08 | I20: 7.392 | M20: 0 | Q20: 0
A21: 7 | E21: 9.616 | I21: 7.404 | M21: 0 | Q21: 0
A22: 8 | E22: 9.16 | I22: 7.368 | M22: 0 | Q22: 0
A23: 9 | E23: 9.36 | I23: 7.26 | M23: 0 | Q23: 0
A24: 10 | E24: 9.592 | I24: 7.248 | M24: 0 | Q24: 0
A25: 11 | E25: 9.296 | I25: 7.896 | M25: 0 | Q25: 0
A26: 12 | E26: 9.28 | I26: 7.26 | M26: 0 | Q26: 0
... A38: 24 | E38: 9.264 | I38: 7.38 | M38: 0 | Q38: 0
A39: Итого | E39: =SUM(E15:E38) -> 225.56 | I39: =SUM(I15:I38) -> 178.008 | M39: =SUM(M15:M38) -> 0 | Q39: =SUM(Q15:Q38) -> 0
A40: 1, При наличии на предприятии отклонений от нормальных режимов электропотребления (временное изменение схем питания, остановка на ремонт, резкое снижение
A41: эл,потребления и т,д,) последние необходимо перечислить,
A42: Главный инженер АО "Вологдаоблэнерго" А,В, Чурляев
A43: составляется самим предприятием с соблюдением всех пунктов настоящей таблицы,

Sheet 25
B1: АО "Вологдаоблэнерго" | J1: код 900151 | N1: ПС Петринево, ф, Романово
B2: наименование предприятия | N2: наименование источника питания
N3: ТП-317
B4: ул, Горького, 99 | I4: Таблица № 1
B5: адрес
A6: почасовых записей показаний электрических счетчиков
A7: ='1'!A7:Q7 -> в режимный день 21 ДЕКАБРЯ 2022 г.
A8: 1630 | B8: 1628
A9: часы суток | B9: Активная энергия | J9: Реактивная энергия
B10: =N3 -> ТП-317 | F10: =N4 -> 0 | J10: =B10 -> ТП-317 | N10: =F10 -> 0
B11: Расчет, Коэф, | E11: 120 | F11: Расчет, Коэф, | I11: 120 | J11: Расчет, Коэф, | M11: =E11 -> 120 | N11: Расчет, Коэф, | Q11: =I11 -> 120
B12: показания счетчика | C12: разность | E12: расход эл,энергии за час | F12: показания счетчика | G12: разность | I12: расход эл,энергии за час | J12: показания счетчика | K12: разность | M12: расход эл,энергии за час | N12: показания счетчика | O12: разность | Q12: расход эл,энергии за час
A13: 1 | B13: 2 | C13: 3 | E13: 4 | F13: 5 | G13: 6 | I13: 7 | J13: 8 | K13: 9 | M13: 10 | N13: 11 | O13: 12 | Q13: 13
A14: 0
A15: 1 | E15: 7.98 | M15: 0
A16: 2 | E16: 7.14 | M16: 0
A17: 3 | E17: 6.24 | M17: 0
A18: 4 | E18: 7.32 | M18: 0
A19: 5 | E19: 9.9 | M19: 0
A20: 6 | E20: 10.92 | M20: 0
A21: 7 | E21: 13.26 | M21: 0
A22: 8 | E22: 8.1 | M22: 0
A23: 9 | E23: 10.02 | M23: 0
A24: 10 | E24: 11.34 | M24: 0
A25: 11 | E25: 10.02 | M25: 0
A26: 12 | E26: 9.66 | M26: 0
... A38: 24 | E38: 8.52 | M38: 0
A39: Итого | E39: =SUM(E15:E38) -> 261.18 | I39: =SUM(I15:I38) -> 0 | M39: =SUM(M15:M38) -> 0 | Q39: =SUM(Q15:Q38) -> 0
A40: 1, При наличии на предприятии отклонений от нормальных режимов электропотребления (временное изменение схем питания, остановка на ремонт, резкое снижение
A41: эл,потребления и т,д,) последние необходимо перечислить,
A42: Главный инженер АО "Вологдаоблэнерго" А,В, Чурляев
A43: составляется самим предприятием с соблюдением всех пунктов настоящей таблицы,

Sheet 26
B1: АО "Вологдаоблэнерго" | J1: код 900151 | N1: ПС Домозерово, ф,Дом-2
B2: наименование предприятия | N2: наименование источника питания
N3: ТП-Водозабор (встроен) В-1
B4: ул, Горького, 99 | I4: Таблица № 1 | N4: ТП-Водозабор (встроен) В-2
B5: адрес
A6: почасовых записей показаний электрических счетчиков
A7: ='1'!A7:Q7 -> в режимный день 21 ДЕКАБРЯ 2022 г.
A8: 1630 | B8: 1628
A9: часы суток | B9: Активная энергия | J9: Реактивная энергия
B10: =N3 -> ТП-Водозабор (встроен) В-1 | F10: =N4 -> ТП-Водозабор (встроен) В-2 | J10: =B10 -> ТП-Водозабор (встроен) В-1 | N10: =F10 -> ТП-Водозабор (встроен) В-2
B11: Расчет, Коэф, | E11: 20 | F11: Расчет, Коэф, | I11: 20 | J11: Расчет, Коэф, | M11: =E11 -> 20 | N11: Расчет, Коэф, | Q11: =I11 -> 20
B12: показания счетчика | C12: разность | E12: расход эл,энергии за час | F12: показания счетчика | G12: разность | I12: расход эл,энергии за час | J12: показания счетчика | K12: разность | M12: расход эл,энергии за час | N12: показания счетчика | O12: разность | Q12: расход эл,энергии за час
A13: 1 | B13: 2 | C13: 3 | E13: 4 | F13: 5 | G13: 6 | I13: 7 | J13: 8 | K13: 9 | M13: 10 | N13: 11 | O13: 12 | Q13: 13
A14: 0
A15: 1 | E15: 0 | I15: 36.82 | M15: 0 | Q15: 0
A16: 2 | E16: 0 | I16: 36.8 | M16: 0 | Q16: 0
A17: 3 | E17: 0 | I17: 36.9 | M17: 0 | Q17: 0
A18: 4 | E18: 0 | I18: 36.92 | M18: 0 | Q18: 0
A19: 5 | E19: 0 | I19: 36.7 | M19: 0 | Q19: 0
A20: 6 | E20: 0 | I20: 36.62 | M20: 0 | Q20: 0
A21: 7 | E21: 0 | I21: 33.94 | M21: 0 | Q21: 0
A22: 8 | E22: 0 | I22: 32.76 | M22: 0 | Q22: 0
A23: 9 | E23: 0 | I23: 32.32 | M23: 0 | Q23: 0
A24: 10 | E24: 0 | I24: 32.48 | M24: 0 | Q24: 0
A25: 11 | E25: 0 | I25: 32.46 | M25: 0 | Q25: 0
A26: 12 | E26: 0 | I26: 31.86 | M26: 0 | Q26: 0
... A38: 24 | E38: 0 | I38: 35.78 | M38: 0 | Q38: 0
A39: Итого | E39: =SUM(E15:E38) -> 0 | I39: =SUM(I15:I38) -> 841.46 | M39: =SUM(M15:M38) -> 0 | Q39: =SUM(Q15:Q38) -> 0
A40: 1, При наличии на предприятии отклонений от нормальных режимов электропотребления (временное изменение схем питания, остановка на ремонт, резкое снижение
A41: эл,потребления и т,д,) последние необходимо перечислить,
A42: Главный инженер АО "Вологдаоблэнерго" А,В, Чурляев
A43: составляется самим предприятием с соблюдением всех пунктов настоящей таблицы,

Sheet 27
B1: АО "Вологдаоблэнерго" | J1: код 900151 | N1: ПС Домозерово, ф,Дом-2
B2: наименование предприятия | N2: наименование источника питания
N3: ТП-Школа ПС Домозерово В-1
B4: ул, Горького, 99 | I4: Таблица № 1 | N4: ТП-Школа ПС Домозерово В-2
B5: адрес
A6: почасовых записей показаний электрических счетчиков
A7: ='1'!A7:Q7 -> в режимный день 21 ДЕКАБРЯ 2022 г.
A8: 1630 | B8: 1628
A9: часы суток | B9: Активная энергия | J9: Реактивная энергия
B10: =N3 -> ТП-Школа ПС Домозерово В-1 | F10: =N4 -> ТП-Школа ПС Домозерово В-2 | J10: =B10 -> ТП-Школа ПС Домозерово В-1 | N10: =F10 -> ТП-Школа ПС Домозерово В-2
B11: Расчет, Коэф, | E11: 120 | F11: Расчет, Коэф, | I11: 120 | J11: Расчет, Коэф, | M11: =E11 -> 120 | N11: Расчет, Коэф, | Q11: =I11 -> 120
B12: показания счетчика | C12: разность | E12: расход эл,энергии за час | F12: показания счетчика | G12: разность | I12: расход эл,энергии за час | J12: показания счетчика | K12: разность | M12: расход эл,энергии за час | N12: показания счетчика | O12: разность | Q12: расход эл,энергии за час
A13: 1 | B13: 2 | C13: 3 | E13: 4 | F13: 5 | G13: 6 | I13: 7 | J13: 8 | K13: 9 | M13: 10 | N13: 11 | O13: 12 | Q13: 13
A14: 0
A15: 1 | E15: 0 | I15: 29.496 | M15: 0 | Q15: 0
A16: 2 | E16: 0 | I16: 27.456 | M16: 0 | Q16: 0
A17: 3 | E17: 0 | I17: 27.624 | M17: 0 | Q17: 0
A18: 4 | E18: 0 | I18: 26.856 | M18: 0 | Q18: 0
A19: 5 | E19: 0 | I19: 26.52 | M19: 0 | Q19: 0
A20: 6 | E20: 0 | I20: 29.088 | M20: 0 | Q20: 0
A21: 7 | E21: 0 | I21: 34.512 | M21: 0 | Q21: 0
A22: 8 | E22: 0 | I22: 46.128 | M22: 0 | Q22: 0
A23: 9 | E23: 0 | I23: 53.76 | M23: 0 | Q23: 0
A24: 10 | E24: 0 | I24: 52.92 | M24: 0 | Q24: 0
A25: 11 | E25: 0 | I25: 51.312 | M25: 0 | Q25: 0
A26: 12 | E26: 0 | I26: 48.936 | M26: 0 | Q26: 0
... A38: 24 | E38: 0 | I38: 27.312 | M38: 0 | Q38: 0
A39: Итого | E39: =SUM(E15:E38) -> 0 | I39: =SUM(I15:I38) -> 876.744 | M39: =SUM(M15:M38) -> 0 | Q39: =SUM(Q15:Q38) -> 0
A40: 1, При наличии на предприятии отклонений от нормальных режимов электропотребления (временное изменение схем питания, остановка на ремонт, резкое снижение
A41: эл,потребления и т,д,) последние необходимо перечислить,
A42: Главный инженер АО "Вологдаоблэнерго" А,В, Чурляев
A43: составляется самим предприятием с соблюдением всех пунктов настоящей таблицы,

Sheet 28
B1: АО "Вологдаоблэнерго" | J1: код 900151 | N1: ПС Домозерово, ф,Дом-2
B2: наименование предприятия | N2: наименование источника питания
N3: КТП "Очистные" ПС Домозерово
B4: ул, Горького, 99 | I4: Таблица № 1 | N4: ТП "Детский сад" ПС Домозерово
B5: адрес
A6: почасовых записей показаний электрических счетчиков
A7: ='1'!A7:Q7 -> в режимный день 21 ДЕКАБРЯ 2022 г.
A8: 1630 | B8: 1628
A9: часы суток | B9: Активная энергия | J9: Реактивная энергия
B10: =N3 -> КТП "Очистные" ПС Домозерово | F10: =N4 -> ТП "Детский сад" ПС Домозерово | J10: =B10 -> КТП "Очистные" ПС Домозерово | N10: =F10 -> ТП "Детский сад" ПС Домозерово
B11: Расчет, Коэф, | E11: 60 | F11: Расчет, Коэф, | I11: 80 | J11: Расчет, Коэф, | M11: =E11 -> 60 | N11: Расчет, Коэф, | Q11: =I11 -> 80
B12: показания счетчика | C12: разность | E12: расход эл,энергии за час | F12: показания счетчика | G12: разность | I12: расход эл,энергии за час | J12: показания счетчика | K12: разность | M12: расход эл,энергии за час | N12: показания счетчика | O12: разность | Q12: расход эл,энергии за час
A13: 1 | B13: 2 | C13: 3 | E13: 4 | F13: 5 | G13: 6 | I13: 7 | J13: 8 | K13: 9 | M13: 10 | N13: 11 | O13: 12 | Q13: 13
A14: 0
A15: 1 | E15: 0.408 | I15: 22.64 | M15: 0 | Q15: 0
A16: 2 | E16: 0.384 | I16: 20.48 | M16: 0 | Q16: 0
A17: 3 | E17: 0.396 | I17: 19.84 | M17: 0 | Q17: 0
A18: 4 | E18: 0.516 | I18: 20.56 | M18: 0 | Q18: 0
A19: 5 | E19: 0.396 | I19: 19.04 | M19: 0 | Q19: 0
A20: 6 | E20: 0.612 | I20: 21.68 | M20: 0 | Q20: 0
A21: 7 | E21: 1.716 | I21: 31.04 | M21: 0 | Q21: 0
A22: 8 | E22: 0.924 | I22: 38.4 | M22: 0 | Q22: 0
A23: 9 | E23: 0.42 | I23: 33.68 | M23: 0 | Q23: 0
A24: 10 | E24: 0.156 | I24: 33.6 | M24: 0 | Q24: 0
A25: 11 | E25: 0.408 | I25: 31.68 | M25: 0 | Q25: 0
A26: 12 | E26: 0.444 | I26: 27.68 | M26: 0 | Q26: 0
... A38: 24 | E38: 0.372 | I38: 26.56 | M38: 0 | Q38: 0
A39: Итого | E39: =SUM(E15:E38) -> 16.488 | I39: =SUM(I15:I38) -> 739.92 | M39: =SUM(M15:M38) -> 0 | Q39: =SUM(Q15:Q38) -> 0
A40: 1, При наличии на предприятии отклонений от нормальных режимов электропотребления (временное изменение схем питания, остановка на ремонт, резкое снижение
A41: эл,потребления и т,д,) последние необходимо перечислить,
A42: Главный инженер АО "Вологдаоблэнерго" А,В, Чурляев
A43: составляется самим предприятием с соблюдением всех пунктов настоящей таблицы,

Sheet 29
B1: АО "Вологдаоблэнерго" | J1: код 900151 | N1: ПС Нелазское, ф, Цыково
B2: наименование предприятия | N2: наименование источника питания
N3: КТП-250кВА Зашекснинское
B4: ул, Горького, 99 | I4: Таблица № 1
B5: адрес
A6: почасовых записей показаний электрических счетчиков
A7: ='1'!A7:Q7 -> в режимный день 21 ДЕКАБРЯ 2022 г.
A8: 1630 | B8: 1628
A9: часы суток | B9: Активная энергия | J9: Реактивная энергия
B10: =N3 -> КТП-250кВА Зашекснинское | F10: =N4 -> 0 | J10: =B10 -> КТП-250кВА Зашекснинское | N10: =F10 -> 0
B11: Расчет, Коэф, | E11: 60 | F11: Расчет, Коэф, | I11: 120 | J11: Расчет, Коэф, | M11: =E11 -> 60 | N11: Расчет, Коэф, | Q11: =I11 -> 120
B12: показания счетчика | C12: разность | E12: расход эл,энергии за час | F12: показания счетчика | G12: разность | I12: расход эл,энергии за час | J12: показания счетчика | K12: разность | M12: расход эл,энергии за час | N12: показания счетчика | O12: разность | Q12: расход эл,энергии за час
A13: 1 | B13: 2 | C13: 3 | E13: 4 | F13: 5 | G13: 6 | I13: 7 | J13: 8 | K13: 9 | M13: 10 | N13: 11 | O13: 12 | Q13: 13
A14: 0
A15: 1 | E15: 0 | M15: 0
A16: 2 | E16: 0 | M16: 0
A17: 3 | E17: 0 | M17: 0
A18: 4 | E18: 0 | M18: 0
A19: 5 | E19: 0 | M19: 0
A20: 6 | E20: 0 | M20: 0
A21: 7 | E21: 0 | M21: 0
A22: 8 | E22: 0 | M22: 0
A23: 9 | E23: 0 | M23: 0
A24: 10 | E24: 0 | M24: 0
A25: 11 | E25: 0 | M25: 0
A26: 12 | E26: 0 | M26: 0
... A38: 24 | E38: 0 | M38: 0
A39: Итого | E39: =SUM(E15:E38) -> 0 | I39: =SUM(I15:I38) -> 0 | M39: =SUM(M15:M38) -> 0 | Q39: =SUM(Q15:Q38) -> 0
A40: 1, При наличии на предприятии отклонений от нормальных режимов электропотребления (временное изменение схем питания, остановка на ремонт, резкое снижение
A41: эл,потребления и т,д,) последние необходимо перечислить,
A42: Главный инженер АО "Вологдаоблэнерго" А,В, Чурляев
A43: составляется самим предприятием с соблюдением всех пунктов настоящей таблицы,

Sheet 30
B1: АО "Вологдаоблэнерго" | J1: код 900151 | N1: ПС Нелазское, ф, Починок
B2: наименование предприятия | N2: наименование источника питания
N3: КТП-Дачи "Березка"
B4: ул, Горького, 99 | I4: Таблица № 1 | N4: КТП-Пенек
B5: адрес
A6: почасовых записей показаний электрических счетчиков
A7: ='1'!A7:Q7 -> в режимный день 21 ДЕКАБРЯ 2022 г.
A8: 1630 | B8: 1628
A9: часы суток | B9: Активная энергия | J9: Реактивная энергия
B10: =N3 -> КТП-Дачи "Березка" | F10: =N4 -> КТП-Пенек | J10: =B10 -> КТП-Дачи "Березка" | N10: =F10 -> КТП-Пенек
B11: Расчет, Коэф, | E11: 80 | F11: Расчет, Коэф, | I11: 80 | J11: Расчет, Коэф, | M11: =E11 -> 80 | N11: Расчет, Коэф, | Q11: =I11 -> 80
B12: показания счетчика | C12: разность | E12: расход эл,энергии за час | F12: показания счетчика | G12: разность | I12: расход эл,энергии за час | J12: показания счетчика | K12: разность | M12: расход эл,энергии за час | N12: показания счетчика | O12: разность | Q12: расход эл,энергии за час
A13: 1 | B13: 2 | C13: 3 | E13: 4 | F13: 5 | G13: 6 | I13: 7 | J13: 8 | K13: 9 | M13: 10 | N13: 11 | O13: 12 | Q13: 13
A14: 0
A15: 1 | E15: 126.96 | I15: 354.56 | M15: 0 | Q15: 0
A16: 2 | E16: 124.56 | I16: 328.56 | M16: 0 | Q16: 0
A17: 3 | E17: 124.08 | I17: 318.16 | M17: 0 | Q17: 0
A18: 4 | E18: 128.88 | I18: 329.6 | M18: 0 | Q18: 0
A19: 5 | E19: 132.48 | I19: 310.88 | M19: 0 | Q19: 0
A20: 6 | E20: 134.32 | I20: 331.2 | M20: 0 | Q20: 0
A21: 7 | E21: 135.12 | I21: 362.24 | M21: 0 | Q21: 0
A22: 8 | E22: 136.48 | I22: 303.2 | M22: 0 | Q22: 0
A23: 9 | E23: 154.08 | I23: 329.52 | M23: 0 | Q23: 0
A24: 10 | E24: 155.04 | I24: 313.68 | M24: 0 | Q24: 0
A25: 11 | E25: 141.12 | I25: 315.04 | M25: 0 | Q25: 0
A26: 12 | E26: 145.84 | I26: 337.68 | M26: 0 | Q26: 0
... A38: 24 | E38: 148.8 | I38: 336 | M38: 0 | Q38: 0
A39: Итого | E39: =SUM(E15:E38) -> 3500.96 | I39: =SUM(I15:I38) -> 7906.64 | M39: =SUM(M15:M38) -> 0 | Q39: =SUM(Q15:Q38) -> 0
A40: 1, При наличии на предприятии отклонений от нормальных режимов электропотребления (временное изменение схем питания, остановка на ремонт, резкое снижение
A41: эл,потребления и т,д,) последние необходимо перечислить,
A42: Главный инженер АО "Вологдаоблэнерго" А,В, Чурляев
A43: составляется самим предприятием с соблюдением всех пунктов настоящей таблицы,

Sheet 31
B1: АО "Вологдаоблэнерго" | J1: код 900151 | N1: ПС Нелазское, ф, Починок
B2: наименование предприятия | N2: наименование источника питания
N3: КТП-Кацитадзе
B4: ул, Горького, 99 | I4: Таблица № 1 | N4: ТП-75
B5: адрес
A6: почасовых записей показаний электрических счетчиков
A7: ='1'!A7:Q7 -> в режимный день 21 ДЕКАБРЯ 2022 г.
A8: 1630 | B8: 1628
A9: часы суток | B9: Активная энергия | J9: Реактивная энергия
B10: =N3 -> КТП-Кацитадзе | F10: =N4 -> ТП-75 | J10: =B10 -> КТП-Кацитадзе | N10: =F10 -> ТП-75
B11: Расчет, Коэф, | E11: 30 | F11: Расчет, Коэф, | I11: 80 | J11: Расчет, Коэф, | M11: =E11 -> 30 | N11: Расчет, Коэф, | Q11: 80
B12: показания счетчика | C12: разность | E12: расход эл,энергии за час | F12: показания счетчика | G12: разность | I12: расход эл,энергии за час | J12: показания счетчика | K12: разность | M12: расход эл,энергии за час | N12: показания счетчика | O12: разность | Q12: расход эл,энергии за час
A13: 1 | B13: 2 | C13: 3 | E13: 4 | F13: 5 | G13: 6 | I13: 7 | J13: 8 | K13: 9 | M13: 10 | N13: 11 | O13: 12 | Q13: 13
A14: 0
A15: 1 | E15: 37.02 | I15: 163.6 | M15: 0 | Q15: 0
A16: 2 | E16: 35.1 | I16: 167.68 | M16: 0 | Q16: 0
A17: 3 | E17: 32.49 | I17: 165.6 | M17: 0 | Q17: 0
A18: 4 | E18: 31.44 | I18: 186.16 | M18: 0 | Q18: 0
A19: 5 | E19: 34.11 | I19: 181.36 | M19: 0 | Q19: 0
A20: 6 | E20: 31.98 | I20: 186.48 | M20: 0 | Q20: 0
A21: 7 | E21: 31.47 | I21: 188.72 | M21: 0 | Q21: 0
A22: 8 | E22: 33.33 | I22: 196.64 | M22: 0 | Q22: 0
A23: 9 | E23: 29.85 | I23: 192.64 | M23: 0 | Q23: 0
A24: 10 | E24: 33.87 | I24: 195.36 | M24: 0 | Q24: 0
A25: 11 | E25: 36.72 | I25: 207.84 | M25: 0 | Q25: 0
A26: 12 | E26: 31.77 | I26: 197.84 | M26: 0 | Q26: 0
... A38: 24 | E38: 39.39 | I38: 185.92 | M38: 0 | Q38: 0
A39: Итого | E39: =SUM(E15:E38) -> 821.01 | I39: =SUM(I15:I38) -> 4560.96 | M39: =SUM(M15:M38) -> 0 | Q39: =SUM(Q15:Q38) -> 0
A40: 1, При наличии на предприятии отклонений от нормальных режимов электропотребления (временное изменение схем питания, остановка на ремонт, резкое снижение
A41: эл,потребления и т,д,) последние необходимо перечислить,
A42: Главный инженер АО "Вологдаоблэнерго" А,В, Чурляев
A43: составляется самим предприятием с соблюдением всех пунктов настоящей таблицы,

Sheet 32
B1: АО "Вологдаоблэнерго" | J1: код 900151 | N1: ПС Домозерово, ф, Починок
B2: наименование предприятия | N2: наименование источника питания
N3: КТП-Коттеджи
B4: ул, Горького, 99 | I4: Таблица № 1 | N4: КТП-118 (Горизонт)
B5: адрес
A6: почасовых записей показаний электрических счетчиков
A7: ='1'!A7:Q7 -> в режимный день 21 ДЕКАБРЯ 2022 г.
A8: 1630 | B8: 1628
A9: часы суток | B9: Активная энергия | J9: Реактивная энергия
B10: =N3 -> КТП-Коттеджи | F10: =N4 -> КТП-118 (Горизонт) | J10: =B10 -> КТП-Коттеджи | N10: =F10 -> КТП-118 (Горизонт)
B11: Расчет, Коэф, | E11: 60 | F11: Расчет, Коэф, | I11: 80 | J11: Расчет, Коэф, | M11: =E11 -> 60 | N11: Расчет, Коэф, | Q11: =I11 -> 80
B12: показания счетчика | C12: разность | E12: расход эл,энергии за час | F12: показания счетчика | G12: разность | I12: расход эл,энергии за час | J12: показания счетчика | K12: разность | M12: расход эл,энергии за час | N12: показания счетчика | O12: разность | Q12: расход эл,энергии за час
A13: 1 | B13: 2 | C13: 3 | E13: 4 | F13: 5 | G13: 6 | I13: 7 | J13: 8 | K13: 9 | M13: 10 | N13: 11 | O13: 12 | Q13: 13
A14: 0
A15: 1 | E15: 39.756 | I15: 88.464 | M15: 0 | Q15: 0
A16: 2 | E16: 39.564 | I16: 86.048 | M16: 0 | Q16: 0
A17: 3 | E17: 38.496 | I17: 82.88 | M17: 0 | Q17: 0
A18: 4 | E18: 39 | I18: 89.024 | M18: 0 | Q18: 0
A19: 5 | E19: 40.896 | I19: 82.608 | M19: 0 | Q19: 0
A20: 6 | E20: 40.68 | I20: 96.224 | M20: 0 | Q20: 0
A21: 7 | E21: 41.088 | I21: 95.712 | M21: 0 | Q21: 0
A22: 8 | E22: 43.992 | I22: 92.656 | M22: 0 | Q22: 0
A23: 9 | E23: 43.98 | I23: 85.328 | M23: 0 | Q23: 0
A24: 10 | E24: 44.568 | I24: 96.352 | M24: 0 | Q24: 0
A25: 11 | E25: 42.84 | I25: 97.76 | M25: 0 | Q25: 0
A26: 12 | E26: 40.2 | I26: 98.528 | M26: 0 | Q26: 0
... A38: 24 | E38: 42.78 | I38: 97.968 | M38: 0 | Q38: 0
A39: Итого | E39: =SUM(E15:E38) -> 1003.14 | I39: =SUM(I15:I38) -> 2345.6 | M39: =SUM(M15:M38) -> 0 | Q39: =SUM(Q15:Q38) -> 0
A40: 1, При наличии на предприятии отклонений от нормальных режимов электропотребления (временное изменение схем питания, остановка на ремонт, резкое снижение
A41: эл,потребления и т,д,) последние необходимо перечислить,
A42: Главный инженер АО "Вологдаоблэнерго" А,В, Чурляев
A43: составляется самим предприятием с соблюдением всех пунктов настоящей таблицы,

Sheet 33
B1: АО "Вологдаоблэнерго" | J1: код 900151 | N1: ПС Домозерово, ф, Жары
B2: наименование предприятия | N2: наименование источника питания
N3: ТП-79
B4: ул, Горького, 99 | I4: Таблица № 1
B5: адрес
A6: почасовых записей показаний электрических счетчиков
A7: ='1'!A7:Q7 -> в режимный день 21 ДЕКАБРЯ 2022 г.
A8: 1630 | B8: 1628
A9: часы суток | B9: Активная энергия | J9: Реактивная энергия
B10: =N3 -> ТП-79 | F10: =N4 -> 0 | J10: =B10 -> ТП-79 | N10: =F10 -> 0
B11: Расчет, Коэф, | E11: 40 | F11: Расчет, Коэф, | I11: 120 | J11: Расчет, Коэф, | M11: =E11 -> 40 | N11: Расчет, Коэф, | Q11: =I11 -> 120
B12: показания счетчика | C12: разность | E12: расход эл,энергии за час | F12: показания счетчика | G12: разность | I12: расход эл,энергии за час | J12: показания счетчика | K12: разность | M12: расход эл,энергии за час | N12: показания счетчика | O12: разность | Q12: расход эл,энергии за час
A13: 1 | B13: 2 | C13: 3 | E13: 4 | F13: 5 | G13: 6 | I13: 7 | J13: 8 | K13: 9 | M13: 10 | N13: 11 | O13: 12 | Q13: 13
A14: 0
A15: 1 | E15: 6.22 | M15: 0
A16: 2 | E16: 6.18 | M16: 0
A17: 3 | E17: 6.24 | M17: 0
A18: 4 | E18: 6.04 | M18: 0
A19: 5 | E19: 6.32 | M19: 0
A20: 6 | E20: 6.08 | M20: 0
A21: 7 | E21: 5.68 | M21: 0
A22: 8 | E22: 5.54 | M22: 0
A23: 9 | E23: 5.38 | M23: 0
A24: 10 | E24: 5.4 | M24: 0
A25: 11 | E25: 6.44 | M25: 0
A26: 12 | E26: 6.32 | M26: 0
... A38: 24 | E38: 9.66 | M38: 0
A39: Итого | E39: =SUM(E15:E38) -> 148.48 | I39: =SUM(I15:I38) -> 0 | M39: =SUM(M15:M38) -> 0 | Q39: =SUM(Q15:Q38) -> 0
A40: 1, При наличии на предприятии отклонений от нормальных режимов электропотребления (временное изменение схем питания, остановка на ремонт, резкое снижение
A41: эл,потребления и т,д,) последние необходимо перечислить,
A42: Главный инженер АО "Вологдаоблэнерго" А,В, Чурляев
A43: составляется самим предприятием с соблюдением всех пунктов настоящей таблицы,

Sheet 34
B1: АО "Вологдаоблэнерго" | J1: код 900151 | N1: ПС Батран, ф, Гоша
B2: наименование предприятия | N2: наименование источника питания
N3: ТП-72
B4: ул, Горького, 99 | I4: Таблица № 1 | N4: МТП Гоша-2
B5: адрес
A6: почасовых записей показаний электрических счетчиков
A7: ='1'!A7:Q7 -> в режимный день 21 ДЕКАБРЯ 2022 г.
A8: 1630 | B8: 1628
A9: часы суток | B9: Активная энергия | J9: Реактивная энергия
B10: =N3 -> ТП-72 | F10: =N4 -> МТП Гоша-2 | J10: =B10 -> ТП-72 | N10: =F10 -> МТП Гоша-2
B11: Расчет, Коэф, | E11: 50 | F11: Расчет, Коэф, | I11: 20 | J11: Расчет, Коэф, | M11: =E11 -> 50 | N11: Расчет, Коэф, | Q11: =I11 -> 20
B12: показания счетчика | C12: разность | E12: расход эл,энергии за час | F12: показания счетчика | G12: разность | I12: расход эл,энергии за час | J12: показания счетчика | K12: разность | M12: расход эл,энергии за час | N12: показания счетчика | O12: разность | Q12: расход эл,энергии за час
A13: 1 | B13: 2 | C13: 3 | E13: 4 | F13: 5 | G13: 6 | I13: 7 | J13: 8 | K13: 9 | M13: 10 | N13: 11 | O13: 12 | Q13: 13
A14: 0
A15: 1 | E15: 1.25 | I15: 0 | M15: 0 | Q15: 0
A16: 2 | E16: 1.45 | I16: 0 | M16: 0 | Q16: 0
A17: 3 | E17: 1.5 | I17: 0 | M17: 0 | Q17: 0
A18: 4 | E18: 1.2 | I18: 0 | M18: 0 | Q18: 0
A19: 5 | E19: 1.45 | I19: 0 | M19: 0 | Q19: 0
A20: 6 | E20: 1.5 | I20: 0 | M20: 0 | Q20: 0
A21: 7 | E21: 1.25 | I21: 0 | M21: 0 | Q21: 0
A22: 8 | E22: 1.4 | I22: 0 | M22: 0 | Q22: 0
A23: 9 | E23: 1.25 | I23: 0 | M23: 0 | Q23: 0
A24: 10 | E24: 1.4 | I24: 0 | M24: 0 | Q24: 0
A25: 11 | E25: 1.45 | I25: 0 | M25: 0 | Q25: 0
A26: 12 | E26: 1.2 | I26: 0 | M26: 0 | Q26: 0
... A38: 24 | E38: 1.25 | I38: 0 | M38: 0 | Q38: 0
A39: Итого | E39: =SUM(E15:E38) -> 32.5 | I39: =SUM(I15:I38) -> 0 | M39: =SUM(M15:M38) -> 0 | Q39: =SUM(Q15:Q38) -> 0
A40: 1, При наличии на предприятии отклонений от нормальных режимов электропотребления (временное изменение схем питания, остановка на ремонт, резкое снижение
A41: эл,потребления и т,д,) последние необходимо перечислить,
A42: Главный инженер АО "Вологдаоблэнерго" А,В, Чурляев
A43: составляется самим предприятием с соблюдением всех пунктов настоящей таблицы,

Sheet 35
B1: АО "Вологдаоблэнерго" | J1: код 900151 | N1: ПС Южная, ф, Матинга
B2: наименование предприятия | N2: наименование источника питания
N3: ТП-55
B4: ул, Горького, 99 | I4: Таблица № 1
B5: адрес
A6: почасовых записей показаний электрических счетчиков
A7: ='1'!A7:Q7 -> в режимный день 21 ДЕКАБРЯ 2022 г.
A8: 1630 | B8: 1628
A9: часы суток | B9: Активная энергия | J9: Реактивная энергия
B10: =N3 -> ТП-55 | F10: =N4 -> 0 | J10: =B10 -> ТП-55 | N10: =F10 -> 0
B11: Расчет, Коэф, | E11: 30 | F11: Расчет, Коэф, | I11: 120 | J11: Расчет, Коэф, | M11: =E11 -> 30 | N11: Расчет, Коэф, | Q11: =I11 -> 120
B12: показания счетчика | C12: разность | E12: расход эл,энергии за час | F12: показания счетчика | G12: разность | I12: расход эл,энергии за час | J12: показания счетчика | K12: разность | M12: расход эл,энергии за час | N12: показания счетчика | O12: разность | Q12: расход эл,энергии за час
A13: 1 | B13: 2 | C13: 3 | E13: 4 | F13: 5 | G13: 6 | I13: 7 | J13: 8 | K13: 9 | M13: 10 | N13: 11 | O13: 12 | Q13: 13
A14: 0
A15: 1 | E15: 19.35 | M15: 0
A16: 2 | E16: 19.53 | M16: 0
A17: 3 | E17: 19.41 | M17: 0
A18: 4 | E18: 19.47 | M18: 0
A19: 5 | E19: 19.32 | M19: 0
A20: 6 | E20: 19.47 | M20: 0
A21: 7 | E21: 19.77 | M21: 0
A22: 8 | E22: 20.04 | M22: 0
A23: 9 | E23: 20.82 | M23: 0
A24: 10 | E24: 23.46 | M24: 0
A25: 11 | E25: 23.49 | M25: 0
A26: 12 | E26: 25.08 | M26: 0
... A38: 24 | E38: 20.34 | M38: 0
A39: Итого | E39: =SUM(E15:E38) -> 528.75 | I39: =SUM(I15:I38) -> 0 | M39: =SUM(M15:M38) -> 0 | Q39: =SUM(Q15:Q38) -> 0
A40: 1, При наличии на предприятии отклонений от нормальных режимов электропотребления (временное изменение схем питания, остановка на ремонт, резкое снижение
A41: эл,потребления и т,д,) последние необходимо перечислить,
A42: Главный инженер АО "Вологдаоблэнерго" А,В, Чурляев
A43: составляется самим предприятием с соблюдением всех пунктов настоящей таблицы,

Sheet 36
B1: АО "Вологдаоблэнерго" | J1: код 900151 | N1: ПС Ирдоматка, ф, Ирдоматка-1
B2: наименование предприятия | N2: наименование источника питания
N3: ТП-25
B4: ул, Горького, 99 | I4: Таблица № 1 | N4: ТП-80
B5: адрес
A6: почасовых записей показаний электрических счетчиков
A7: ='1'!A7:Q7 -> в режимный день 21 ДЕКАБРЯ 2022 г.
A8: 1630 | B8: 1628
A9: часы суток | B9: Активная энергия | J9: Реактивная энергия
B10: =N3 -> ТП-25 | F10: =N4 -> ТП-80 | J10: =B10 -> ТП-25 | N10: =F10 -> ТП-80
B11: Расчет, Коэф, | E11: 20 | F11: Расчет, Коэф, | I11: 40 | J11: Расчет, Коэф, | M11: =E11 -> 20 | N11: Расчет, Коэф, | Q11: =I11 -> 40
B12: показания счетчика | C12: разность | E12: расход эл,энергии за час | F12: показания счетчика | G12: разность | I12: расход эл,энергии за час | J12: показания счетчика | K12: разность | M12: расход эл,энергии за час | N12: показания счетчика | O12: разность | Q12: расход эл,энергии за час
A13: 1 | B13: 2 | C13: 3 | E13: 4 | F13: 5 | G13: 6 | I13: 7 | J13: 8 | K13: 9 | M13: 10 | N13: 11 | O13: 12 | Q13: 13
A14: 0
A15: 1 | E15: 10.3 | I15: 30.62 | M15: 0 | Q15: 0
A16: 2 | E16: 10.24 | I16: 29.72 | M16: 0 | Q16: 0
A17: 3 | E17: 9.76 | I17: 30.86 | M17: 0 | Q17: 0
A18: 4 | E18: 9.62 | I18: 28.08 | M18: 0 | Q18: 0
A19: 5 | E19: 7.56 | I19: 31.38 | M19: 0 | Q19: 0
A20: 6 | E20: 7 | I20: 36.28 | M20: 0 | Q20: 0
A21: 7 | E21: 10 | I21: 42.9 | M21: 0 | Q21: 0
A22: 8 | E22: 10.32 | I22: 44.2 | M22: 0 | Q22: 0
A23: 9 | E23: 10.32 | I23: 43.16 | M23: 0 | Q23: 0
A24: 10 | E24: 14.88 | I24: 44.44 | M24: 0 | Q24: 0
A25: 11 | E25: 10.6 | I25: 42.86 | M25: 0 | Q25: 0
A26: 12 | E26: 10.3 | I26: 41.32 | M26: 0 | Q26: 0
... A38: 24 | E38: 18.36 | I38: 37.42 | M38: 0 | Q38: 0
A39: Итого | E39: =SUM(E15:E38) -> 254.08 | I39: =SUM(I15:I38) -> 998.92 | M39: =SUM(M15:M38) -> 0 | Q39: =SUM(Q15:Q38) -> 0
A40: 1, При наличии на предприятии отклонений от нормальных режимов электропотребления (временное изменение схем питания, остановка на ремонт, резкое снижение
A41: эл,потребления и т,д,) последние необходимо перечислить,
A42: Главный инженер АО "Вологдаоблэнерго" А,В, Чурляев
A43: составляется самим предприятием с соблюдением всех пунктов настоящей таблицы,

Sheet 37
B1: АО "Вологдаоблэнерго" | J1: код 900151 | N1: ПС Ирдоматка, ф, Ирдоматка-1
B2: наименование предприятия | N2: наименование источника питания
N3: ТП-209 Тепловая
B4: ул, Горького, 99 | I4: Таблица № 1 | N4: КТП-210 Ирдоматка
B5: адрес
A6: почасовых записей показаний электрических счетчиков
A7: ='1'!A7:Q7 -> в режимный день 21 ДЕКАБРЯ 2022 г.
A8: 1630 | B8: 1628
A9: часы суток | B9: Активная энергия | J9: Реактивная энергия
B10: =N3 -> ТП-209 Тепловая | F10: =N4 -> КТП-210 Ирдоматка | J10: =B10 -> ТП-209 Тепловая | N10: =F10 -> КТП-210 Ирдоматка
B11: Расчет, Коэф, | E11: 80 | F11: Расчет, Коэф, | I11: 80 | J11: Расчет, Коэф, | M11: =E11 -> 80 | N11: Расчет, Коэф, | Q11: =I11 -> 80
B12: показания счетчика | C12: разность | E12: расход эл,энергии за час | F12: показания счетчика | G12: разность | I12: расход эл,энергии за час | J12: показания счетчика | K12: разность | M12: расход эл,энергии за час | N12: показания счетчика | O12: разность | Q12: расход эл,энергии за час
A13: 1 | B13: 2 | C13: 3 | E13: 4 | F13: 5 | G13: 6 | I13: 7 | J13: 8 | K13: 9 | M13: 10 | N13: 11 | O13: 12 | Q13: 13
A14: 0
A15: 1 | E15: 63.92 | I15: 14.64 | M15: 0 | Q15: 0
A16: 2 | E16: 55.28 | I16: 12.64 | M16: 0 | Q16: 0
A17: 3 | E17: 55.04 | I17: 9.68 | M17: 0 | Q17: 0
A18: 4 | E18: 56.8 | I18: 7.96 | M18: 0 | Q18: 0
A19: 5 | E19: 54.88 | I19: 9.68 | M19: 0 | Q19: 0
A20: 6 | E20: 55.2 | I20: 9.64 | M20: 0 | Q20: 0
A21: 7 | E21: 55.2 | I21: 14.12 | M21: 0 | Q21: 0
A22: 8 | E22: 69.84 | I22: 21.8 | M22: 0 | Q22: 0
A23: 9 | E23: 79.84 | I23: 19.88 | M23: 0 | Q23: 0
A24: 10 | E24: 94.16 | I24: 18.6 | M24: 0 | Q24: 0
A25: 11 | E25: 93.92 | I25: 18.64 | M25: 0 | Q25: 0
A26: 12 | E26: 94.08 | I26: 20.44 | M26: 0 | Q26: 0
... A38: 24 | E38: 60.96 | I38: 16.12 | M38: 0 | Q38: 0
A39: Итого | E39: =SUM(E15:E38) -> 1867.12 | I39: =SUM(I15:I38) -> 434.04 | M39: =SUM(M15:M38) -> 0 | Q39: =SUM(Q15:Q38) -> 0
A40: 1, При наличии на предприятии отклонений от нормальных режимов электропотребления (временное изменение схем питания, остановка на ремонт, резкое снижение
A41: эл,потребления и т,д,) последние необходимо перечислить,
A42: Главный инженер АО "Вологдаоблэнерго" А,В, Чурляев
A43: составляется самим предприятием с соблюдением всех пунктов настоящей таблицы,

Sheet 38
B1: АО "Вологдаоблэнерго" | J1: код 900151 | N1: ПС Ирдоматка ф,Даргун
B2: наименование предприятия | N2: наименование источника питания
N3: ТП-113
B4: ул, Горького, 99 | I4: Таблица № 1
B5: адрес
A6: почасовых записей показаний электрических счетчиков
A7: ='1'!A7:Q7 -> в режимный день 21 ДЕКАБРЯ 2022 г.
A8: 1630 | B8: 1628
A9: часы суток | B9: Активная энергия | J9: Реактивная энергия
B10: =N3 -> ТП-113 | F10: =N4 -> 0 | J10: =B10 -> ТП-113 | N10: =F10 -> 0
B11: Расчет, Коэф, | E11: 80 | F11: Расчет, Коэф, | I11: 120 | J11: Расчет, Коэф, | M11: =E11 -> 80 | N11: Расчет, Коэф, | Q11: =I11 -> 120
B12: показания счетчика | C12: разность | E12: расход эл,энергии за час | F12: показания счетчика | G12: разность | I12: расход эл,энергии за час | J12: показания счетчика | K12: разность | M12: расход эл,энергии за час | N12: показания счетчика | O12: разность | Q12: расход эл,энергии за час
A13: 1 | B13: 2 | C13: 3 | E13: 4 | F13: 5 | G13: 6 | I13: 7 | J13: 8 | K13: 9 | M13: 10 | N13: 11 | O13: 12 | Q13: 13
A14: 0
A15: 1 | E15: 0 | M15: 0
A16: 2 | E16: 0 | M16: 0
A17: 3 | E17: 0 | M17: 0
A18: 4 | E18: 0 | M18: 0
A19: 5 | E19: 0 | M19: 0
A20: 6 | E20: 0 | M20: 0
A21: 7 | E21: 0 | M21: 0
A22: 8 | E22: 0 | M22: 0
A23: 9 | E23: 0 | M23: 0
A24: 10 | E24: 0 | M24: 0
A25: 11 | E25: 0 | M25: 0
A26: 12 | E26: 0 | M26: 0
... A38: 24 | E38: 0 | M38: 0
A39: Итого | E39: =SUM(E15:E38) -> 0 | I39: =SUM(I15:I38) -> 0 | M39: =SUM(M15:M38) -> 0 | Q39: =SUM(Q15:Q38) -> 0
A40: 1, При наличии на предприятии отклонений от нормальных режимов электропотребления (временное изменение схем питания, остановка на ремонт, резкое снижение
A41: эл,потребления и т,д,) последние необходимо перечислить,
A42: Главный инженер АО "Вологдаоблэнерго" А,В, Чурляев
A43: составляется самим предприятием с соблюдением всех пунктов настоящей таблицы,

Sheet 39
B1: АО "Вологдаоблэнерго" | J1: код 900151 | N1: ПС Ирдоматка, ф, Ирдоматка-1
B2: наименование предприятия | N2: наименование источника питания
N3: КТП-400 Дачи "Пулово Борисово"
B4: ул, Горького, 99 | I4: Таблица № 1
B5: адрес
A6: почасовых записей показаний электрических счетчиков
A7: ='1'!A7:Q7 -> в режимный день 21 ДЕКАБРЯ 2022 г.
A8: 1630 | B8: 1628
A9: часы суток | B9: Активная энергия | J9: Реактивная энергия
B10: =N3 -> КТП-400 Дачи "Пулово Борисово" | F10: =N4 -> 0 | J10: =B10 -> КТП-400 Дачи "Пулово Борисово" | N10: =F10 -> 0
B11: Расчет, Коэф, | E11: 60 | F11: Расчет, Коэф, | I11: 120 | J11: Расчет, Коэф, | M11: =E11 -> 60 | N11: Расчет, Коэф, | Q11: =I11 -> 120
B12: показания счетчика | C12: разность | E12: расход эл,энергии за час | F12: показания счетчика | G12: разность | I12: расход эл,энергии за час | J12: показания счетчика | K12: разность | M12: расход эл,энергии за час | N12: показания счетчика | O12: разность | Q12: расход эл,энергии за час
A13: 1 | B13: 2 | C13: 3 | E13: 4 | F13: 5 | G13: 6 | I13: 7 | J13: 8 | K13: 9 | M13: 10 | N13: 11 | O13: 12 | Q13: 13
A14: 0
A15: 1 | E15: 0 | M15: 0
A16: 2 | E16: 0 | M16: 0
A17: 3 | E17: 0 | M17: 0
A18: 4 | E18: 0 | M18: 0
A19: 5 | E19: 0 | M19: 0
A20: 6 | E20: 0 | M20: 0
A21: 7 | E21: 0 | M21: 0
A22: 8 | E22: 0 | M22: 0
A23: 9 | E23: 0 | M23: 0
A24: 10 | E24: 0 | M24: 0
A25: 11 | E25: 0 | M25: 0
A26: 12 | E26: 0 | M26: 0
... A38: 24 | E38: 0 | M38: 0
A39: Итого | E39: =SUM(E15:E38) -> 0 | I39: =SUM(I15:I38) -> 0 | M39: =SUM(M15:M38) -> 0 | Q39: =SUM(Q15:Q38) -> 0
A40: 1, При наличии на предприятии отклонений от нормальных режимов электропотребления (временное изменение схем питания, остановка на ремонт, резкое снижение
A41: эл,потребления и т,д,) последние необходимо перечислить,
A42: Главный инженер АО "Вологдаоблэнерго" А,В, Чурляев
A43: составляется самим предприятием с соблюдением всех пунктов настоящей таблицы,

Sheet 40
B1: АО "Вологдаоблэнерго" | J1: код 900151 | N1: ПС Абакаеово ф, Осеевская
B2: наименование предприятия | N2: наименование источника питания
N3: ТП-Лесопильных цех (д,Заручьевье)
B4: ул, Горького, 99 | I4: Таблица № 1
B5: адрес
A6: почасовых записей показаний электрических счетчиков
A7: ='1'!A7:Q7 -> в режимный день 21 ДЕКАБРЯ 2022 г.
A8: 1630 | B8: 1628
A9: часы суток | B9: Активная энергия | J9: Реактивная энергия
B10: =N3 -> ТП-Лесопильных цех (д,Заручьевье) | F10: =N4 -> 0 | J10: =B10 -> ТП-Лесопильных цех (д,Заручьевье) | N10: =F10 -> 0
B11: Расчет, Коэф, | E11: 30 | F11: Расчет, Коэф, | I11: 120 | J11: Расчет, Коэф, | M11: =E11 -> 30 | N11: Расчет, Коэф, | Q11: =I11 -> 120
B12: показания счетчика | C12: разность | E12: расход эл,энергии за час | F12: показания счетчика | G12: разность | I12: расход эл,энергии за час | J12: показания счетчика | K12: разность | M12: расход эл,энергии за час | N12: показания счетчика | O12: разность | Q12: расход эл,энергии за час
A13: 1 | B13: 2 | C13: 3 | E13: 4 | F13: 5 | G13: 6 | I13: 7 | J13: 8 | K13: 9 | M13: 10 | N13: 11 | O13: 12 | Q13: 13
A14: 0
A15: 1 | E15: 0.195 | M15: 0
A16: 2 | E16: 0.165 | M16: 0
A17: 3 | E17: 0.165 | M17: 0
A18: 4 | E18: 0.15 | M18: 0
A19: 5 | E19: 0.15 | M19: 0
A20: 6 | E20: 0.51 | M20: 0
A21: 7 | E21: 1.425 | M21: 0
A22: 8 | E22: 11.325 | M22: 0
A23: 9 | E23: 12.285 | M23: 0
A24: 10 | E24: 9.765 | M24: 0
A25: 11 | E25: 11.52 | M25: 0
A26: 12 | E26: 9.885 | M26: 0
... A38: 24 | E38: 0.435 | M38: 0
A39: Итого | E39: =SUM(E15:E38) -> 97.05 | I39: =SUM(I15:I38) -> 0 | M39: =SUM(M15:M38) -> 0 | Q39: =SUM(Q15:Q38) -> 0
A40: 1, При наличии на предприятии отклонений от нормальных режимов электропотребления (временное изменение схем питания, остановка на ремонт, резкое снижение
A41: эл,потребления и т,д,) последние необходимо перечислить,
A42: Главный инженер АО "Вологдаоблэнерго" А,В, Чурляев
A43: составляется самим предприятием с соблюдением всех пунктов настоящей таблицы,

Sheet 41
B1: АО "Вологдаоблэнерго" | J1: код 900151 | N1: ПС Новые Углы ф, Кораблево
B2: наименование предприятия | N2: наименование источника питания
N3: ТП-3 Общежитие В-1
B4: ул, Горького, 99 | I4: Таблица № 1 | N4: ТП-3 Общежитие В-2
B5: адрес
A6: почасовых записей показаний электрических счетчиков
A7: ='1'!A7:Q7 -> в режимный день 21 ДЕКАБРЯ 2022 г.
A8: 1630 | B8: 1628
A9: часы суток | B9: Активная энергия | J9: Реактивная энергия
B10: =N3 -> ТП-3 Общежитие В-1 | F10: =N4 -> ТП-3 Общежитие В-2 | J10: =B10 -> ТП-3 Общежитие В-1 | N10: =F10 -> ТП-3 Общежитие В-2
B11: Расчет, Коэф, | E11: 60 | F11: Расчет, Коэф, | I11: 60 | J11: Расчет, Коэф, | M11: =E11 -> 60 | N11: Расчет, Коэф, | Q11: =I11 -> 60
B12: показания счетчика | C12: разность | E12: расход эл,энергии за час | F12: показания счетчика | G12: разность | I12: расход эл,энергии за час | J12: показания счетчика | K12: разность | M12: расход эл,энергии за час | N12: показания счетчика | O12: разность | Q12: расход эл,энергии за час
A13: 1 | B13: 2 | C13: 3 | E13: 4 | F13: 5 | G13: 6 | I13: 7 | J13: 8 | K13: 9 | M13: 10 | N13: 11 | O13: 12 | Q13: 13
A14: 0
A15: 1 | E15: 0 | I15: 41.34 | M15: 0 | Q15: 0
A16: 2 | E16: 0 | I16: 39.792 | M16: 0 | Q16: 0
A17: 3 | E17: 0 | I17: 37.992 | M17: 0 | Q17: 0
A18: 4 | E18: 0 | I18: 38.028 | M18: 0 | Q18: 0
A19: 5 | E19: 0 | I19: 37.056 | M19: 0 | Q19: 0
A20: 6 | E20: 0 | I20: 39.492 | M20: 0 | Q20: 0
A21: 7 | E21: 0 | I21: 42.876 | M21: 0 | Q21: 0
A22: 8 | E22: 0 | I22: 45.66 | M22: 0 | Q22: 0
A23: 9 | E23: 0 | I23: 43.548 | M23: 0 | Q23: 0
A24: 10 | E24: 0 | I24: 43.344 | M24: 0 | Q24: 0
A25: 11 | E25: 0 | I25: 48.612 | M25: 0 | Q25: 0
A26: 12 | E26: 0 | I26: 41.688 | M26: 0 | Q26: 0
... A38: 24 | E38: 0 | I38: 48.084 | M38: 0 | Q38: 0
A39: Итого | E39: =SUM(E15:E38) -> 0 | I39: =SUM(I15:I38) -> 1133.976 | M39: =SUM(M15:M38) -> 0 | Q39: =SUM(Q15:Q38) -> 0
A40: 1, При наличии на предприятии отклонений от нормальных режимов электропотребления (временное изменение схем питания, остановка на ремонт, резкое снижение
A41: эл,потребления и т,д,) последние необходимо перечислить,
A42: Главный инженер АО "Вологдаоблэнерго" А,В, Чурляев
A43: составляется самим предприятием с соблюдением всех пунктов настоящей таблицы,

Sheet 42
B1: АО "Вологдаоблэнерго" | J1: код 900151 | N1: ПС Новые Углы ф, Кораблево
B2: наименование предприятия | N2: наименование источника питания
N3: ТП-2 Училище В-1
B4: ул, Горького, 99 | I4: Таблица № 1 | N4: ТП-2 Училище В-2
B5: адрес
A6: почасовых записей показаний электрических счетчиков
A7: ='1'!A7:Q7 -> в режимный день 21 ДЕКАБРЯ 2022 г.
A8: 1630 | B8: 1628
A9: часы суток | B9: Активная энергия | J9: Реактивная энергия
B10: =N3 -> ТП-2 Училище В-1 | F10: =N4 -> ТП-2 Училище В-2 | J10: =B10 -> ТП-2 Училище В-1 | N10: =F10 -> ТП-2 Училище В-2
B11: Расчет, Коэф, | E11: 80 | F11: Расчет, Коэф, | I11: 80 | J11: Расчет, Коэф, | M11: =E11 -> 80 | N11: Расчет, Коэф, | Q11: =I11 -> 80
B12: показания счетчика | C12: разность | E12: расход эл,энергии за час | F12: показания счетчика | G12: разность | I12: расход эл,энергии за час | J12: показания счетчика | K12: разность | M12: расход эл,энергии за час | N12: показания счетчика | O12: разность | Q12: расход эл,энергии за час
A13: 1 | B13: 2 | C13: 3 | E13: 4 | F13: 5 | G13: 6 | I13: 7 | J13: 8 | K13: 9 | M13: 10 | N13: 11 | O13: 12 | Q13: 13
A14: 0
A15: 1 | E15: 20.288 | I15: 7.712 | M15: 0 | Q15: 0
A16: 2 | E16: 19.728 | I16: 6.544 | M16: 0 | Q16: 0
A17: 3 | E17: 24.384 | I17: 6.224 | M17: 0 | Q17: 0
A18: 4 | E18: 24.384 | I18: 5.584 | M18: 0 | Q18: 0
A19: 5 | E19: 23.776 | I19: 5.808 | M19: 0 | Q19: 0
A20: 6 | E20: 32.72 | I20: 5.84 | M20: 0 | Q20: 0
A21: 7 | E21: 34.768 | I21: 6.496 | M21: 0 | Q21: 0
A22: 8 | E22: 36.08 | I22: 10.768 | M22: 0 | Q22: 0
A23: 9 | E23: 36.016 | I23: 20.208 | M23: 0 | Q23: 0
A24: 10 | E24: 32.064 | I24: 19.424 | M24: 0 | Q24: 0
A25: 11 | E25: 26.064 | I25: 16.08 | M25: 0 | Q25: 0
A26: 12 | E26: 24.928 | I26: 21.808 | M26: 0 | Q26: 0
... A38: 24 | E38: 22.176 | I38: 9.648 | M38: 0 | Q38: 0
A39: Итого | E39: =SUM(E15:E38) -> 621.472 | I39: =SUM(I15:I38) -> 257.584 | M39: =SUM(M15:M38) -> 0 | Q39: =SUM(Q15:Q38) -> 0
A40: 1, При наличии на предприятии отклонений от нормальных режимов электропотребления (временное изменение схем питания, остановка на ремонт, резкое снижение
A41: эл,потребления и т,д,) последние необходимо перечислить,
A42: Главный инженер АО "Вологдаоблэнерго" А,В, Чурляев
A43: составляется самим предприятием с соблюдением всех пунктов настоящей таблицы,

Sheet 43
B1: АО "Вологдаоблэнерго" | J1: код 900151 | N1: ПС Новые Углы ф, Кораблево
B2: наименование предприятия | N2: наименование источника питания
N3: ТП-222 В-1
B4: ул, Горького, 99 | I4: Таблица № 1 | N4: ТП-222 В-2
B5: адрес
A6: почасовых записей показаний электрических счетчиков
A7: ='1'!A7:Q7 -> в режимный день 21 ДЕКАБРЯ 2022 г.
A8: 1630 | B8: 1628
A9: часы суток | B9: Активная энергия | J9: Реактивная энергия
B10: =N3 -> ТП-222 В-1 | F10: =N4 -> ТП-222 В-2 | J10: =B10 -> ТП-222 В-1 | N10: =F10 -> ТП-222 В-2
B11: Расчет, Коэф, | E11: 120 | F11: Расчет, Коэф, | I11: 120 | J11: Расчет, Коэф, | M11: =E11 -> 120 | N11: Расчет, Коэф, | Q11: =I11 -> 120
B12: показания счетчика | C12: разность | E12: расход эл,энергии за час | F12: показания счетчика | G12: разность | I12: расход эл,энергии за час | J12: показания счетчика | K12: разность | M12: расход эл,энергии за час | N12: показания счетчика | O12: разность | Q12: расход эл,энергии за час
A13: 1 | B13: 2 | C13: 3 | E13: 4 | F13: 5 | G13: 6 | I13: 7 | J13: 8 | K13: 9 | M13: 10 | N13: 11 | O13: 12 | Q13: 13
A14: 0
A15: 1 | E15: 6.72 | I15: 41.88 | M15: 0 | Q15: 0
A16: 2 | E16: 7.08 | I16: 41.28 | M16: 0 | Q16: 0
A17: 3 | E17: 6.12 | I17: 40.32 | M17: 0 | Q17: 0
A18: 4 | E18: 5.04 | I18: 41.16 | M18: 0 | Q18: 0
A19: 5 | E19: 5.28 | I19: 40.92 | M19: 0 | Q19: 0
A20: 6 | E20: 19.2 | I20: 46.32 | M20: 0 | Q20: 0
A21: 7 | E21: 17.52 | I21: 48.24 | M21: 0 | Q21: 0
A22: 8 | E22: 19.32 | I22: 52.08 | M22: 0 | Q22: 0
A23: 9 | E23: 22.08 | I23: 54.24 | M23: 0 | Q23: 0
A24: 10 | E24: 18.84 | I24: 51.84 | M24: 0 | Q24: 0
A25: 11 | E25: 14.16 | I25: 49.92 | M25: 0 | Q25: 0
A26: 12 | E26: 12.84 | I26: 50.4 | M26: 0 | Q26: 0
... A38: 24 | E38: 7.68 | I38: 45.72 | M38: 0 | Q38: 0
A39: Итого | E39: =SUM(E15:E38) -> 308.76 | I39: =SUM(I15:I38) -> 1228.32 | M39: =SUM(M15:M38) -> 0 | Q39: =SUM(Q15:Q38) -> 0
A40: 1, При наличии на предприятии отклонений от нормальных режимов электропотребления (временное изменение схем питания, остановка на ремонт, резкое снижение
A41: эл,потребления и т,д,) последние необходимо перечислить,
A42: Главный инженер АО "Вологдаоблэнерго" А,В, Чурляев
A43: составляется самим предприятием с соблюдением всех пунктов настоящей таблицы,

Sheet 44
B1: АО "Вологдаоблэнерго" | J1: код 900151 | N1: ПС Новые Углы ф, Кораблево
B2: наименование предприятия | N2: наименование источника питания
N3: ТП-Шухободь Жилзона В-1
B4: ул, Горького, 99 | I4: Таблица № 1 | N4: ТП-Шухободь Жилзона В-2
B5: адрес
A6: почасовых записей показаний электрических счетчиков
A7: ='1'!A7:Q7 -> в режимный день 21 ДЕКАБРЯ 2022 г.
A8: 1630 | B8: 1628
A9: часы суток | B9: Активная энергия | J9: Реактивная энергия
B10: =N3 -> ТП-Шухободь Жилзона В-1 | F10: =N4 -> ТП-Шухободь Жилзона В-2 | J10: =B10 -> ТП-Шухободь Жилзона В-1 | N10: =F10 -> ТП-Шухободь Жилзона В-2
B11: Расчет, Коэф, | E11: 80 | F11: Расчет, Коэф, | I11: 80 | J11: Расчет, Коэф, | M11: =E11 -> 80 | N11: Расчет, Коэф, | Q11: =I11 -> 80
B12: показания счетчика | C12: разность | E12: расход эл,энергии за час | F12: показания счетчика | G12: разность | I12: расход эл,энергии за час | J12: показания счетчика | K12: разность | M12: расход эл,энергии за час | N12: показания счетчика | O12: разность | Q12: расход эл,энергии за час
A13: 1 | B13: 2 | C13: 3 | E13: 4 | F13: 5 | G13: 6 | I13: 7 | J13: 8 | K13: 9 | M13: 10 | N13: 11 | O13: 12 | Q13: 13
A14: 0
A15: 1 | E15: 33.84 | I15: 43.04 | M15: 0 | Q15: 0
A16: 2 | E16: 30.88 | I16: 40.24 | M16: 0 | Q16: 0
A17: 3 | E17: 31.28 | I17: 38.32 | M17: 0 | Q17: 0
A18: 4 | E18: 30.88 | I18: 38.24 | M18: 0 | Q18: 0
A19: 5 | E19: 32.72 | I19: 41.84 | M19: 0 | Q19: 0
A20: 6 | E20: 35.04 | I20: 41.68 | M20: 0 | Q20: 0
A21: 7 | E21: 45.28 | I21: 48.72 | M21: 0 | Q21: 0
A22: 8 | E22: 46.64 | I22: 54.08 | M22: 0 | Q22: 0
A23: 9 | E23: 47.04 | I23: 51.52 | M23: 0 | Q23: 0
A24: 10 | E24: 50.4 | I24: 56.16 | M24: 0 | Q24: 0
A25: 11 | E25: 50.4 | I25: 60.24 | M25: 0 | Q25: 0
A26: 12 | E26: 55.6 | I26: 59.04 | M26: 0 | Q26: 0
... A38: 24 | E38: 40.16 | I38: 47.52 | M38: 0 | Q38: 0
A39: Итого | E39: =SUM(E15:E38) -> 1160.16 | I39: =SUM(I15:I38) -> 1318.88 | M39: =SUM(M15:M38) -> 0 | Q39: =SUM(Q15:Q38) -> 0
A40: 1, При наличии на предприятии отклонений от нормальных режимов электропотребления (временное изменение схем питания, остановка на ремонт, резкое снижение
A41: эл,потребления и т,д,) последние необходимо перечислить,
A42: Главный инженер АО "Вологдаоблэнерго" А,В, Чурляев
A43: составляется самим предприятием с соблюдением всех пунктов настоящей таблицы,

Sheet 45
B1: АО "Вологдаоблэнерго" | J1: код 900151 | N1: ПС Новые Углы ф, Кораблево
B2: наименование предприятия | N2: наименование источника питания
N3: ТП-К-с Шухободь В-1
B4: ул, Горького, 99 | I4: Таблица № 1 | N4: ТП-К-с Шухободь В-2
B5: адрес
A6: почасовых записей показаний электрических счетчиков
A7: ='1'!A7:Q7 -> в режимный день 21 ДЕКАБРЯ 2022 г.
A8: 1630 | B8: 1628
A9: часы суток | B9: Активная энергия | J9: Реактивная энергия
B10: =N3 -> ТП-К-с Шухободь В-1 | F10: =N4 -> ТП-К-с Шухободь В-2 | J10: =B10 -> ТП-К-с Шухободь В-1 | N10: =F10 -> ТП-К-с Шухободь В-2
B11: Расчет, Коэф, | E11: 120 | F11: Расчет, Коэф, | I11: 120 | J11: Расчет, Коэф, | M11: =E11 -> 120 | N11: Расчет, Коэф, | Q11: =I11 -> 120
B12: показания счетчика | C12: разность | E12: расход эл,энергии за час | F12: показания счетчика | G12: разность | I12: расход эл,энергии за час | J12: показания счетчика | K12: разность | M12: расход эл,энергии за час | N12: показания счетчика | O12: разность | Q12: расход эл,энергии за час
A13: 1 | B13: 2 | C13: 3 | E13: 4 | F13: 5 | G13: 6 | I13: 7 | J13: 8 | K13: 9 | M13: 10 | N13: 11 | O13: 12 | Q13: 13
A14: 0
A15: 1 | E15: 75.072 | I15: 0 | M15: 0 | Q15: 0
A16: 2 | E16: 68.088 | I16: 0 | M16: 0 | Q16: 0
A17: 3 | E17: 72.096 | I17: 0 | M17: 0 | Q17: 0
A18: 4 | E18: 76.68 | I18: 0 | M18: 0 | Q18: 0
A19: 5 | E19: 74.928 | I19: 0 | M19: 0 | Q19: 0
A20: 6 | E20: 119.112 | I20: 0 | M20: 0 | Q20: 0
A21: 7 | E21: 130.824 | I21: 0 | M21: 0 | Q21: 0
A22: 8 | E22: 140.616 | I22: 0 | M22: 0 | Q22: 0
A23: 9 | E23: 152.376 | I23: 0 | M23: 0 | Q23: 0
A24: 10 | E24: 142.752 | I24: 0 | M24: 0 | Q24: 0
A25: 11 | E25: 133.056 | I25: 0 | M25: 0 | Q25: 0
A26: 12 | E26: 118.56 | I26: 0 | M26: 0 | Q26: 0
... A38: 24 | E38: 82.344 | I38: 0 | M38: 0 | Q38: 0
A39: Итого | E39: =SUM(E15:E38) -> 2661.96 | I39: =SUM(I15:I38) -> 0 | M39: =SUM(M15:M38) -> 0 | Q39: =SUM(Q15:Q38) -> 0
A40: 1, При наличии на предприятии отклонений от нормальных режимов электропотребления (временное изменение схем питания, остановка на ремонт, резкое снижение
A41: эл,потребления и т,д,) последние необходимо перечислить,
A42: Главный инженер АО "Вологдаоблэнерго" А,В, Чурляев
A43: составляется самим предприятием с соблюдением всех пунктов настоящей таблицы,

Sheet 46
B1: АО "Вологдаоблэнерго" | J1: код 900151 | N1: ПС Абаканово, ф, Алексино
B2: наименование предприятия | N2: наименование источника питания
N3: ТП-Поселок (3,4 этажные дома)
B4: ул, Горького, 99 | I4: Таблица № 1 | N4: ТП-211
B5: адрес
A6: почасовых записей показаний электрических счетчиков
A7: ='1'!A7:Q7 -> в режимный день 21 ДЕКАБРЯ 2022 г.
A8: 1630 | B8: 1628
A9: часы суток | B9: Активная энергия | J9: Реактивная энергия
B10: =N3 -> ТП-Поселок (3,4 этажные дома) | F10: =N4 -> ТП-211 | J10: =B10 -> ТП-Поселок (3,4 этажные дома) | N10: =F10 -> ТП-211
B11: Расчет, Коэф, | E11: 50 | F11: Расчет, Коэф, | I11: 80 | J11: Расчет, Коэф, | M11: =E11 -> 50 | N11: Расчет, Коэф, | Q11: =I11 -> 80
B12: показания счетчика | C12: разность | E12: расход эл,энергии за час | F12: показания счетчика | G12: разность | I12: расход эл,энергии за час | J12: показания счетчика | K12: разность | M12: расход эл,энергии за час | N12: показания счетчика | O12: разность | Q12: расход эл,энергии за час
A13: 1 | B13: 2 | C13: 3 | E13: 4 | F13: 5 | G13: 6 | I13: 7 | J13: 8 | K13: 9 | M13: 10 | N13: 11 | O13: 12 | Q13: 13
A14: 0
A15: 1 | E15: 62.65 | I15: 7.28 | M15: 0 | Q15: 0
A16: 2 | E16: 60.9 | I16: 6.56 | M16: 0 | Q16: 0
A17: 3 | E17: 56.6 | I17: 8.4 | M17: 0 | Q17: 0
A18: 4 | E18: 58.35 | I18: 6.56 | M18: 0 | Q18: 0
A19: 5 | E19: 59.95 | I19: 7.6 | M19: 0 | Q19: 0
A20: 6 | E20: 63.25 | I20: 19.52 | M20: 0 | Q20: 0
A21: 7 | E21: 71.55 | I21: 54.24 | M21: 0 | Q21: 0
A22: 8 | E22: 83.1 | I22: 64.08 | M22: 0 | Q22: 0
A23: 9 | E23: 80.15 | I23: 84.64 | M23: 0 | Q23: 0
A24: 10 | E24: 79.9 | I24: 90.72 | M24: 0 | Q24: 0
A25: 11 | E25: 74.95 | I25: 72.08 | M25: 0 | Q25: 0
A26: 12 | E26: 71 | I26: 66.64 | M26: 0 | Q26: 0
... A38: 24 | E38: 67.2 | I38: 10 | M38: 0 | Q38: 0
A39: Итого | E39: =SUM(E15:E38) -> 1829.6 | I39: =SUM(I15:I38) -> 772.88 | M39: =SUM(M15:M38) -> 0 | Q39: =SUM(Q15:Q38) -> 0
A40: 1, При наличии на предприятии отклонений от нормальных режимов электропотребления (временное изменение схем питания, остановка на ремонт, резкое снижение
A41: эл,потребления и т,д,) последние необходимо перечислить,
A42: Главный инженер АО "Вологдаоблэнерго" А,В, Чурляев
A43: составляется самим предприятием с соблюдением всех пунктов настоящей таблицы,

Sheet 47
B1: АО "Вологдаоблэнерго" | J1: код 900151 | N1: ПС Абаканово, ф, Алексино
B2: наименование предприятия | N2: наименование источника питания
N3: КТП "Мастерские" с, Абаканово
B4: ул, Горького, 99 | I4: Таблица № 1 | N4: ТП-242
B5: адрес
A6: почасовых записей показаний электрических счетчиков
A7: ='1'!A7:Q7 -> в режимный день 21 ДЕКАБРЯ 2022 г.
A8: 1630 | B8: 1628
A9: часы суток | B9: Активная энергия | J9: Реактивная энергия
B10: =N3 -> КТП "Мастерские" с, Абаканово | F10: =N4 -> ТП-242 | J10: =B10 -> КТП "Мастерские" с, Абаканово | N10: =F10 -> ТП-242
B11: Расчет, Коэф, | E11: 40 | F11: Расчет, Коэф, | I11: 30 | J11: Расчет, Коэф, | M11: =E11 -> 40 | N11: Расчет, Коэф, | Q11: =I11 -> 30
B12: показания счетчика | C12: разность | E12: расход эл,энергии за час | F12: показания счетчика | G12: разность | I12: расход эл,энергии за час | J12: показания счетчика | K12: разность | M12: расход эл,энергии за час | N12: показания счетчика | O12: разность | Q12: расход эл,энергии за час
A13: 1 | B13: 2 | C13: 3 | E13: 4 | F13: 5 | G13: 6 | I13: 7 | J13: 8 | K13: 9 | M13: 10 | N13: 11 | O13: 12 | Q13: 13
A14: 0
A15: 1 | E15: 0 | I15: 1.125 | M15: 0 | Q15: 0
A16: 2 | E16: 0 | I16: 1.035 | M16: 0 | Q16: 0
A17: 3 | E17: 0 | I17: 0.945 | M17: 0 | Q17: 0
A18: 4 | E18: 0 | I18: 1.065 | M18: 0 | Q18: 0
A19: 5 | E19: 0 | I19: 1.035 | M19: 0 | Q19: 0
A20: 6 | E20: 0 | I20: 1.425 | M20: 0 | Q20: 0
A21: 7 | E21: 0 | I21: 1.05 | M21: 0 | Q21: 0
A22: 8 | E22: 0 | I22: 0.855 | M22: 0 | Q22: 0
A23: 9 | E23: 0 | I23: 1.08 | M23: 0 | Q23: 0
A24: 10 | E24: 0 | I24: 1.395 | M24: 0 | Q24: 0
A25: 11 | E25: 0 | I25: 2.325 | M25: 0 | Q25: 0
A26: 12 | E26: 0 | I26: 1.68 | M26: 0 | Q26: 0
... A38: 24 | E38: 0 | I38: 1.425 | M38: 0 | Q38: 0
A39: Итого | E39: =SUM(E15:E38) -> 0 | I39: =SUM(I15:I38) -> 37.95 | M39: =SUM(M15:M38) -> 0 | Q39: =SUM(Q15:Q38) -> 0
A40: 1, При наличии на предприятии отклонений от нормальных режимов электропотребления (временное изменение схем питания, остановка на ремонт, резкое снижение
A41: эл,потребления и т,д,) последние необходимо перечислить,
A42: Главный инженер АО "Вологдаоблэнерго" А,В, Чурляев
A43: составляется самим предприятием с соблюдением всех пунктов настоящей таблицы,

Sheet 48
B1: АО "Вологдаоблэнерго" | J1: код 900151 | N1: ПС Абаканово, ф, Слабеево
B2: наименование предприятия | N2: наименование источника питания
N3: ТП-249
B4: ул, Горького, 99 | I4: Таблица № 1
B5: адрес
A6: почасовых записей показаний электрических счетчиков
A7: ='1'!A7:Q7 -> в режимный день 21 ДЕКАБРЯ 2022 г.
A8: 1630 | B8: 1628
A9: часы суток | B9: Активная энергия | J9: Реактивная энергия
B10: =N3 -> ТП-249 | F10: =N4 -> 0 | J10: =B10 -> ТП-249 | N10: =F10 -> 0
B11: Расчет, Коэф, | E11: 1 | F11: Расчет, Коэф, | I11: 120 | J11: Расчет, Коэф, | M11: =E11 -> 1 | N11: Расчет, Коэф, | Q11: =I11 -> 120
B12: показания счетчика | C12: разность | E12: расход эл,энергии за час | F12: показания счетчика | G12: разность | I12: расход эл,энергии за час | J12: показания счетчика | K12: разность | M12: расход эл,энергии за час | N12: показания счетчика | O12: разность | Q12: расход эл,энергии за час
A13: 1 | B13: 2 | C13: 3 | E13: 4 | F13: 5 | G13: 6 | I13: 7 | J13: 8 | K13: 9 | M13: 10 | N13: 11 | O13: 12 | Q13: 13
A14: 0
A15: 1 | E15: 0 | M15: 0
A16: 2 | E16: 0 | M16: 0
A17: 3 | E17: 0 | M17: 0
A18: 4 | E18: 0 | M18: 0
A19: 5 | E19: 0 | M19: 0
A20: 6 | E20: 0 | M20: 0
A21: 7 | E21: 0 | M21: 0
A22: 8 | E22: 0 | M22: 0
A23: 9 | E23: 0 | M23: 0
A24: 10 | E24: 0 | M24: 0
A25: 11 | E25: 0 | M25: 0
A26: 12 | E26: 0 | M26: 0
... A38: 24 | E38: 0 | M38: 0
A39: Итого | E39: =SUM(E15:E38) -> 0 | I39: =SUM(I15:I38) -> 0 | M39: =SUM(M15:M38) -> 0 | Q39: =SUM(Q15:Q38) -> 0
A40: 1, При наличии на предприятии отклонений от нормальных режимов электропотребления (временное изменение схем питания, остановка на ремонт, резкое снижение
A41: эл,потребления и т,д,) последние необходимо перечислить,
A42: Главный инженер АО "Вологдаоблэнерго" А,В, Чурляев
A43: составляется самим предприятием с соблюдением всех пунктов настоящей таблицы,

Sheet 49
B1: АО "Вологдаоблэнерго" | J1: код 900151 | N1: ПС Поповка, ф, Привалино
B2: наименование предприятия | N2: наименование источника питания
N3: КТП-Погорелка
B4: ул, Горького, 99 | I4: Таблица № 1 | N4: КТП-Хлебаево
B5: адрес
A6: почасовых записей показаний электрических счетчиков
A7: ='1'!A7:Q7 -> в режимный день 21 ДЕКАБРЯ 2022 г.
A8: 1630 | B8: 1628
A9: часы суток | B9: Активная энергия | J9: Реактивная энергия
B10: =N3 -> КТП-Погорелка | F10: =N4 -> КТП-Хлебаево | J10: =B10 -> КТП-Погорелка | N10: =F10 -> КТП-Хлебаево
B11: Расчет, Коэф, | E11: 30 | F11: Расчет, Коэф, | I11: 30 | J11: Расчет, Коэф, | M11: =E11 -> 30 | N11: Расчет, Коэф, | Q11: =I11 -> 30
B12: показания счетчика | C12: разность | E12: расход эл,энергии за час | F12: показания счетчика | G12: разность | I12: расход эл,энергии за час | J12: показания счетчика | K12: разность | M12: расход эл,энергии за час | N12: показания счетчика | O12: разность | Q12: расход эл,энергии за час
A13: 1 | B13: 2 | C13: 3 | E13: 4 | F13: 5 | G13: 6 | I13: 7 | J13: 8 | K13: 9 | M13: 10 | N13: 11 | O13: 12 | Q13: 13
A14: 0
A15: 1 | E15: 0.24 | I15: 0 | M15: 0 | Q15: 0
A16: 2 | E16: 0.84 | I16: 0 | M16: 0 | Q16: 0
A17: 3 | E17: 0.84 | I17: 0 | M17: 0 | Q17: 0
A18: 4 | E18: 0.9 | I18: 0 | M18: 0 | Q18: 0
A19: 5 | E19: 0.84 | I19: 0 | M19: 0 | Q19: 0
A20: 6 | E20: 0.84 | I20: 0 | M20: 0 | Q20: 0
A21: 7 | E21: 0.84 | I21: 0 | M21: 0 | Q21: 0
A22: 8 | E22: 1.74 | I22: 0 | M22: 0 | Q22: 0
A23: 9 | E23: 3.9 | I23: 0 | M23: 0 | Q23: 0
A24: 10 | E24: 6.6 | I24: 0 | M24: 0 | Q24: 0
A25: 11 | E25: 6.9 | I25: 0 | M25: 0 | Q25: 0
A26: 12 | E26: 6.9 | I26: 0 | M26: 0 | Q26: 0
... A38: 24 | E38: 2.04 | I38: 0 | M38: 0 | Q38: 0
A39: Итого | E39: =SUM(E15:E38) -> 80.04 | I39: =SUM(I15:I38) -> 0 | M39: =SUM(M15:M38) -> 0 | Q39: =SUM(Q15:Q38) -> 0
A40: 1, При наличии на предприятии отклонений от нормальных режимов электропотребления (временное изменение схем питания, остановка на ремонт, резкое снижение
A41: эл,потребления и т,д,) последние необходимо перечислить,
A42: Главный инженер АО "Вологдаоблэнерго" А,В, Чурляев
A43: составляется самим предприятием с соблюдением всех пунктов настоящей таблицы,

Sheet 50
B1: АО "Вологдаоблэнерго" | J1: код 900151 | N1: ПС Поповка, ф, Привалино
B2: наименование предприятия | N2: наименование источника питания
N3: ТП-226
B4: ул, Горького, 99 | I4: Таблица № 1 | N4: ТП-257
B5: адрес
A6: почасовых записей показаний электрических счетчиков
A7: ='1'!A7:Q7 -> в режимный день 21 ДЕКАБРЯ 2022 г.
A8: 1630 | B8: 1628
A9: часы суток | B9: Активная энергия | J9: Реактивная энергия
B10: =N3 -> ТП-226 | F10: =N4 -> ТП-257 | J10: =B10 -> ТП-226 | N10: =F10 -> ТП-257
B11: Расчет, Коэф, | E11: 30 | F11: Расчет, Коэф, | I11: 30 | J11: Расчет, Коэф, | M11: =E11 -> 30 | N11: Расчет, Коэф, | Q11: =I11 -> 30
B12: показания счетчика | C12: разность | E12: расход эл,энергии за час | F12: показания счетчика | G12: разность | I12: расход эл,энергии за час | J12: показания счетчика | K12: разность | M12: расход эл,энергии за час | N12: показания счетчика | O12: разность | Q12: расход эл,энергии за час
A13: 1 | B13: 2 | C13: 3 | E13: 4 | F13: 5 | G13: 6 | I13: 7 | J13: 8 | K13: 9 | M13: 10 | N13: 11 | O13: 12 | Q13: 13
A14: 0
A15: 1 | E15: 1.185 | I15: 0.65 | M15: 0 | Q15: 0
A16: 2 | E16: 1.68 | I16: 1.1 | M16: 0 | Q16: 0
A17: 3 | E17: 0.99 | I17: 0.82 | M17: 0 | Q17: 0
A18: 4 | E18: 2.655 | I18: 0.68 | M18: 0 | Q18: 0
A19: 5 | E19: 3 | I19: 0.68 | M19: 0 | Q19: 0
A20: 6 | E20: 2.67 | I20: 1.36 | M20: 0 | Q20: 0
A21: 7 | E21: 1.935 | I21: 0.48 | M21: 0 | Q21: 0
A22: 8 | E22: 1.665 | I22: 0.53 | M22: 0 | Q22: 0
A23: 9 | E23: 2.73 | I23: 0.55 | M23: 0 | Q23: 0
A24: 10 | E24: 2.16 | I24: 0.6 | M24: 0 | Q24: 0
A25: 11 | E25: 2.085 | I25: 0.55 | M25: 0 | Q25: 0
A26: 12 | E26: 1.215 | I26: 0.65 | M26: 0 | Q26: 0
... A38: 24 | E38: 4.245 | I38: 0.41 | M38: 0 | Q38: 0
A39: Итого | E39: =SUM(E15:E38) -> 66.9 | I39: =SUM(I15:I38) -> 13.52 | M39: =SUM(M15:M38) -> 0 | Q39: =SUM(Q15:Q38) -> 0
A40: 1, При наличии на предприятии отклонений от нормальных режимов электропотребления (временное изменение схем питания, остановка на ремонт, резкое снижение
A41: эл,потребления и т,д,) последние необходимо перечислить,
A42: Главный инженер АО "Вологдаоблэнерго" А,В, Чурляев
A43: составляется самим предприятием с соблюдением всех пунктов настоящей таблицы,

Sheet 51
B1: АО "Вологдаоблэнерго" | J1: код 900151 | N1: ПС Абаканово ф, Покров
B2: наименование предприятия | N2: наименование источника питания
N3: КТП Шухтовское Лесничество
B4: ул, Горького, 99 | I4: Таблица № 1
B5: адрес
A6: почасовых записей показаний электрических счетчиков
A7: ='1'!A7:Q7 -> в режимный день 21 ДЕКАБРЯ 2022 г.
A8: 1630 | B8: 1628
A9: часы суток | B9: Активная энергия | J9: Реактивная энергия
B10: =N3 -> КТП Шухтовское Лесничество | F10: =N4 -> 0 | J10: =B10 -> КТП Шухтовское Лесничество | N10: =F10 -> 0
B11: Расчет, Коэф, | E11: 30 | F11: Расчет, Коэф, | I11: 120 | J11: Расчет, Коэф, | M11: =E11 -> 30 | N11: Расчет, Коэф, | Q11: =I11 -> 120
B12: показания счетчика | C12: разность | E12: расход эл,энергии за час | F12: показания счетчика | G12: разность | I12: расход эл,энергии за час | J12: показания счетчика | K12: разность | M12: расход эл,энергии за час | N12: показания счетчика | O12: разность | Q12: расход эл,энергии за час
A13: 1 | B13: 2 | C13: 3 | E13: 4 | F13: 5 | G13: 6 | I13: 7 | J13: 8 | K13: 9 | M13: 10 | N13: 11 | O13: 12 | Q13: 13
A14: 0
A15: 1 | E15: 0 | M15: 0
A16: 2 | E16: 0 | M16: 0
A17: 3 | E17: 0 | M17: 0
A18: 4 | E18: 0 | M18: 0
A19: 5 | E19: 0 | M19: 0
A20: 6 | E20: 0 | M20: 0
A21: 7 | E21: 0 | M21: 0
A22: 8 | E22: 0 | M22: 0
A23: 9 | E23: 0 | M23: 0
A24: 10 | E24: 0 | M24: 0
A25: 11 | E25: 0 | M25: 0
A26: 12 | E26: 0 | M26: 0
... A38: 24 | E38: 0 | M38: 0
A39: Итого | E39: =SUM(E15:E38) -> 0 | I39: =SUM(I15:I38) -> 0 | M39: =SUM(M15:M38) -> 0 | Q39: =SUM(Q15:Q38) -> 0
A40: 1, При наличии на предприятии отклонений от нормальных режимов электропотребления (временное изменение схем питания, остановка на ремонт, резкое снижение
A41: эл,потребления и т,д,) последние необходимо перечислить,
A42: Главный инженер АО "Вологдаоблэнерго" А,В, Чурляев
A43: составляется самим предприятием с соблюдением всех пунктов настоящей таблицы,

Sheet 52
B1: АО "Вологдаоблэнерго" | J1: код 900151 | N1: ПС Абаканово, ф, Маслово
B2: наименование предприятия | N2: наименование источника питания
N3: ЦРП-Маслово
B4: ул, Горького, 99 | I4: Таблица № 1
B5: адрес
A6: почасовых записей показаний электрических счетчиков
A7: ='1'!A7:Q7 -> в режимный день 21 ДЕКАБРЯ 2022 г.
A8: 1630 | B8: 1628
A9: часы суток | B9: Активная энергия | J9: Реактивная энергия
B10: =N3 -> ЦРП-Маслово | F10: =N4 -> 0 | J10: =B10 -> ЦРП-Маслово | N10: =F10 -> 0
B11: Расчет, Коэф, | E11: 80 | F11: Расчет, Коэф, | I11: 120 | J11: Расчет, Коэф, | M11: =E11 -> 80 | N11: Расчет, Коэф, | Q11: =I11 -> 120
B12: показания счетчика | C12: разность | E12: расход эл,энергии за час | F12: показания счетчика | G12: разность | I12: расход эл,энергии за час | J12: показания счетчика | K12: разность | M12: расход эл,энергии за час | N12: показания счетчика | O12: разность | Q12: расход эл,энергии за час
A13: 1 | B13: 2 | C13: 3 | E13: 4 | F13: 5 | G13: 6 | I13: 7 | J13: 8 | K13: 9 | M13: 10 | N13: 11 | O13: 12 | Q13: 13
A14: 0
A15: 1 | E15: 8.2 | M15: 0
A16: 2 | E16: 7.48 | M16: 0
A17: 3 | E17: 9 | M17: 0
A18: 4 | E18: 9.24 | M18: 0
A19: 5 | E19: 8.08 | M19: 0
A20: 6 | E20: 8.16 | M20: 0
A21: 7 | E21: 8.12 | M21: 0
A22: 8 | E22: 8 | M22: 0
A23: 9 | E23: 5.72 | M23: 0
A24: 10 | E24: 5.68 | M24: 0
A25: 11 | E25: 6 | M25: 0
A26: 12 | E26: 6.04 | M26: 0
... A38: 24 | E38: 9.64 | M38: 0
A39: Итого | E39: =SUM(E15:E38) -> 187.52 | I39: =SUM(I15:I38) -> 0 | M39: =SUM(M15:M38) -> 0 | Q39: =SUM(Q15:Q38) -> 0
A40: 1, При наличии на предприятии отклонений от нормальных режимов электропотребления (временное изменение схем питания, остановка на ремонт, резкое снижение
A41: эл,потребления и т,д,) последние необходимо перечислить,
A42: Главный инженер АО "Вологдаоблэнерго" А,В, Чурляев
A43: составляется самим предприятием с соблюдением всех пунктов настоящей таблицы,

Sheet 53
B1: АО "Вологдаоблэнерго" | J1: код 900151 | N1: ПС Абаканово, ф,Шухободь
B2: наименование предприятия | N2: наименование источника питания
N3: ТП-227
B4: ул, Горького, 99 | I4: Таблица № 1
B5: адрес
A6: почасовых записей показаний электрических счетчиков
A7: ='1'!A7:Q7 -> в режимный день 21 ДЕКАБРЯ 2022 г.
A8: 1630 | B8: 1628
A9: часы суток | B9: Активная энергия | J9: Реактивная энергия
B10: =N3 -> ТП-227 | F10: =N4 | J10: =B10 -> ТП-227 | N10: =F10
B11: Расчет, Коэф, | E11: 60 | F11: Расчет, Коэф, | I11: 120 | J11: Расчет, Коэф, | M11: =E11 -> 60 | N11: Расчет, Коэф, | Q11: =I11 -> 120
B12: показания счетчика | C12: разность | E12: расход эл,энергии за час | F12: показания счетчика | G12: разность | I12: расход эл,энергии за час | J12: показания счетчика | K12: разность | M12: расход эл,энергии за час | N12: показания счетчика | O12: разность | Q12: расход эл,энергии за час
A13: 1 | B13: 2 | C13: 3 | E13: 4 | F13: 5 | G13: 6 | I13: 7 | J13: 8 | K13: 9 | M13: 10 | N13: 11 | O13: 12 | Q13: 13
A14: 0
A15: 1 | E15: 3.54 | M15: 0
A16: 2 | E16: 3.33 | M16: 0
A17: 3 | E17: 3.24 | M17: 0
A18: 4 | E18: 3.315 | M18: 0
A19: 5 | E19: 3.315 | M19: 0
A20: 6 | E20: 3.315 | M20: 0
A21: 7 | E21: 3.075 | M21: 0
A22: 8 | E22: 1.665 | M22: 0
A23: 9 | E23: 1.23 | M23: 0
A24: 10 | E24: 3.87 | M24: 0
A25: 11 | E25: 3.75 | M25: 0
A26: 12 | E26: 3.195 | M26: 0
... A38: 24 | E38: 4.815 | M38: 0
A39: Итого | E39: =SUM(E15:E38) -> 96.375 | I39: =SUM(I15:I38) -> 0 | M39: =SUM(M15:M38) -> 0 | Q39: =SUM(Q15:Q38) -> 0
A40: 1, При наличии на предприятии отклонений от нормальных режимов электропотребления (временное изменение схем питания, остановка на ремонт, резкое снижение
A41: эл,потребления и т,д,) последние необходимо перечислить,
A42: Главный инженер АО "Вологдаоблэнерго" А,В, Чурляев
A43: составляется самим предприятием с соблюдением всех пунктов настоящей таблицы,

Sheet 54
B1: АО "Вологдаоблэнерго" | J1: код 900151 | N1: ПС Искра, ф, Оросительная
B2: наименование предприятия | N2: наименование источника питания
N3: КТП-3 Сад №9 "ЧереповецАгроСтрой"
B4: ул, Горького, 99 | I4: Таблица № 1 | N4: КТП-2 Сад №1 "Аммофос"
B5: адрес
A6: почасовых записей показаний электрических счетчиков
A7: ='1'!A7:Q7 -> в режимный день 21 ДЕКАБРЯ 2022 г.
A8: 1630 | B8: 1628
A9: часы суток | B9: Активная энергия | J9: Реактивная энергия
B10: =N3 -> КТП-3 Сад №9 "ЧереповецАгроСтрой" | F10: =N4 -> КТП-2 Сад №1 "Аммофос" | J10: =B10 -> КТП-3 Сад №9 "ЧереповецАгроСтрой" | N10: =F10 -> КТП-2 Сад №1 "Аммофос"
B11: Расчет, Коэф, | E11: 60 | F11: Расчет, Коэф, | I11: 120 | J11: Расчет, Коэф, | M11: =E11 -> 60 | N11: Расчет, Коэф, | Q11: =I11 -> 120
B12: показания счетчика | C12: разность | E12: расход эл,энергии за час | F12: показания счетчика | G12: разность | I12: расход эл,энергии за час | J12: показания счетчика | K12: разность | M12: расход эл,энергии за час | N12: показания счетчика | O12: разность | Q12: расход эл,энергии за час
A13: 1 | B13: 2 | C13: 3 | E13: 4 | F13: 5 | G13: 6 | I13: 7 | J13: 8 | K13: 9 | M13: 10 | N13: 11 | O13: 12 | Q13: 13
A14: 0
A15: 1 | E15: 46.5 | I15: 48.72 | M15: 0 | Q15: 0
A16: 2 | E16: 43.68 | I16: 46.8 | M16: 0 | Q16: 0
A17: 3 | E17: 41.52 | I17: 47.88 | M17: 0 | Q17: 0
A18: 4 | E18: 45.12 | I18: 47.16 | M18: 0 | Q18: 0
A19: 5 | E19: 45.84 | I19: 47.04 | M19: 0 | Q19: 0
A20: 6 | E20: 45.66 | I20: 48.96 | M20: 0 | Q20: 0
A21: 7 | E21: 53.58 | I21: 53.28 | M21: 0 | Q21: 0
A22: 8 | E22: 54.3 | I22: 53.04 | M22: 0 | Q22: 0
A23: 9 | E23: 41.22 | I23: 50.28 | M23: 0 | Q23: 0
A24: 10 | E24: 41.7 | I24: 48.84 | M24: 0 | Q24: 0
A25: 11 | E25: 42.48 | I25: 48.12 | M25: 0 | Q25: 0
A26: 12 | E26: 46.86 | I26: 47.04 | M26: 0 | Q26: 0
... A38: 24 | E38: 46.26 | I38: 49.56 | M38: 0 | Q38: 0
A39: Итого | E39: =SUM(E15:E38) -> 1103.52 | I39: =SUM(I15:I38) -> 1176.36 | M39: =SUM(M15:M38) -> 0 | Q39: =SUM(Q15:Q38) -> 0
A40: 1, При наличии на предприятии отклонений от нормальных режимов электропотребления (временное изменение схем питания, остановка на ремонт, резкое снижение
A41: эл,потребления и т,д,) последние необходимо перечислить,
A42: Главный инженер АО "Вологдаоблэнерго" А,В, Чурляев
A43: составляется самим предприятием с соблюдением всех пунктов настоящей таблицы,

Sheet 55
B1: АО "Вологдаоблэнерго" | J1: код 900151 | N1: ПС Искра, ф, Оросительная
B2: наименование предприятия | N2: наименование источника питания
N3: КТП-10 ЧМХС и №2 ЧСПЗ
B4: ул, Горького, 99 | I4: Таблица № 1 | N4: КТП Сад Вера
B5: адрес
A6: почасовых записей показаний электрических счетчиков
A7: ='1'!A7:Q7 -> в режимный день 21 ДЕКАБРЯ 2022 г.
A8: 1630 | B8: 1628
A9: часы суток | B9: Активная энергия | J9: Реактивная энергия
B10: =N3 -> КТП-10 ЧМХС и №2 ЧСПЗ | F10: =N4 -> КТП Сад Вера | J10: =B10 -> КТП-10 ЧМХС и №2 ЧСПЗ | N10: =F10 -> КТП Сад Вера
B11: Расчет, Коэф, | E11: 80 | F11: Расчет, Коэф, | I11: 20 | J11: Расчет, Коэф, | M11: =E11 -> 80 | N11: Расчет, Коэф, | Q11: =I11 -> 20
B12: показания счетчика | C12: разность | E12: расход эл,энергии за час | F12: показания счетчика | G12: разность | I12: расход эл,энергии за час | J12: показания счетчика | K12: разность | M12: расход эл,энергии за час | N12: показания счетчика | O12: разность | Q12: расход эл,энергии за час
A13: 1 | B13: 2 | C13: 3 | E13: 4 | F13: 5 | G13: 6 | I13: 7 | J13: 8 | K13: 9 | M13: 10 | N13: 11 | O13: 12 | Q13: 13
A14: 0
A15: 1 | E15: 0 | I15: 10.16 | M15: 0 | Q15: 0
A16: 2 | E16: 0 | I16: 9.28 | M16: 0 | Q16: 0
A17: 3 | E17: 0 | I17: 9.76 | M17: 0 | Q17: 0
A18: 4 | E18: 0 | I18: 10.24 | M18: 0 | Q18: 0
A19: 5 | E19: 0 | I19: 9.76 | M19: 0 | Q19: 0
A20: 6 | E20: 0 | I20: 11.12 | M20: 0 | Q20: 0
A21: 7 | E21: 0 | I21: 15.36 | M21: 0 | Q21: 0
A22: 8 | E22: 0 | I22: 20.64 | M22: 0 | Q22: 0
A23: 9 | E23: 0 | I23: 18.88 | M23: 0 | Q23: 0
A24: 10 | E24: 0 | I24: 20.48 | M24: 0 | Q24: 0
A25: 11 | E25: 0 | I25: 21.52 | M25: 0 | Q25: 0
A26: 12 | E26: 0 | I26: 21.28 | M26: 0 | Q26: 0
... A38: 24 | E38: 0 | I38: 15.52 | M38: 0 | Q38: 0
A39: Итого | E39: =SUM(E15:E38) -> 0 | I39: =SUM(I15:I38) -> 408.8 | M39: =SUM(M15:M38) -> 0 | Q39: =SUM(Q15:Q38) -> 0
A40: 1, При наличии на предприятии отклонений от нормальных режимов электропотребления (временное изменение схем питания, остановка на ремонт, резкое снижение
A41: эл,потребления и т,д,) последние необходимо перечислить,
A42: Главный инженер АО "Вологдаоблэнерго" А,В, Чурляев
A43: составляется самим предприятием с соблюдением всех пунктов настоящей таблицы,

Sheet 56
B1: АО "Вологдаоблэнерго" | J1: код 900151 | N1: ПС Батран, ф,Льнозавод
B2: наименование предприятия | N2: наименование источника питания
N3: КТП-Льнозавод
B4: ул, Горького, 99 | I4: Таблица № 1 | N4: КТП-Детский сад
B5: адрес
A6: почасовых записей показаний электрических счетчиков
A7: ='1'!A7:Q7 -> в режимный день 21 ДЕКАБРЯ 2022 г.
A8: 1630 | B8: 1628
A9: часы суток | B9: Активная энергия | J9: Реактивная энергия
B10: =N3 -> КТП-Льнозавод | F10: =N4 -> КТП-Детский сад | J10: =B10 -> КТП-Льнозавод | N10: =F10 -> КТП-Детский сад
B11: Расчет, Коэф, | E11: 120 | F11: Расчет, Коэф, | I11: 40 | J11: Расчет, Коэф, | M11: =E11 -> 120 | N11: Расчет, Коэф, | Q11: =I11 -> 40
B12: показания счетчика | C12: разность | E12: расход эл,энергии за час | F12: показания счетчика | G12: разность | I12: расход эл,энергии за час | J12: показания счетчика | K12: разность | M12: расход эл,энергии за час | N12: показания счетчика | O12: разность | Q12: расход эл,энергии за час
A13: 1 | B13: 2 | C13: 3 | E13: 4 | F13: 5 | G13: 6 | I13: 7 | J13: 8 | K13: 9 | M13: 10 | N13: 11 | O13: 12 | Q13: 13
A14: 0
A15: 1 | E15: 0 | I15: 28.76 | M15: 0 | Q15: 0
A16: 2 | E16: 0 | I16: 25.92 | M16: 0 | Q16: 0
A17: 3 | E17: 0 | I17: 26.92 | M17: 0 | Q17: 0
A18: 4 | E18: 0 | I18: 25.76 | M18: 0 | Q18: 0
A19: 5 | E19: 0 | I19: 26.68 | M19: 0 | Q19: 0
A20: 6 | E20: 1.8 | I20: 27.36 | M20: 0 | Q20: 0
A21: 7 | E21: 9.24 | I21: 34.32 | M21: 0 | Q21: 0
A22: 8 | E22: 20.16 | I22: 36.12 | M22: 0 | Q22: 0
A23: 9 | E23: 196.8 | I23: 38.32 | M23: 0 | Q23: 0
A24: 10 | E24: 193.44 | I24: 33.92 | M24: 0 | Q24: 0
A25: 11 | E25: 184.44 | I25: 29.24 | M25: 0 | Q25: 0
A26: 12 | E26: 171.24 | I26: 30.6 | M26: 0 | Q26: 0
... A38: 24 | E38: 0 | I38: 25.64 | M38: 0 | Q38: 0
A39: Итого | E39: =SUM(E15:E38) -> 1185 | I39: =SUM(I15:I38) -> 811.24 | M39: =SUM(M15:M38) -> 0 | Q39: =SUM(Q15:Q38) -> 0
A40: 1, При наличии на предприятии отклонений от нормальных режимов электропотребления (временное изменение схем питания, остановка на ремонт, резкое снижение
A41: эл,потребления и т,д,) последние необходимо перечислить,
A42: Главный инженер АО "Вологдаоблэнерго" А,В, Чурляев
A43: составляется самим предприятием с соблюдением всех пунктов настоящей таблицы,

Sheet 57
B1: АО "Вологдаоблэнерго" | J1: код 900151 | N1: ПС Аксеново ф, Шалимово
B2: наименование предприятия | N2: наименование источника питания
N3: ТП-23 В-1
B4: ул, Горького, 99 | I4: Таблица № 1 | N4: КТП-Очистные
B5: адрес
A6: почасовых записей показаний электрических счетчиков
A7: ='1'!A7:Q7 -> в режимный день 21 ДЕКАБРЯ 2022 г.
A8: 1630 | B8: 1628
A9: часы суток | B9: Активная энергия | J9: Реактивная энергия
B10: =N3 -> ТП-23 В-1 | F10: =N4 -> КТП-Очистные | J10: =B10 -> ТП-23 В-1 | N10: =F10 -> КТП-Очистные
B11: Расчет, Коэф, | E11: 120 | F11: Расчет, Коэф, | I11: 20 | J11: Расчет, Коэф, | M11: =E11 -> 120 | N11: Расчет, Коэф, | Q11: =I11 -> 20
B12: показания счетчика | C12: разность | E12: расход эл,энергии за час | F12: показания счетчика | G12: разность | I12: расход эл,энергии за час | J12: показания счетчика | K12: разность | M12: расход эл,энергии за час | N12: показания счетчика | O12: разность | Q12: расход эл,энергии за час
A13: 1 | B13: 2 | C13: 3 | E13: 4 | F13: 5 | G13: 6 | I13: 7 | J13: 8 | K13: 9 | M13: 10 | N13: 11 | O13: 12 | Q13: 13
A14: 0
A15: 1 | E15: 38.04 | I15: 3.56 | M15: 0 | Q15: 0
A16: 2 | E16: 38.88 | I16: 3.6 | M16: 0 | Q16: 0
A17: 3 | E17: 35.52 | I17: 3.64 | M17: 0 | Q17: 0
A18: 4 | E18: 35.04 | I18: 3.64 | M18: 0 | Q18: 0
A19: 5 | E19: 33.72 | I19: 3.52 | M19: 0 | Q19: 0
A20: 6 | E20: 35.04 | I20: 3.6 | M20: 0 | Q20: 0
A21: 7 | E21: 32.28 | I21: 3.56 | M21: 0 | Q21: 0
A22: 8 | E22: 37.56 | I22: 4.48 | M22: 0 | Q22: 0
A23: 9 | E23: 38.4 | I23: 25.44 | M23: 0 | Q23: 0
A24: 10 | E24: 36.48 | I24: 51.64 | M24: 0 | Q24: 0
A25: 11 | E25: 37.8 | I25: 48.6 | M25: 0 | Q25: 0
A26: 12 | E26: 40.08 | I26: 56.76 | M26: 0 | Q26: 0
... A38: 24 | E38: 36.24 | I38: 3.56 | M38: 0 | Q38: 0
A39: Итого | E39: =SUM(E15:E38) -> 920.52 | I39: =SUM(I15:I38) -> 470.96 | M39: =SUM(M15:M38) -> 0 | Q39: =SUM(Q15:Q38) -> 0
A40: 1, При наличии на предприятии отклонений от нормальных режимов электропотребления (временное изменение схем питания, остановка на ремонт, резкое снижение
A41: эл,потребления и т,д,) последние необходимо перечислить,
A42: Главный инженер АО "Вологдаоблэнерго" А,В, Чурляев
A43: составляется самим предприятием с соблюдением всех пунктов настоящей таблицы,

Sheet 58
B1: АО "Вологдаоблэнерго" | H1: код 900151 | K1: ПС Юрочкино, ф, Фоминское
B2: наименование предприятия | K2: наименование источника питания
K3: ТП-15
B4: ул, Горького, 99 | G4: Таблица № 1 | K4: ТП-23 В-2
B5: адрес
A6: почасовых записей показаний электрических счетчиков
A7: ='1'!A7:Q7 -> в режимный день 21 ДЕКАБРЯ 2022 г.
A8: 1630 | B8: 1628
A9: часы суток | B9: Активная энергия | H9: Реактивная энергия
B10: =K3 -> ТП-15 | E10: =K4 -> ТП-23 В-2 | H10: =B10 -> ТП-15 | K10: =E10 -> ТП-23 В-2
B11: Расчет, Коэф, | D11: 40 | E11: Расчет, Коэф, | G11: 120 | H11: Расчет, Коэф, | J11: =D11 -> 40 | K11: Расчет, Коэф, | M11: =G11 -> 120
B12: показания счетчика | C12: разность | D12: расход эл,энергии за час | E12: показания счетчика | F12: разность | G12: расход эл,энергии за час | H12: показания счетчика | I12: разность | J12: расход эл,энергии за час | K12: показания счетчика | L12: разность | M12: расход эл,энергии за час
A13: 1 | B13: 2 | C13: 3 | D13: 4 | E13: 5 | F13: 6 | G13: 7 | H13: 8 | I13: 9 | J13: 10 | K13: 11 | L13: 12 | M13: 13
A14: 0
A15: 1 | D15: 3.56 | G15: 0 | J15: 0 | M15: 0
A16: 2 | D16: 3.6 | G16: 0 | J16: 0 | M16: 0
A17: 3 | D17: 3.64 | G17: 0 | J17: 0 | M17: 0
A18: 4 | D18: 3.64 | G18: 0 | J18: 0 | M18: 0
A19: 5 | D19: 3.52 | G19: 0 | J19: 0 | M19: 0
A20: 6 | D20: 3.6 | G20: 0 | J20: 0 | M20: 0
A21: 7 | D21: 3.56 | G21: 0 | J21: 0 | M21: 0
A22: 8 | D22: 4.48 | G22: 0 | J22: 0 | M22: 0
A23: 9 | D23: 25.44 | G23: 0 | J23: 0 | M23: 0
A24: 10 | D24: 51.64 | G24: 0 | J24: 0 | M24: 0
A25: 11 | D25: 48.6 | G25: 0 | J25: 0 | M25: 0
A26: 12 | D26: 56.76 | G26: 0 | J26: 0 | M26: 0
... A38: 24 | D38: 3.56 | G38: 0 | J38: 0 | M38: 0
A39: Итого | D39: =SUM(D15:D38) -> 470.96 | G39: =SUM(G15:G38) -> 0 | J39: =SUM(J15:J38) -> 0 | M39: =SUM(M15:M38) -> 0
A40: 1, При наличии на предприятии отклонений от нормальных режимов электропотребления (временное изменение схем питания, остановка на ремонт, резкое снижение
A41: эл,потребления и т,д,) последние необходимо перечислить,
A42: Главный инженер АО "Вологдаоблэнерго" А,В, Чурляев
A43: составляется самим предприятием с соблюдением всех пунктов настоящей таблицы,

Sheet 59
B1: АО "Вологдаоблэнерго" | I1: код 900151 | L1: ПС Домозерово, ф, Дом-2
B2: наименование предприятия | L2: наименование источника питания
L3: ТП-74
B4: ул, Горького, 99 | H4: Таблица № 1 | L4: ТП-СЗМК-2(не баланс)
B5: адрес
A6: почасовых записей показаний электрических счетчиков
A7: ='1'!A7:Q7 -> в режимный день 21 ДЕКАБРЯ 2022 г.
A8: 1630 | B8: 1628
A9: часы суток | B9: Активная энергия | I9: Реактивная энергия
B10: =L3 -> ТП-74 | E10: =L4 -> ТП-СЗМК-2(не баланс) | I10: =B10 -> ТП-74 | L10: =E10 -> ТП-СЗМК-2(не баланс)
B11: Расчет, Коэф, | D11: 120 | E11: Расчет, Коэф, | H11: 200 | I11: Расчет, Коэф, | K11: =D11 -> 120 | L11: Расчет, Коэф, | N11: =H11 -> 200
B12: показания счетчика | C12: разность | D12: расход эл,энергии за час | E12: показания счетчика | F12: разность | H12: расход эл,энергии за час | I12: показания счетчика | J12: разность | K12: расход эл,энергии за час | L12: показания счетчика | M12: разность | N12: расход эл,энергии за час
A13: 1 | B13: 2 | C13: 3 | D13: 4 | E13: 5 | F13: 6 | H13: 7 | I13: 8 | J13: 9 | K13: 10 | L13: 11 | M13: 12 | N13: 13
A14: 0
A15: 1 | D15: 34.128 | H15: 0 | K15: 0 | N15: 0
A16: 2 | D16: 33.48 | H16: 0 | K16: 0 | N16: 0
A17: 3 | D17: 34.128 | H17: 0 | K17: 0 | N17: 0
A18: 4 | D18: 34.872 | H18: 0 | K18: 0 | N18: 0
A19: 5 | D19: 35.544 | H19: 0 | K19: 0 | N19: 0
A20: 6 | D20: 36.792 | H20: 0 | K20: 0 | N20: 0
A21: 7 | D21: 34.824 | H21: 0 | K21: 0 | N21: 0
A22: 8 | D22: 38.856 | H22: 0 | K22: 0 | N22: 0
A23: 9 | D23: 66.264 | H23: 0 | K23: 0 | N23: 0
A24: 10 | D24: 74.904 | H24: 0 | K24: 0 | N24: 0
A25: 11 | D25: 68.376 | H25: 0 | K25: 0 | N25: 0
A26: 12 | D26: 62.136 | H26: 0 | K26: 0 | N26: 0
... A38: 24 | D38: 36.936 | H38: 0 | K38: 0 | N38: 0
A39: Итого | D39: =SUM(D15:D38) -> 1169.448 | H39: =SUM(H15:H38) -> 0 | K39: =SUM(K15:K38) -> 0 | N39: =SUM(N15:N38) -> 0
A40: 1, При наличии на предприятии отклонений от нормальных режимов электропотребления (временное изменение схем питания, остановка на ремонт, резкое снижение
A41: эл,потребления и т,д,) последние необходимо перечислить,
A42: Главный инженер АО "Вологдаоблэнерго" А,В, Чурляев
A43: составляется самим предприятием с соблюдением всех пунктов настоящей таблицы,

Sheet 60
B1: АО "Вологдаоблэнерго" | H1: код 900151 | K1: ПС Енюково, ф,Борисово
B2: наименование предприятия | K2: наименование источника питания
K3: ТП-Ферма Фенево В-1
B4: ул, Горького, 99 | G4: Таблица № 1 | K4: ТП-Ферма Фенево В-2
B5: адрес
A6: почасовых записей показаний электрических счетчиков
A7: ='1'!A7:Q7 -> в режимный день 21 ДЕКАБРЯ 2022 г.
A8: 1630 | B8: 1628
A9: часы суток | B9: Активная энергия | H9: Реактивная энергия
B10: =K3 -> ТП-Ферма Фенево В-1 | E10: =K4 -> ТП-Ферма Фенево В-2 | H10: =B10 -> ТП-Ферма Фенево В-1 | K10: =E10 -> ТП-Ферма Фенево В-2
B11: Расчет, Коэф, | D11: 200 | E11: Расчет, Коэф, | G11: 200 | H11: Расчет, Коэф, | J11: =D11 -> 200 | K11: Расчет, Коэф, | M11: =G11 -> 200
B12: показания счетчика | C12: разность | D12: расход эл,энергии за час | E12: показания счетчика | F12: разность | G12: расход эл,энергии за час | H12: показания счетчика | I12: разность | J12: расход эл,энергии за час | K12: показания счетчика | L12: разность | M12: расход эл,энергии за час
A13: 1 | B13: 2 | C13: 3 | D13: 4 | E13: 5 | F13: 6 | G13: 7 | H13: 8 | I13: 9 | J13: 10 | K13: 11 | L13: 12 | M13: 13
A14: 0
A15: 1 | D15: 38 | G15: 62.6 | J15: 0 | M15: 0
A16: 2 | D16: 34.8 | G16: 65 | J16: 0 | M16: 0
A17: 3 | D17: 41.8 | G17: 113.2 | J17: 0 | M17: 0
A18: 4 | D18: 41.2 | G18: 169.6 | J18: 0 | M18: 0
A19: 5 | D19: 105.4 | G19: 160.8 | J19: 0 | M19: 0
A20: 6 | D20: 89.4 | G20: 128.2 | J20: 0 | M20: 0
A21: 7 | D21: 102.2 | G21: 108.2 | J21: 0 | M21: 0
A22: 8 | D22: 86.6 | G22: 88.2 | J22: 0 | M22: 0
A23: 9 | D23: 85.6 | G23: 95 | J23: 0 | M23: 0
A24: 10 | D24: 74.8 | G24: 111 | J24: 0 | M24: 0
A25: 11 | D25: 59.6 | G25: 111 | J25: 0 | M25: 0
A26: 12 | D26: 35.2 | G26: 105.8 | J26: 0 | M26: 0
... A38: 24 | D38: 40.2 | G38: 51.8 | J38: 0 | M38: 0
A39: Итого | D39: =SUM(D15:D38) -> 1640.6 | G39: =SUM(G15:G38) -> 2626.8 | J39: =SUM(J15:J38) -> 0 | M39: =SUM(M15:M38) -> 0
A40: 1, При наличии на предприятии отклонений от нормальных режимов электропотребления (временное изменение схем питания, остановка на ремонт, резкое снижение
A41: эл,потребления и т,д,) последние необходимо перечислить,
A42: Главный инженер АО "Вологдаоблэнерго" А,В, Чурляев
A43: составляется самим предприятием с соблюдением всех пунктов настоящей таблицы,

Sheet 61
B1: АО "Вологдаоблэнерго" | H1: код 900151 | K1: ПС Поповка, ф, Аннино
B2: наименование предприятия | K2: наименование источника питания
K3: ТП-376
B4: ул, Горького, 99 | G4: Таблица № 1
B5: адрес
A6: почасовых записей показаний электрических счетчиков
A7: ='1'!A7:Q7 -> в режимный день 21 ДЕКАБРЯ 2022 г.
A8: 1630 | B8: 1628
A9: часы суток | B9: Активная энергия | H9: Реактивная энергия
B10: =K3 -> ТП-376 | E10: =K4 -> 0 | H10: =B10 -> ТП-376 | K10: =E10 -> 0
B11: Расчет, Коэф, | D11: 60 | E11: Расчет, Коэф, | G11: 120 | H11: Расчет, Коэф, | J11: =D11 -> 60 | K11: Расчет, Коэф, | M11: =G11 -> 120
B12: показания счетчика | C12: разность | D12: расход эл,энергии за час | E12: показания счетчика | F12: разность | G12: расход эл,энергии за час | H12: показания счетчика | I12: разность | J12: расход эл,энергии за час | K12: показания счетчика | L12: разность | M12: расход эл,энергии за час
A13: 1 | B13: 2 | C13: 3 | D13: 4 | E13: 5 | F13: 6 | G13: 7 | H13: 8 | I13: 9 | J13: 10 | K13: 11 | L13: 12 | M13: 13
A14: 0
A15: 1 | D15: 0.48 | J15: 0
A16: 2 | D16: 0.42 | J16: 0
A17: 3 | D17: 0.54 | J17: 0
A18: 4 | D18: 0.3 | J18: 0
A19: 5 | D19: 0.36 | J19: 0
A20: 6 | D20: 0.3 | J20: 0
A21: 7 | D21: 0.6 | J21: 0
A22: 8 | D22: 0.36 | J22: 0
A23: 9 | D23: 0.84 | J23: 0
A24: 10 | D24: 0.54 | J24: 0
A25: 11 | D25: 0.6 | J25: 0
A26: 12 | D26: 0.66 | J26: 0
... A38: 24 | D38: 0.18 | J38: 0
A39: Итого | D39: =SUM(D15:D38) -> 8.7 | G39: =SUM(G15:G38) -> 0 | J39: =SUM(J15:J38) -> 0 | M39: =SUM(M15:M38) -> 0
A40: 1, При наличии на предприятии отклонений от нормальных режимов электропотребления (временное изменение схем питания, остановка на ремонт, резкое снижение
A41: эл,потребления и т,д,) последние необходимо перечислить,
A42: Главный инженер АО "Вологдаоблэнерго" А,В, Чурляев
A43: составляется самим предприятием с соблюдением всех пунктов настоящей таблицы,

Sheet 62
B1: АО "Вологдаоблэнерго" | H1: код 900151 | K1: ПС Поповка, ф, Красково
B2: наименование предприятия | K2: наименование источника питания
K3: КТП-ЭСПА
B4: ул, Горького, 99 | G4: Таблица № 1 | K4: КТП-Ново-Дубровка
B5: адрес
A6: почасовых записей показаний электрических счетчиков
A7: ='1'!A7:Q7 -> в режимный день 21 ДЕКАБРЯ 2022 г.
A8: 1630 | B8: 1628
A9: часы суток | B9: Активная энергия | H9: Реактивная энергия
B10: =K3 -> КТП-ЭСПА | E10: =K4 -> КТП-Ново-Дубровка | H10: =B10 -> КТП-ЭСПА | K10: =E10 -> КТП-Ново-Дубровка
B11: Расчет, Коэф, | D11: 20 | E11: Расчет, Коэф, | G11: 20 | H11: Расчет, Коэф, | J11: =D11 -> 20 | K11: Расчет, Коэф, | M11: =G11 -> 20
B12: показания счетчика | C12: разность | D12: расход эл,энергии за час | E12: показания счетчика | F12: разность | G12: расход эл,энергии за час | H12: показания счетчика | I12: разность | J12: расход эл,энергии за час | K12: показания счетчика | L12: разность | M12: расход эл,энергии за час
A13: 1 | B13: 2 | C13: 3 | D13: 4 | E13: 5 | F13: 6 | G13: 7 | H13: 8 | I13: 9 | J13: 10 | K13: 11 | L13: 12 | M13: 13
A14: 0
A15: 1 | D15: 1.46 | G15: 0.62 | J15: 0 | M15: 0
A16: 2 | D16: 1.44 | G16: 0.62 | J16: 0 | M16: 0
A17: 3 | D17: 1.44 | G17: 0.62 | J17: 0 | M17: 0
A18: 4 | D18: 1.4 | G18: 0.6 | J18: 0 | M18: 0
A19: 5 | D19: 1.38 | G19: 0.62 | J19: 0 | M19: 0
A20: 6 | D20: 1.42 | G20: 0.6 | J20: 0 | M20: 0
A21: 7 | D21: 1.92 | G21: 0.64 | J21: 0 | M21: 0
A22: 8 | D22: 2.02 | G22: 0.64 | J22: 0 | M22: 0
A23: 9 | D23: 2.06 | G23: 0.6 | J23: 0 | M23: 0
A24: 10 | D24: 0.9 | G24: 0 | J24: 0 | M24: 0
A25: 11 | D25: 0.14 | G25: 0 | J25: 0 | M25: 0
A26: 12 | D26: 0.28 | G26: 0 | J26: 0 | M26: 0
... A38: 24 | D38: 1.76 | G38: 0.64 | J38: 0 | M38: 0
A39: Итого | D39: =SUM(D15:D38) -> 31.38 | G39: =SUM(G15:G38) -> 10.64 | J39: =SUM(J15:J38) -> 0 | M39: =SUM(M15:M38) -> 0
A40: 1, При наличии на предприятии отклонений от нормальных режимов электропотребления (временное изменение схем питания, остановка на ремонт, резкое снижение
A41: эл,потребления и т,д,) последние необходимо перечислить,
A42: Главный инженер АО "Вологдаоблэнерго" А,В, Чурляев
A43: составляется самим предприятием с соблюдением всех пунктов настоящей таблицы,

Sheet 63
B1: АО "Вологдаоблэнерго" | H1: код 900151 | K1: ПС Поповка, ф, Красково
B2: наименование предприятия | K2: наименование источника питания
K3: КТП-Козлово-2
B4: ул, Горького, 99 | G4: Таблица № 1 | K4: ТП-319
B5: адрес
A6: почасовых записей показаний электрических счетчиков
A7: ='1'!A7:Q7 -> в режимный день 21 ДЕКАБРЯ 2022 г.
A8: 1630 | B8: 1628
A9: часы суток | B9: Активная энергия | H9: Реактивная энергия
B10: =K3 -> КТП-Козлово-2 | E10: =K4 -> ТП-319 | H10: =B10 -> КТП-Козлово-2 | K10: =E10 -> ТП-319
B11: Расчет, Коэф, | D11: 60 | E11: Расчет, Коэф, | G11: 30 | H11: Расчет, Коэф, | J11: =D11 -> 60 | K11: Расчет, Коэф, | M11: =G11 -> 30
B12: показания счетчика | C12: разность | D12: расход эл,энергии за час | E12: показания счетчика | F12: разность | G12: расход эл,энергии за час | H12: показания счетчика | I12: разность | J12: расход эл,энергии за час | K12: показания счетчика | L12: разность | M12: расход эл,энергии за час
A13: 1 | B13: 2 | C13: 3 | D13: 4 | E13: 5 | F13: 6 | G13: 7 | H13: 8 | I13: 9 | J13: 10 | K13: 11 | L13: 12 | M13: 13
A14: 0
A15: 1 | D15: 16.24 | G15: 0 | J15: 0 | M15: 0
A16: 2 | D16: 14.88 | G16: 0 | J16: 0 | M16: 0
A17: 3 | D17: 14.96 | G17: 0 | J17: 0 | M17: 0
A18: 4 | D18: 14.64 | G18: 0 | J18: 0 | M18: 0
A19: 5 | D19: 14.64 | G19: 0 | J19: 0 | M19: 0
A20: 6 | D20: 16.08 | G20: 0 | J20: 0 | M20: 0
A21: 7 | D21: 17.2 | G21: 0 | J21: 0 | M21: 0
A22: 8 | D22: 24.88 | G22: 0 | J22: 0 | M22: 0
A23: 9 | D23: 21.68 | G23: 0 | J23: 0 | M23: 0
A24: 10 | D24: 22.64 | G24: 0 | J24: 0 | M24: 0
A25: 11 | D25: 21.52 | G25: 0 | J25: 0 | M25: 0
A26: 12 | D26: 17.28 | G26: 0 | J26: 0 | M26: 0
... A38: 24 | D38: 13.84 | G38: 0 | J38: 0 | M38: 0
A39: Итого | D39: =SUM(D15:D38) -> 498.32 | G39: =SUM(G15:G38) -> 0 | J39: =SUM(J15:J38) -> 0 | M39: =SUM(M15:M38) -> 0
A40: 1, При наличии на предприятии отклонений от нормальных режимов электропотребления (временное изменение схем питания, остановка на ремонт, резкое снижение
A41: эл,потребления и т,д,) последние необходимо перечислить,
A42: Главный инженер АО "Вологдаоблэнерго" А,В, Чурляев
A43: составляется самим предприятием с соблюдением всех пунктов настоящей таблицы,

Sheet 64
B1: АО "Вологдаоблэнерго" | H1: код 900151 | K1: ПС Петринево, ф,Надпорожье
B2: наименование предприятия | K2: наименование источника питания
K3: КТП-Броды
B4: ул, Горького, 99 | G4: Таблица № 1 | K4: КТП-100 дачи "Водник"
B5: адрес
A6: почасовых записей показаний электрических счетчиков
A7: ='1'!A7:Q7 -> в режимный день 21 ДЕКАБРЯ 2022 г.
A8: 1630 | B8: 1628
A9: часы суток | B9: Активная энергия | H9: Реактивная энергия
B10: =K3 -> КТП-Броды | E10: =K4 -> КТП-100 дачи "Водник" | H10: =B10 -> КТП-Броды | K10: =E10 -> КТП-100 дачи "Водник"
B11: Расчет, Коэф, | D11: 30 | E11: Расчет, Коэф, | G11: 40 | H11: Расчет, Коэф, | J11: =D11 -> 30 | K11: Расчет, Коэф, | M11: =G11 -> 40
B12: показания счетчика | C12: разность | D12: расход эл,энергии за час | E12: показания счетчика | F12: разность | G12: расход эл,энергии за час | H12: показания счетчика | I12: разность | J12: расход эл,энергии за час | K12: показания счетчика | L12: разность | M12: расход эл,энергии за час
A13: 1 | B13: 2 | C13: 3 | D13: 4 | E13: 5 | F13: 6 | G13: 7 | H13: 8 | I13: 9 | J13: 10 | K13: 11 | L13: 12 | M13: 13
A14: 0
A15: 1 | D15: 9.39 | G15: 0.36 | J15: 0 | M15: 0
A16: 2 | D16: 9.9 | G16: 0.3 | J16: 0 | M16: 0
A17: 3 | D17: 9.45 | G17: 0.3 | J17: 0 | M17: 0
A18: 4 | D18: 9.66 | G18: 0.24 | J18: 0 | M18: 0
A19: 5 | D19: 8.46 | G19: 0.81 | J19: 0 | M19: 0
A20: 6 | D20: 10.41 | G20: 0.72 | J20: 0 | M20: 0
A21: 7 | D21: 10.89 | G21: 0.33 | J21: 0 | M21: 0
A22: 8 | D22: 10.35 | G22: 1.23 | J22: 0 | M22: 0
A23: 9 | D23: 11.16 | G23: 1.17 | J23: 0 | M23: 0
A24: 10 | D24: 10.98 | G24: 0.54 | J24: 0 | M24: 0
A25: 11 | D25: 14.31 | G25: 0.93 | J25: 0 | M25: 0
A26: 12 | D26: 14.31 | G26: 2.19 | J26: 0 | M26: 0
... A38: 24 | D38: 10.17 | G38: 0.54 | J38: 0 | M38: 0
A39: Итого | D39: =SUM(D15:D38) -> 304.14 | G39: =SUM(G15:G38) -> 18.96 | J39: =SUM(J15:J38) -> 0 | M39: =SUM(M15:M38) -> 0
A40: 1, При наличии на предприятии отклонений от нормальных режимов электропотребления (временное изменение схем питания, остановка на ремонт, резкое снижение
A41: эл,потребления и т,д,) последние необходимо перечислить,
A42: Главный инженер АО "Вологдаоблэнерго" А,В, Чурляев
A43: составляется самим предприятием с соблюдением всех пунктов настоящей таблицы,

Sheet 65
B1: АО "Вологдаоблэнерго" | H1: код 900151 | K1: ПС Петринево, ф,Надпорожье
B2: наименование предприятия | K2: наименование источника питания
K3: КТП-Сад№11 ЧМХС
B4: ул, Горького, 99 | G4: Таблица № 1
B5: адрес
A6: почасовых записей показаний электрических счетчиков
A7: ='1'!A7:Q7 -> в режимный день 21 ДЕКАБРЯ 2022 г.
A8: 1630 | B8: 1628
A9: часы суток | B9: Активная энергия | H9: Реактивная энергия
B10: =K3 -> КТП-Сад№11 ЧМХС | E10: =K4 -> 0 | H10: =B10 -> КТП-Сад№11 ЧМХС | K10: =E10 -> 0
B11: Расчет, Коэф, | D11: 20 | E11: Расчет, Коэф, | G11: 120 | H11: Расчет, Коэф, | J11: =D11 -> 20 | K11: Расчет, Коэф, | M11: =G11 -> 120
B12: показания счетчика | C12: разность | D12: расход эл,энергии за час | E12: показания счетчика | F12: разность | G12: расход эл,энергии за час | H12: показания счетчика | I12: разность | J12: расход эл,энергии за час | K12: показания счетчика | L12: разность | M12: расход эл,энергии за час
A13: 1 | B13: 2 | C13: 3 | D13: 4 | E13: 5 | F13: 6 | G13: 7 | H13: 8 | I13: 9 | J13: 10 | K13: 11 | L13: 12 | M13: 13
A14: 0
A15: 1 | D15: 6.91 | J15: 0
A16: 2 | D16: 4.32 | J16: 0
A17: 3 | D17: 3.57 | J17: 0
A18: 4 | D18: 3.37 | J18: 0
A19: 5 | D19: 3.13 | J19: 0
A20: 6 | D20: 2.72 | J20: 0
A21: 7 | D21: 3.38 | J21: 0
A22: 8 | D22: 3.72 | J22: 0
A23: 9 | D23: 3.59 | J23: 0
A24: 10 | D24: 5.4 | J24: 0
A25: 11 | D25: 7.17 | J25: 0
A26: 12 | D26: 8.44 | J26: 0
... A38: 24 | D38: 7.01 | J38: 0
A39: Итого | D39: =SUM(D15:D38) -> 143.94 | G39: =SUM(G15:G38) -> 0 | J39: =SUM(J15:J38) -> 0 | M39: =SUM(M15:M38) -> 0
A40: 1, При наличии на предприятии отклонений от нормальных режимов электропотребления (временное изменение схем питания, остановка на ремонт, резкое снижение
A41: эл,потребления и т,д,) последние необходимо перечислить,
A42: Главный инженер АО "Вологдаоблэнерго" А,В, Чурляев
A43: составляется самим предприятием с соблюдением всех пунктов настоящей таблицы,

Sheet 66
B1: АО "Вологдаоблэнерго" | H1: код 900151 | K1: ПС Енюково, ф, Яганово
B2: наименование предприятия | K2: наименование источника питания
K3: КТП-КЗС-2
B4: ул, Горького, 99 | G4: Таблица № 1
B5: адрес
A6: почасовых записей показаний электрических счетчиков
A7: ='1'!A7:Q7 -> в режимный день 21 ДЕКАБРЯ 2022 г.
A8: 1630 | B8: 1628
A9: часы суток | B9: Активная энергия | H9: Реактивная энергия
B10: =K3 -> КТП-КЗС-2 | E10: =K4 -> 0 | H10: =B10 -> КТП-КЗС-2 | K10: =E10 -> 0
B11: Расчет, Коэф, | D11: 80 | E11: Расчет, Коэф, | G11: 120 | H11: Расчет, Коэф, | J11: =D11 -> 80 | K11: Расчет, Коэф, | M11: =G11 -> 120
B12: показания счетчика | C12: разность | D12: расход эл,энергии за час | E12: показания счетчика | F12: разность | G12: расход эл,энергии за час | H12: показания счетчика | I12: разность | J12: расход эл,энергии за час | K12: показания счетчика | L12: разность | M12: расход эл,энергии за час
A13: 1 | B13: 2 | C13: 3 | D13: 4 | E13: 5 | F13: 6 | G13: 7 | H13: 8 | I13: 9 | J13: 10 | K13: 11 | L13: 12 | M13: 13
A14: 0
A15: 1 | D15: 3.96 | J15: 0
A16: 2 | D16: 3.88 | J16: 0
A17: 3 | D17: 3.72 | J17: 0
A18: 4 | D18: 3.84 | J18: 0
A19: 5 | D19: 3.84 | J19: 0
A20: 6 | D20: 3.88 | J20: 0
A21: 7 | D21: 4.12 | J21: 0
A22: 8 | D22: 4.04 | J22: 0
A23: 9 | D23: 4.92 | J23: 0
A24: 10 | D24: 4.48 | J24: 0
A25: 11 | D25: 4.44 | J25: 0
A26: 12 | D26: 4.72 | J26: 0
... A38: 24 | D38: 3.96 | J38: 0
A39: Итого | D39: =SUM(D15:D38) -> 104.92 | G39: =SUM(G15:G38) -> 0 | J39: =SUM(J15:J38) -> 0 | M39: =SUM(M15:M38) -> 0
A40: 1, При наличии на предприятии отклонений от нормальных режимов электропотребления (временное изменение схем питания, остановка на ремонт, резкое снижение
A41: эл,потребления и т,д,) последние необходимо перечислить,
A42: Главный инженер АО "Вологдаоблэнерго" А,В, Чурляев
A43: составляется самим предприятием с соблюдением всех пунктов настоящей таблицы,

Sheet 67
B1: АО "Вологдаоблэнерго" | H1: код 900151 | K1: ПС Климовская, ф,Лохта
B2: наименование предприятия | K2: наименование источника питания
K3: КТПН-400 Животноводческий комплекс
B4: ул, Горького, 99 | G4: Таблица № 1 | K4: КТП-Деревня
B5: адрес
A6: почасовых записей показаний электрических счетчиков
A7: ='1'!A7:Q7 -> в режимный день 21 ДЕКАБРЯ 2022 г.
A8: 1630 | B8: 1628
A9: часы суток | B9: Активная энергия | H9: Реактивная энергия
B10: =K3 -> КТПН-400 Животноводческий комплекс | E10: =K4 -> КТП-Деревня | H10: =B10 -> КТПН-400 Животноводческий комплекс | K10: =E10 -> КТП-Деревня
B11: Расчет, Коэф, | D11: 120 | E11: Расчет, Коэф, | G11: 120 | H11: Расчет, Коэф, | J11: =D11 -> 120 | K11: Расчет, Коэф, | M11: =G11 -> 120
B12: показания счетчика | C12: разность | D12: расход эл,энергии за час | E12: показания счетчика | F12: разность | G12: расход эл,энергии за час | H12: показания счетчика | I12: разность | J12: расход эл,энергии за час | K12: показания счетчика | L12: разность | M12: расход эл,энергии за час
A13: 1 | B13: 2 | C13: 3 | D13: 4 | E13: 5 | F13: 6 | G13: 7 | H13: 8 | I13: 9 | J13: 10 | K13: 11 | L13: 12 | M13: 13
A14: 0
A15: 1 | D15: 58.92 | J15: 0
A16: 2 | D16: 58.92 | J16: 0
A17: 3 | D17: 86.4 | J17: 0
A18: 4 | D18: 91.56 | J18: 0
A19: 5 | D19: 120.72 | J19: 0
A20: 6 | D20: 150.72 | J20: 0
A21: 7 | D21: 125.52 | J21: 0
A22: 8 | D22: 128.28 | J22: 0
A23: 9 | D23: 107.04 | J23: 0
A24: 10 | D24: 96 | J24: 0
A25: 11 | D25: 101.04 | J25: 0
A26: 12 | D26: 87.84 | J26: 0
... A38: 24 | D38: 66.72 | J38: 0
A39: Итого | D39: =SUM(D15:D38) -> 2366.64 | G39: =SUM(G15:G38) -> 0 | J39: =SUM(J15:J38) -> 0 | M39: =SUM(M15:M38) -> 0
A40: 1, При наличии на предприятии отклонений от нормальных режимов электропотребления (временное изменение схем питания, остановка на ремонт, резкое снижение
A41: эл,потребления и т,д,) последние необходимо перечислить,
A42: Главный инженер АО "Вологдаоблэнерго" А,В, Чурляев
A43: составляется самим предприятием с соблюдением всех пунктов настоящей таблицы,

Sheet 68
B1: АО "Вологдаоблэнерго" | H1: код 900151 | K1: ПС Енюково ф, Соболево
B2: наименование предприятия | K2: наименование источника питания
K3: ТП-323
B4: ул, Горького, 99 | G4: Таблица № 1
B5: адрес
A6: почасовых записей показаний электрических счетчиков
A7: ='1'!A7:Q7 -> в режимный день 21 ДЕКАБРЯ 2022 г.
A8: 1630 | B8: 1628
A9: часы суток | B9: Активная энергия | H9: Реактивная энергия
B10: =K3 -> ТП-323 | E10: =K4 -> 0 | H10: =B10 -> ТП-323 | K10: =E10 -> 0
B11: Расчет, Коэф, | D11: 20 | E11: Расчет, Коэф, | G11: 120 | H11: Расчет, Коэф, | J11: =D11 -> 20 | K11: Расчет, Коэф, | M11: =G11 -> 120
B12: показания счетчика | C12: разность | D12: расход эл,энергии за час | E12: показания счетчика | F12: разность | G12: расход эл,энергии за час | H12: показания счетчика | I12: разность | J12: расход эл,энергии за час | K12: показания счетчика | L12: разность | M12: расход эл,энергии за час
A13: 1 | B13: 2 | C13: 3 | D13: 4 | E13: 5 | F13: 6 | G13: 7 | H13: 8 | I13: 9 | J13: 10 | K13: 11 | L13: 12 | M13: 13
A14: 0
A15: 1 | D15: 13.66 | J15: 0
A16: 2 | D16: 13.64 | J16: 0
A17: 3 | D17: 7.72 | J17: 0
A18: 4 | D18: 3.56 | J18: 0
A19: 5 | D19: 3.58 | J19: 0
A20: 6 | D20: 3.68 | J20: 0
A21: 7 | D21: 3.74 | J21: 0
A22: 8 | D22: 3.58 | J22: 0
A23: 9 | D23: 3.64 | J23: 0
A24: 10 | D24: 8.88 | J24: 0
A25: 11 | D25: 11.6 | J25: 0
A26: 12 | D26: 12.06 | J26: 0
... A38: 24 | D38: 13.9 | J38: 0
A39: Итого | D39: =SUM(D15:D38) -> 225 | G39: =SUM(G15:G38) -> 0 | J39: =SUM(J15:J38) -> 0 | M39: =SUM(M15:M38) -> 0
A40: 1, При наличии на предприятии отклонений от нормальных режимов электропотребления (временное изменение схем питания, остановка на ремонт, резкое снижение
A41: эл,потребления и т,д,) последние необходимо перечислить,
A42: Главный инженер АО "Вологдаоблэнерго" А,В, Чурляев
A43: составляется самим предприятием с соблюдением всех пунктов настоящей таблицы,

Sheet 69
B1: АО "Вологдаоблэнерго" | H1: код 900151 | K1: ПС Поповка, ф,Привалино
B2: наименование предприятия | K2: наименование источника питания
K3: КТП-Поселок Поповка
B4: ул, Горького, 99 | G4: Таблица № 1
B5: адрес
A6: почасовых записей показаний электрических счетчиков
A7: ='1'!A7:Q7 -> в режимный день 21 ДЕКАБРЯ 2022 г.
A8: 1630 | B8: 1628
A9: часы суток | B9: Активная энергия | H9: Реактивная энергия
B10: =K3 -> КТП-Поселок Поповка | E10: =K4 -> 0 | H10: =B10 -> КТП-Поселок Поповка | K10: =E10 -> 0
B11: Расчет, Коэф, | D11: 40 | E11: Расчет, Коэф, | G11: 120 | H11: Расчет, Коэф, | J11: =D11 -> 40 | K11: Расчет, Коэф, | M11: =G11 -> 120
B12: показания счетчика | C12: разность | D12: расход эл,энергии за час | E12: показания счетчика | F12: разность | G12: расход эл,энергии за час | H12: показания счетчика | I12: разность | J12: расход эл,энергии за час | K12: показания счетчика | L12: разность | M12: расход эл,энергии за час
A13: 1 | B13: 2 | C13: 3 | D13: 4 | E13: 5 | F13: 6 | G13: 7 | H13: 8 | I13: 9 | J13: 10 | K13: 11 | L13: 12 | M13: 13
A14: 0
A15: 1 | D15: 16.68 | J15: 0
A16: 2 | D16: 16.08 | J16: 0
A17: 3 | D17: 16.02 | J17: 0
A18: 4 | D18: 17.1 | J18: 0
A19: 5 | D19: 10.32 | J19: 0
A20: 6 | D20: 10.32 | J20: 0
A21: 7 | D21: 15.06 | J21: 0
A22: 8 | D22: 17.4 | J22: 0
A23: 9 | D23: 21.66 | J23: 0
A24: 10 | D24: 21.06 | J24: 0
A25: 11 | D25: 21.96 | J25: 0
A26: 12 | D26: 17.64 | J26: 0
... A38: 24 | D38: 18.72 | J38: 0
A39: Итого | D39: =SUM(D15:D38) -> 448.74 | G39: =SUM(G15:G38) -> 0 | J39: =SUM(J15:J38) -> 0 | M39: =SUM(M15:M38) -> 0
A40: 1, При наличии на предприятии отклонений от нормальных режимов электропотребления (временное изменение схем питания, остановка на ремонт, резкое снижение
A41: эл,потребления и т,д,) последние необходимо перечислить,
A42: Главный инженер АО "Вологдаоблэнерго" А,В, Чурляев
A43: составляется самим предприятием с соблюдением всех пунктов настоящей таблицы,

Sheet 70
B1: АО "Вологдаоблэнерго" | H1: код 900151 | K1: ПС Загородная, ф,Парфеново
B2: наименование предприятия | K2: наименование источника питания
K3: ТП-69 (КТПН-23)
B4: ул, Горького, 99 | G4: Таблица № 1
B5: адрес
A6: почасовых записей показаний электрических счетчиков
A7: ='1'!A7:Q7 -> в режимный день 21 ДЕКАБРЯ 2022 г.
A8: 1630 | B8: 1628
A9: часы суток | B9: Активная энергия | H9: Реактивная энергия
B10: =K3 -> ТП-69 (КТПН-23) | E10: =K4 -> 0 | H10: =B10 -> ТП-69 (КТПН-23) | K10: =E10 -> 0
B11: Расчет, Коэф, | D11: 20 | E11: Расчет, Коэф, | G11: 120 | H11: Расчет, Коэф, | J11: =D11 -> 20 | K11: Расчет, Коэф, | M11: =G11 -> 120
B12: показания счетчика | C12: разность | D12: расход эл,энергии за час | E12: показания счетчика | F12: разность | G12: расход эл,энергии за час | H12: показания счетчика | I12: разность | J12: расход эл,энергии за час | K12: показания счетчика | L12: разность | M12: расход эл,энергии за час
A13: 1 | B13: 2 | C13: 3 | D13: 4 | E13: 5 | F13: 6 | G13: 7 | H13: 8 | I13: 9 | J13: 10 | K13: 11 | L13: 12 | M13: 13
A14: 0
A15: 1 | D15: 0 | J15: 0
A16: 2 | D16: 0 | J16: 0
A17: 3 | D17: 0 | J17: 0
A18: 4 | D18: 0 | J18: 0
A19: 5 | D19: 0 | J19: 0
A20: 6 | D20: 0 | J20: 0
A21: 7 | D21: 0 | J21: 0
A22: 8 | D22: 0 | J22: 0
A23: 9 | D23: 0 | J23: 0
A24: 10 | D24: 0 | J24: 0
A25: 11 | D25: 0 | J25: 0
A26: 12 | D26: 0 | J26: 0
... A38: 24 | D38: 0 | J38: 0
A39: Итого | D39: =SUM(D15:D38) -> 0 | G39: =SUM(G15:G38) -> 0 | J39: =SUM(J15:J38) -> 0 | M39: =SUM(M15:M38) -> 0
A40: 1, При наличии на предприятии отклонений от нормальных режимов электропотребления (временное изменение схем питания, остановка на ремонт, резкое снижение
A41: эл,потребления и т,д,) последние необходимо перечислить,
A42: Главный инженер АО "Вологдаоблэнерго" А,В, Чурляев
A43: составляется самим предприятием с соблюдением всех пунктов настоящей таблицы,

Sheet 71
B1: АО "Вологдаоблэнерго" | H1: код 900151 | K1: ПС Нелазское, ф, к-сНелазское-1
B2: наименование предприятия | K2: наименование источника питания
K3: ТП-Мастерские Шулма
B4: ул, Горького, 99 | G4: Таблица № 1
B5: адрес
A6: почасовых записей показаний электрических счетчиков
A7: ='1'!A7:Q7 -> в режимный день 21 ДЕКАБРЯ 2022 г.
A8: 1630 | B8: 1628
A9: часы суток | B9: Активная энергия | H9: Реактивная энергия
B10: =K3 -> ТП-Мастерские Шулма | E10: =K4 -> 0 | H10: =B10 -> ТП-Мастерские Шулма | K10: =E10 -> 0
B11: Расчет, Коэф, | D11: 60 | E11: Расчет, Коэф, | G11: 120 | H11: Расчет, Коэф, | J11: =D11 -> 60 | K11: Расчет, Коэф, | M11: =G11 -> 120
B12: показания счетчика | C12: разность | D12: расход эл,энергии за час | E12: показания счетчика | F12: разность | G12: расход эл,энергии за час | H12: показания счетчика | I12: разность | J12: расход эл,энергии за час | K12: показания счетчика | L12: разность | M12: расход эл,энергии за час
A13: 1 | B13: 2 | C13: 3 | D13: 4 | E13: 5 | F13: 6 | G13: 7 | H13: 8 | I13: 9 | J13: 10 | K13: 11 | L13: 12 | M13: 13
A14: 0
A15: 1 | D15: 0.87 | J15: 0
A16: 2 | D16: 0.87 | J16: 0
A17: 3 | D17: 3.27 | J17: 0
A18: 4 | D18: 4.95 | J18: 0
A19: 5 | D19: 4.86 | J19: 0
A20: 6 | D20: 4.17 | J20: 0
A21: 7 | D21: 0.78 | J21: 0
A22: 8 | D22: 1.35 | J22: 0
A23: 9 | D23: 1.86 | J23: 0
A24: 10 | D24: 3.6 | J24: 0
A25: 11 | D25: 2.73 | J25: 0
A26: 12 | D26: 3.33 | J26: 0
... A38: 24 | D38: 1.74 | J38: 0
A39: Итого | D39: =SUM(D15:D38) -> 62.16 | G39: =SUM(G15:G38) -> 0 | J39: =SUM(J15:J38) -> 0 | M39: =SUM(M15:M38) -> 0
A40: 1, При наличии на предприятии отклонений от нормальных режимов электропотребления (временное изменение схем питания, остановка на ремонт, резкое снижение
A41: эл,потребления и т,д,) последние необходимо перечислить,
A42: Главный инженер АО "Вологдаоблэнерго" А,В, Чурляев
A43: составляется самим предприятием с соблюдением всех пунктов настоящей таблицы,

Sheet 72
B1: АО "Вологдаоблэнерго" | H1: код 900151 | K1: ПС Нелазское, ф, Крутец
B2: наименование предприятия | K2: наименование источника питания
K3: КТП-Шулма, ул,Олимпийская
B4: ул, Горького, 99 | G4: Таблица № 1
B5: адрес
A6: почасовых записей показаний электрических счетчиков
A7: ='1'!A7:Q7 -> в режимный день 21 ДЕКАБРЯ 2022 г.
A8: 1630 | B8: 1628
A9: часы суток | B9: Активная энергия | H9: Реактивная энергия
B10: =K3 -> КТП-Шулма, ул,Олимпийская | E10: =K4 -> 0 | H10: =B10 -> КТП-Шулма, ул,Олимпийская | K10: =E10 -> 0
B11: Расчет, Коэф, | D11: 60 | E11: Расчет, Коэф, | G11: 120 | H11: Расчет, Коэф, | J11: =D11 -> 60 | K11: Расчет, Коэф, | M11: =G11 -> 120
B12: показания счетчика | C12: разность | D12: расход эл,энергии за час | E12: показания счетчика | F12: разность | G12: расход эл,энергии за час | H12: показания счетчика | I12: разность | J12: расход эл,энергии за час | K12: показания счетчика | L12: разность | M12: расход эл,энергии за час
A13: 1 | B13: 2 | C13: 3 | D13: 4 | E13: 5 | F13: 6 | G13: 7 | H13: 8 | I13: 9 | J13: 10 | K13: 11 | L13: 12 | M13: 13
A14: 0
A15: 1 | D15: 21.81 | J15: 0
A16: 2 | D16: 22.02 | J16: 0
A17: 3 | D17: 17.85 | J17: 0
A18: 4 | D18: 16.41 | J18: 0
A19: 5 | D19: 16.41 | J19: 0
A20: 6 | D20: 18.27 | J20: 0
A21: 7 | D21: 20.43 | J21: 0
A22: 8 | D22: 22.02 | J22: 0
A23: 9 | D23: 20.76 | J23: 0
A24: 10 | D24: 21.93 | J24: 0
A25: 11 | D25: 20.94 | J25: 0
A26: 12 | D26: 20.07 | J26: 0
... A38: 24 | D38: 29.49 | J38: 0
A39: Итого | D39: =SUM(D15:D38) -> 566.94 | G39: =SUM(G15:G38) -> 0 | J39: =SUM(J15:J38) -> 0 | M39: =SUM(M15:M38) -> 0
A40: 1, При наличии на предприятии отклонений от нормальных режимов электропотребления (временное изменение схем питания, остановка на ремонт, резкое снижение
A41: эл,потребления и т,д,) последние необходимо перечислить,
A42: Главный инженер АО "Вологдаоблэнерго" А,В, Чурляев
A43: составляется самим предприятием с соблюдением всех пунктов настоящей таблицы,

Sheet 73
B1: АО "Вологдаоблэнерго" | H1: код 900151 | K1: ПС Домозерово, ф, Починок
B2: наименование предприятия | K2: наименование источника питания
K3: КТП-Бомк
B4: ул, Горького, 99 | G4: Таблица № 1
B5: адрес
A6: почасовых записей показаний электрических счетчиков
A7: ='1'!A7:Q7 -> в режимный день 21 ДЕКАБРЯ 2022 г.
A8: 1630 | B8: 1628
A9: часы суток | B9: Активная энергия | H9: Реактивная энергия
B10: =K3 -> КТП-Бомк | E10: =K4 -> 0 | H10: =B10 -> КТП-Бомк | K10: =E10 -> 0
B11: Расчет, Коэф, | D11: 80 | E11: Расчет, Коэф, | G11: 120 | H11: Расчет, Коэф, | J11: =D11 -> 80 | K11: Расчет, Коэф, | M11: =G11 -> 120
B12: показания счетчика | C12: разность | D12: расход эл,энергии за час | E12: показания счетчика | F12: разность | G12: расход эл,энергии за час | H12: показания счетчика | I12: разность | J12: расход эл,энергии за час | K12: показания счетчика | L12: разность | M12: расход эл,энергии за час
A13: 1 | B13: 2 | C13: 3 | D13: 4 | E13: 5 | F13: 6 | G13: 7 | H13: 8 | I13: 9 | J13: 10 | K13: 11 | L13: 12 | M13: 13
A14: 0
A15: 1 | D15: 63.072 | J15: 0
A16: 2 | D16: 76.704 | J16: 0
A17: 3 | D17: 71.216 | J17: 0
A18: 4 | D18: 66.928 | J18: 0
A19: 5 | D19: 72.864 | J19: 0
A20: 6 | D20: 65.504 | J20: 0
A21: 7 | D21: 71.056 | J21: 0
A22: 8 | D22: 83.12 | J22: 0
A23: 9 | D23: 71.936 | J23: 0
A24: 10 | D24: 63.024 | J24: 0
A25: 11 | D25: 65.088 | J25: 0
A26: 12 | D26: 78.56 | J26: 0
... A38: 24 | D38: 88.832 | J38: 0
A39: Итого | D39: =SUM(D15:D38) -> 1818.752 | G39: =SUM(G15:G38) -> 0 | J39: =SUM(J15:J38) -> 0 | M39: =SUM(M15:M38) -> 0
A40: 1, При наличии на предприятии отклонений от нормальных режимов электропотребления (временное изменение схем питания, остановка на ремонт, резкое снижение
A41: эл,потребления и т,д,) последние необходимо перечислить,
A42: Главный инженер АО "Вологдаоблэнерго" А,В, Чурляев
A43: составляется самим предприятием с соблюдением всех пунктов настоящей таблицы,

Sheet 74
B1: АО "Вологдаоблэнерго" | H1: код 900151 | K1: ПС Батран, ф,Гоша
B2: наименование предприятия | K2: наименование источника питания
K3: КТП-ДНТ Ульяновский
B4: ул, Горького, 99 | G4: Таблица № 1
B5: адрес
A6: почасовых записей показаний электрических счетчиков
A7: ='1'!A7:Q7 -> в режимный день 21 ДЕКАБРЯ 2022 г.
A8: 1630 | B8: 1628
A9: часы суток | B9: Активная энергия | H9: Реактивная энергия
B10: =K3 -> КТП-ДНТ Ульяновский | E10: =K4 -> 0 | H10: =B10 -> КТП-ДНТ Ульяновский | K10: =E10 -> 0
B11: Расчет, Коэф, | D11: 60 | E11: Расчет, Коэф, | G11: 120 | H11: Расчет, Коэф, | J11: =D11 -> 60 | K11: Расчет, Коэф, | M11: =G11 -> 120
B12: показания счетчика | C12: разность | D12: расход эл,энергии за час | E12: показания счетчика | F12: разность | G12: расход эл,энергии за час | H12: показания счетчика | I12: разность | J12: расход эл,энергии за час | K12: показания счетчика | L12: разность | M12: расход эл,энергии за час
A13: 1 | B13: 2 | C13: 3 | D13: 4 | E13: 5 | F13: 6 | G13: 7 | H13: 8 | I13: 9 | J13: 10 | K13: 11 | L13: 12 | M13: 13
A14: 0
A15: 1 | D15: 3 | J15: 0
A16: 2 | D16: 3.06 | J16: 0
A17: 3 | D17: 3.12 | J17: 0
A18: 4 | D18: 3 | J18: 0
A19: 5 | D19: 3.12 | J19: 0
A20: 6 | D20: 3.06 | J20: 0
A21: 7 | D21: 2.94 | J21: 0
A22: 8 | D22: 3.06 | J22: 0
A23: 9 | D23: 3.9 | J23: 0
A24: 10 | D24: 3.24 | J24: 0
A25: 11 | D25: 3.24 | J25: 0
A26: 12 | D26: 3.48 | J26: 0
... A38: 24 | D38: 3.18 | J38: 0
A39: Итого | D39: =SUM(D15:D38) -> 77.28 | G39: =SUM(G15:G38) -> 0 | J39: =SUM(J15:J38) -> 0 | M39: =SUM(M15:M38) -> 0
A40: 1, При наличии на предприятии отклонений от нормальных режимов электропотребления (временное изменение схем питания, остановка на ремонт, резкое снижение
A41: эл,потребления и т,д,) последние необходимо перечислить,
A42: Главный инженер АО "Вологдаоблэнерго" А,В, Чурляев
A43: составляется самим предприятием с соблюдением всех пунктов настоящей таблицы,

Sheet 75
B1: АО "Вологдаоблэнерго" | H1: код 900151 | K1: ПС Малечкино, ф,Котельная
B2: наименование предприятия | K2: наименование источника питания
K3: ТП-47 В-1
B4: ул, Горького, 99 | G4: Таблица № 1 | K4: ТП-47 В-2
B5: адрес
A6: почасовых записей показаний электрических счетчиков
A7: ='1'!A7:Q7 -> в режимный день 21 ДЕКАБРЯ 2022 г.
A8: 1630 | B8: 1628
A9: часы суток | B9: Активная энергия | H9: Реактивная энергия
B10: =K3 -> ТП-47 В-1 | E10: =K4 -> ТП-47 В-2 | H10: =B10 -> ТП-47 В-1 | K10: =E10 -> ТП-47 В-2
B11: Расчет, Коэф, | D11: 120 | E11: Расчет, Коэф, | G11: 120 | H11: Расчет, Коэф, | J11: =D11 -> 120 | K11: Расчет, Коэф, | M11: =G11 -> 120
B12: показания счетчика | C12: разность | D12: расход эл,энергии за час | E12: показания счетчика | F12: разность | G12: расход эл,энергии за час | H12: показания счетчика | I12: разность | J12: расход эл,энергии за час | K12: показания счетчика | L12: разность | M12: расход эл,энергии за час
A13: 1 | B13: 2 | C13: 3 | D13: 4 | E13: 5 | F13: 6 | G13: 7 | H13: 8 | I13: 9 | J13: 10 | K13: 11 | L13: 12 | M13: 13
A14: 0
A15: 1 | D15: 0 | G15: 75.864 | J15: 0 | M15: 0
A16: 2 | D16: 0 | G16: 75.264 | J16: 0 | M16: 0
A17: 3 | D17: 0 | G17: 74.928 | J17: 0 | M17: 0
A18: 4 | D18: 0 | G18: 75.048 | J18: 0 | M18: 0
A19: 5 | D19: 0 | G19: 74.904 | J19: 0 | M19: 0
A20: 6 | D20: 0 | G20: 75.552 | J20: 0 | M20: 0
A21: 7 | D21: 0 | G21: 75.672 | J21: 0 | M21: 0
A22: 8 | D22: 0 | G22: 75.744 | J22: 0 | M22: 0
A23: 9 | D23: 0 | G23: 75.96 | J23: 0 | M23: 0
A24: 10 | D24: 0 | G24: 75.648 | J24: 0 | M24: 0
A25: 11 | D25: 0 | G25: 75.24 | J25: 0 | M25: 0
A26: 12 | D26: 0 | G26: 75.24 | J26: 0 | M26: 0
... A38: 24 | D38: 0 | G38: 75.888 | J38: 0 | M38: 0
A39: Итого | D39: =SUM(D15:D38) -> 0 | G39: =SUM(G15:G38) -> 1815.816 | J39: =SUM(J15:J38) -> 0 | M39: =SUM(M15:M38) -> 0
A40: 1, При наличии на предприятии отклонений от нормальных режимов электропотребления (временное изменение схем питания, остановка на ремонт, резкое снижение
A41: эл,потребления и т,д,) последние необходимо перечислить,
A42: Главный инженер АО "Вологдаоблэнерго" А,В, Чурляев
A43: составляется самим предприятием с соблюдением всех пунктов настоящей таблицы,

Sheet 76
B1: АО "Вологдаоблэнерго" | H1: код 900151 | K1: ПС Малечкино, ф,Птицефабрика
B2: наименование предприятия | K2: наименование источника питания
K3: ТП-9 В-1
B4: ул, Горького, 99 | G4: Таблица № 1
B5: адрес
A6: почасовых записей показаний электрических счетчиков
A7: ='1'!A7:Q7 -> в режимный день 21 ДЕКАБРЯ 2022 г.
A8: 1630 | B8: 1628
A9: часы суток | B9: Активная энергия | H9: Реактивная энергия
B10: =K3 -> ТП-9 В-1 | E10: =K4 -> 0 | H10: =B10 -> ТП-9 В-1 | K10: =E10 -> 0
B11: Расчет, Коэф, | D11: 40 | E11: Расчет, Коэф, | G11: 120 | H11: Расчет, Коэф, | J11: =D11 -> 40 | K11: Расчет, Коэф, | M11: =G11 -> 120
B12: показания счетчика | C12: разность | D12: расход эл,энергии за час | E12: показания счетчика | F12: разность | G12: расход эл,энергии за час | H12: показания счетчика | I12: разность | J12: расход эл,энергии за час | K12: показания счетчика | L12: разность | M12: расход эл,энергии за час
A13: 1 | B13: 2 | C13: 3 | D13: 4 | E13: 5 | F13: 6 | G13: 7 | H13: 8 | I13: 9 | J13: 10 | K13: 11 | L13: 12 | M13: 13
A14: 0
A15: 1 | D15: 0 | J15: 0
A16: 2 | D16: 0 | J16: 0
A17: 3 | D17: 0 | J17: 0
A18: 4 | D18: 0 | J18: 0
A19: 5 | D19: 0 | J19: 0
A20: 6 | D20: 0 | J20: 0
A21: 7 | D21: 0 | J21: 0
A22: 8 | D22: 0 | J22: 0
A23: 9 | D23: 0 | J23: 0
A24: 10 | D24: 0 | J24: 0
A25: 11 | D25: 0 | J25: 0
A26: 12 | D26: 0 | J26: 0
... A38: 24 | D38: 0 | J38: 0
A39: Итого | D39: =SUM(D15:D38) -> 0 | G39: =SUM(G15:G38) -> 0 | J39: =SUM(J15:J38) -> 0 | M39: =SUM(M15:M38) -> 0
A40: 1, При наличии на предприятии отклонений от нормальных режимов электропотребления (временное изменение схем питания, остановка на ремонт, резкое снижение
A41: эл,потребления и т,д,) последние необходимо перечислить,
A42: Главный инженер АО "Вологдаоблэнерго" А,В, Чурляев
A43: составляется самим предприятием с соблюдением всех пунктов настоящей таблицы,

Sheet 77
B1: АО "Вологдаоблэнерго" | H1: код 900151 | K1: ПС Малечкино, ф,Котельная
B2: наименование предприятия | K2: наименование источника питания
K3: ТП-9 В-2
B4: ул, Горького, 99 | G4: Таблица № 1
B5: адрес
A6: почасовых записей показаний электрических счетчиков
A7: ='1'!A7:Q7 -> в режимный день 21 ДЕКАБРЯ 2022 г.
A8: 1630 | B8: 1628
A9: часы суток | B9: Активная энергия | H9: Реактивная энергия
B10: =K3 -> ТП-9 В-2 | E10: =K4 -> 0 | H10: =B10 -> ТП-9 В-2 | K10: =E10 -> 0
B11: Расчет, Коэф, | D11: 40 | E11: Расчет, Коэф, | G11: 120 | H11: Расчет, Коэф, | J11: =D11 -> 40 | K11: Расчет, Коэф, | M11: =G11 -> 120
B12: показания счетчика | C12: разность | D12: расход эл,энергии за час | E12: показания счетчика | F12: разность | G12: расход эл,энергии за час | H12: показания счетчика | I12: разность | J12: расход эл,энергии за час | K12: показания счетчика | L12: разность | M12: расход эл,энергии за час
A13: 1 | B13: 2 | C13: 3 | D13: 4 | E13: 5 | F13: 6 | G13: 7 | H13: 8 | I13: 9 | J13: 10 | K13: 11 | L13: 12 | M13: 13
A14: 0
A15: 1 | D15: 10.008 | J15: 0
A16: 2 | D16: 9.072 | J16: 0
A17: 3 | D17: 10.456 | J17: 0
A18: 4 | D18: 10.488 | J18: 0
A19: 5 | D19: 13.672 | J19: 0
A20: 6 | D20: 17.424 | J20: 0
A21: 7 | D21: 26.928 | J21: 0
A22: 8 | D22: 20.808 | J22: 0
A23: 9 | D23: 28.288 | J23: 0
A24: 10 | D24: 28.936 | J24: 0
A25: 11 | D25: 22.616 | J25: 0
A26: 12 | D26: 26.6 | J26: 0
... A38: 24 | D38: 13.696 | J38: 0
A39: Итого | D39: =SUM(D15:D38) -> 418.648 | G39: =SUM(G15:G38) -> 0 | J39: =SUM(J15:J38) -> 0 | M39: =SUM(M15:M38) -> 0
A40: 1, При наличии на предприятии отклонений от нормальных режимов электропотребления (временное изменение схем питания, остановка на ремонт, резкое снижение
A41: эл,потребления и т,д,) последние необходимо перечислить,
A42: Главный инженер АО "Вологдаоблэнерго" А,В, Чурляев
A43: составляется самим предприятием с соблюдением всех пунктов настоящей таблицы,

Sheet 78
B1: АО "Вологдаоблэнерго" | H1: код 900151 | K1: ПС Загородная, ф,Солнаское
B2: наименование предприятия | K2: наименование источника питания
K3: ТП Северо-Западный т,д,
B4: ул, Горького, 99 | G4: Таблица № 1 | K4: КТП- Мелиоводстрой
B5: адрес
A6: почасовых записей показаний электрических счетчиков
A7: ='1'!A7:Q7 -> в режимный день 21 ДЕКАБРЯ 2022 г.
A8: 1630 | B8: 1628
A9: часы суток | B9: Активная энергия | H9: Реактивная энергия
B10: =K3 -> ТП Северо-Западный т,д, | E10: =K4 -> КТП- Мелиоводстрой | H10: =B10 -> ТП Северо-Западный т,д, | K10: =E10 -> КТП- Мелиоводстрой
B11: Расчет, Коэф, | D11: 120 | E11: Расчет, Коэф, | G11: 200 | H11: Расчет, Коэф, | J11: =D11 -> 120 | K11: Расчет, Коэф, | M11: =G11 -> 200
B12: показания счетчика | C12: разность | D12: расход эл,энергии за час | E12: показания счетчика | F12: разность | G12: расход эл,энергии за час | H12: показания счетчика | I12: разность | J12: расход эл,энергии за час | K12: показания счетчика | L12: разность | M12: расход эл,энергии за час
A13: 1 | B13: 2 | C13: 3 | D13: 4 | E13: 5 | F13: 6 | G13: 7 | H13: 8 | I13: 9 | J13: 10 | K13: 11 | L13: 12 | M13: 13
A14: 0
A15: 1 | D15: 5.28 | G15: 163.76 | J15: 0 | M15: 0
A16: 2 | D16: 5.76 | G16: 164.92 | J16: 0 | M16: 0
A17: 3 | D17: 5.4 | G17: 150.4 | J17: 0 | M17: 0
A18: 4 | D18: 5.64 | G18: 145.8 | J18: 0 | M18: 0
A19: 5 | D19: 5.52 | G19: 151.84 | J19: 0 | M19: 0
A20: 6 | D20: 5.76 | G20: 155.08 | J20: 0 | M20: 0
A21: 7 | D21: 5.76 | G21: 166.92 | J21: 0 | M21: 0
A22: 8 | D22: 7.68 | G22: 188.64 | J22: 0 | M22: 0
A23: 9 | D23: 14.52 | G23: 196.44 | J23: 0 | M23: 0
A24: 10 | D24: 11.04 | G24: 178 | J24: 0 | M24: 0
A25: 11 | D25: 12.84 | G25: 181.72 | J25: 0 | M25: 0
A26: 12 | D26: 12.12 | G26: 180.4 | J26: 0 | M26: 0
... A38: 24 | D38: 4.56 | G38: 186.4 | J38: 0 | M38: 0
A39: Итого | D39: =SUM(D15:D38) -> 244.32 | G39: =SUM(G15:G38) -> 4485.24 | J39: =SUM(J15:J38) -> 0 | M39: =SUM(M15:M38) -> 0
A40: 1, При наличии на предприятии отклонений от нормальных режимов электропотребления (временное изменение схем питания, остановка на ремонт, резкое снижение
A41: эл,потребления и т,д,) последние необходимо перечислить,
A42: Главный инженер АО "Вологдаоблэнерго" А,В, Чурляев
A43: составляется самим предприятием с соблюдением всех пунктов настоящей таблицы,

Sheet 79
B1: АО "Вологдаоблэнерго" | H1: код 900151 | K1: ПС Суда, ф, Андога
B2: наименование предприятия | K2: наименование источника питания
K3: КТП-100 Детский дом
B4: ул, Горького, 99 | G4: Таблица № 1
B5: адрес
A6: почасовых записей показаний электрических счетчиков
A7: ='1'!A7:Q7 -> в режимный день 21 ДЕКАБРЯ 2022 г.
A8: 1630 | B8: 1628
A9: часы суток | B9: Активная энергия | H9: Реактивная энергия
B10: =K3 -> КТП-100 Детский дом | E10: =K4 -> 0 | H10: =B10 -> КТП-100 Детский дом | K10: =E10 -> 0
B11: Расчет, Коэф, | D11: 20 | E11: Расчет, Коэф, | G11: 200 | H11: Расчет, Коэф, | J11: =D11 -> 20 | K11: Расчет, Коэф, | M11: =G11 -> 200
B12: показания счетчика | C12: разность | D12: расход эл,энергии за час | E12: показания счетчика | F12: разность | G12: расход эл,энергии за час | H12: показания счетчика | I12: разность | J12: расход эл,энергии за час | K12: показания счетчика | L12: разность | M12: расход эл,энергии за час
A13: 1 | B13: 2 | C13: 3 | D13: 4 | E13: 5 | F13: 6 | G13: 7 | H13: 8 | I13: 9 | J13: 10 | K13: 11 | L13: 12 | M13: 13
A14: 0
A15: 1 | D15: 7.956 | J15: 0
A16: 2 | D16: 7.86 | J16: 0
A17: 3 | D17: 7.844 | J17: 0
A18: 4 | D18: 7.832 | J18: 0
A19: 5 | D19: 7.82 | J19: 0
A20: 6 | D20: 7.848 | J20: 0
A21: 7 | D21: 7.836 | J21: 0
A22: 8 | D22: 7.948 | J22: 0
A23: 9 | D23: 9.208 | J23: 0
A24: 10 | D24: 9.316 | J24: 0
A25: 11 | D25: 9.132 | J25: 0
A26: 12 | D26: 9.304 | J26: 0
... A38: 24 | D38: 6.392 | J38: 0
A39: Итого | D39: =SUM(D15:D38) -> 190.608 | G39: =SUM(G15:G38) -> 0 | J39: =SUM(J15:J38) -> 0 | M39: =SUM(M15:M38) -> 0
A40: 1, При наличии на предприятии отклонений от нормальных режимов электропотребления (временное изменение схем питания, остановка на ремонт, резкое снижение
A41: эл,потребления и т,д,) последние необходимо перечислить,
A42: Главный инженер АО "Вологдаоблэнерго" А,В, Чурляев
A43: составляется самим предприятием с соблюдением всех пунктов настоящей таблицы,

Sheet 80
B1: АО "Вологдаоблэнерго" | H1: код 900151 | K1: ПС Климовская, ф, Лохта
B2: наименование предприятия | K2: наименование источника питания
K3: ТП-325
B4: ул, Горького, 99 | G4: Таблица № 1
B5: адрес
A6: почасовых записей показаний электрических счетчиков
A7: ='1'!A7:Q7 -> в режимный день 21 ДЕКАБРЯ 2022 г.
A8: 1630 | B8: 1628
A9: часы суток | B9: Активная энергия | H9: Реактивная энергия
B10: =K3 -> ТП-325 | E10: =K4 -> 0 | H10: =B10 -> ТП-325 | K10: =E10 -> 0
B11: Расчет, Коэф, | D11: 120 | E11: Расчет, Коэф, | G11: 200 | H11: Расчет, Коэф, | J11: =D11 -> 120 | K11: Расчет, Коэф, | M11: =G11 -> 200
B12: показания счетчика | C12: разность | D12: расход эл,энергии за час | E12: показания счетчика | F12: разность | G12: расход эл,энергии за час | H12: показания счетчика | I12: разность | J12: расход эл,энергии за час | K12: показания счетчика | L12: разность | M12: расход эл,энергии за час
A13: 1 | B13: 2 | C13: 3 | D13: 4 | E13: 5 | F13: 6 | G13: 7 | H13: 8 | I13: 9 | J13: 10 | K13: 11 | L13: 12 | M13: 13
A14: 0
A15: 1 | D15: 0.42 | J15: 0
A16: 2 | D16: 0.48 | J16: 0
A17: 3 | D17: 0.48 | J17: 0
A18: 4 | D18: 0.48 | J18: 0
A19: 5 | D19: 0.42 | J19: 0
A20: 6 | D20: 0.54 | J20: 0
A21: 7 | D21: 0.42 | J21: 0
A22: 8 | D22: 0.48 | J22: 0
A23: 9 | D23: 5.4 | J23: 0
A24: 10 | D24: 5.16 | J24: 0
A25: 11 | D25: 8.64 | J25: 0
A26: 12 | D26: 6.66 | J26: 0
... A38: 24 | D38: 0.48 | J38: 0
A39: Итого | D39: =SUM(D15:D38) -> 42.78 | G39: =SUM(G15:G38) -> 0 | J39: =SUM(J15:J38) -> 0 | M39: =SUM(M15:M38) -> 0
A40: 1, При наличии на предприятии отклонений от нормальных режимов электропотребления (временное изменение схем питания, остановка на ремонт, резкое снижение
A41: эл,потребления и т,д,) последние необходимо перечислить,
A42: Главный инженер АО "Вологдаоблэнерго" А,В, Чурляев
A43: составляется самим предприятием с соблюдением всех пунктов настоящей таблицы,

Sheet 81
B1: АО "Вологдаоблэнерго" | H1: код 900151 | K1: ПС Енюково, ф, Ботово
B2: наименование предприятия | K2: наименование источника питания
K3: ТП-Новое Ботово
B4: ул, Горького, 99 | G4: Таблица № 1 | K4: КТП- д,Ботово
B5: адрес
A6: почасовых записей показаний электрических счетчиков
A7: ='1'!A7:Q7 -> в режимный день 21 ДЕКАБРЯ 2022 г.
A8: 1630 | B8: 1628
A9: часы суток | B9: Активная энергия | H9: Реактивная энергия
B10: =K3 -> ТП-Новое Ботово | E10: =K4 -> КТП- д,Ботово | H10: =B10 -> ТП-Новое Ботово | K10: =E10 -> КТП- д,Ботово
B11: Расчет, Коэф, | D11: 40 | E11: Расчет, Коэф, | G11: 40 | H11: Расчет, Коэф, | J11: =D11 -> 40 | K11: Расчет, Коэф, | M11: =G11 -> 40
B12: показания счетчика | C12: разность | D12: расход эл,энергии за час | E12: показания счетчика | F12: разность | G12: расход эл,энергии за час | H12: показания счетчика | I12: разность | J12: расход эл,энергии за час | K12: показания счетчика | L12: разность | M12: расход эл,энергии за час
A13: 1 | B13: 2 | C13: 3 | D13: 4 | E13: 5 | F13: 6 | G13: 7 | H13: 8 | I13: 9 | J13: 10 | K13: 11 | L13: 12 | M13: 13
A14: 0
A15: 1 | D15: 21.08 | G15: 0 | J15: 0 | M15: 0
A16: 2 | D16: 20.56 | G16: 0 | J16: 0 | M16: 0
A17: 3 | D17: 22 | G17: 0 | J17: 0 | M17: 0
A18: 4 | D18: 22.28 | G18: 0 | J18: 0 | M18: 0
A19: 5 | D19: 22.56 | G19: 0 | J19: 0 | M19: 0
A20: 6 | D20: 21.88 | G20: 0 | J20: 0 | M20: 0
A21: 7 | D21: 17.52 | G21: 0 | J21: 0 | M21: 0
A22: 8 | D22: 31.96 | G22: 0 | J22: 0 | M22: 0
A23: 9 | D23: 27.68 | G23: 0 | J23: 0 | M23: 0
A24: 10 | D24: 22.28 | G24: 0 | J24: 0 | M24: 0
A25: 11 | D25: 26.92 | G25: 0 | J25: 0 | M25: 0
A26: 12 | D26: 32.12 | G26: 0 | J26: 0 | M26: 0
... A38: 24 | D38: 20.32 | G38: 0 | J38: 0 | M38: 0
A39: Итого | D39: =SUM(D15:D38) -> 644.4 | G39: =SUM(G15:G38) -> 0 | J39: =SUM(J15:J38) -> 0 | M39: =SUM(M15:M38) -> 0
A40: 1, При наличии на предприятии отклонений от нормальных режимов электропотребления (временное изменение схем питания, остановка на ремонт, резкое снижение
A41: эл,потребления и т,д,) последние необходимо перечислить,
A42: Главный инженер АО "Вологдаоблэнерго" А,В, Чурляев
A43: составляется самим предприятием с соблюдением всех пунктов настоящей таблицы,

Sheet 82
B1: АО "Вологдаоблэнерго" | H1: код 900151 | K1: ПС Енюково, ф, Борисово
B2: наименование предприятия | K2: наименование источника питания
K3: КТП-100 АЗС №43
B4: ул, Горького, 99 | G4: Таблица № 1
B5: адрес
A6: почасовых записей показаний электрических счетчиков
A7: ='1'!A7:Q7 -> в режимный день 21 ДЕКАБРЯ 2022 г.
A8: 1630 | B8: 1628
A9: часы суток | B9: Активная энергия | H9: Реактивная энергия
B10: =K3 -> КТП-100 АЗС №43 | E10: =K4 -> 0 | H10: =B10 -> КТП-100 АЗС №43 | K10: =E10 -> 0
B11: Расчет, Коэф, | D11: 30 | E11: Расчет, Коэф, | G11: 40 | H11: Расчет, Коэф, | J11: =D11 -> 30 | K11: Расчет, Коэф, | M11: =G11 -> 40
B12: показания счетчика | C12: разность | D12: расход эл,энергии за час | E12: показания счетчика | F12: разность | G12: расход эл,энергии за час | H12: показания счетчика | I12: разность | J12: расход эл,энергии за час | K12: показания счетчика | L12: разность | M12: расход эл,энергии за час
A13: 1 | B13: 2 | C13: 3 | D13: 4 | E13: 5 | F13: 6 | G13: 7 | H13: 8 | I13: 9 | J13: 10 | K13: 11 | L13: 12 | M13: 13
A14: 0
A15: 1 | D15: 15.048 | J15: 0
A16: 2 | D16: 15.03 | J16: 0
A17: 3 | D17: 15.078 | J17: 0
A18: 4 | D18: 16.404 | J18: 0
A19: 5 | D19: 16.392 | J19: 0
A20: 6 | D20: 15.3 | J20: 0
A21: 7 | D21: 15.396 | J21: 0
A22: 8 | D22: 15.72 | J22: 0
A23: 9 | D23: 16.452 | J23: 0
A24: 10 | D24: 15.132 | J24: 0
A25: 11 | D25: 11.448 | J25: 0
A26: 12 | D26: 11.13 | J26: 0
... A38: 24 | D38: 16.698 | J38: 0
A39: Итого | D39: =SUM(D15:D38) -> 358.158 | G39: =SUM(G15:G38) -> 0 | J39: =SUM(J15:J38) -> 0 | M39: =SUM(M15:M38) -> 0
A40: 1, При наличии на предприятии отклонений от нормальных режимов электропотребления (временное изменение схем питания, остановка на ремонт, резкое снижение
A41: эл,потребления и т,д,) последние необходимо перечислить,
A42: Главный инженер АО "Вологдаоблэнерго" А,В, Чурляев
A43: составляется самим предприятием с соблюдением всех пунктов настоящей таблицы,

Sheet 83
B1: АО "Вологдаоблэнерго" | H1: код 900151 | K1: ПС Енюково, ф, Борисово
B2: наименование предприятия | K2: наименование источника питания
K3: КТП-100 АЗС №43
B4: ул, Горького, 99 | G4: Таблица № 1 | K4: ТП- "Освещение дороги" (Аэропорт)
B5: адрес
A6: почасовых записей показаний электрических счетчиков
A7: ='1'!A7:Q7 -> в режимный день 21 ДЕКАБРЯ 2022 г.
A8: 1630 | B8: 1628
A9: часы суток | B9: Активная энергия | H9: Реактивная энергия
B10: =K3 -> КТП-100 АЗС №43 | E10: =K4 -> ТП- "Освещение дороги" (Аэропорт) | H10: =B10 -> КТП-100 АЗС №43 | K10: =E10 -> ТП- "Освещение дороги" (Аэропорт)
B11: Расчет, Коэф, | D11: 30 | E11: Расчет, Коэф, | G11: 1 | H11: Расчет, Коэф, | J11: =D11 -> 30 | K11: Расчет, Коэф, | M11: =G11 -> 1
B12: показания счетчика | C12: разность | D12: расход эл,энергии за час | E12: показания счетчика | F12: разность | G12: расход эл,энергии за час | H12: показания счетчика | I12: разность | J12: расход эл,энергии за час | K12: показания счетчика | L12: разность | M12: расход эл,энергии за час
A13: 1 | B13: 2 | C13: 3 | D13: 4 | E13: 5 | F13: 6 | G13: 7 | H13: 8 | I13: 9 | J13: 10 | K13: 11 | L13: 12 | M13: 13
A14: 0
A15: 1 | D15: 11.604 | G15: 23.9 | J15: 0 | M15: 0
A16: 2 | D16: 11.142 | G16: 23.678 | J16: 0 | M16: 0
A17: 3 | D17: 13.236 | G17: 23.878 | J17: 0 | M17: 0
A18: 4 | D18: 12.678 | G18: 23.704 | J18: 0 | M18: 0
A19: 5 | D19: 9.192 | G19: 23.47 | J19: 0 | M19: 0
A20: 6 | D20: 5.022 | G20: 23.512 | J20: 0 | M20: 0
A21: 7 | D21: 6.978 | G21: 23.688 | J21: 0 | M21: 0
A22: 8 | D22: 8.178 | G22: 23.606 | J22: 0 | M22: 0
A23: 9 | D23: 8.142 | G23: 23.478 | J23: 0 | M23: 0
A24: 10 | D24: 8.328 | G24: 3.656 | J24: 0 | M24: 0
A25: 11 | D25: 7.716 | G25: 0.04 | J25: 0 | M25: 0
A26: 12 | D26: 6.924 | G26: 0.04 | J26: 0 | M26: 0
... A38: 24 | D38: 11.826 | G38: 23.572 | J38: 0 | M38: 0
A39: Итого | D39: =SUM(D15:D38) -> 197.352 | G39: =SUM(G15:G38) -> 416.862 | J39: =SUM(J15:J38) -> 0 | M39: =SUM(M15:M38) -> 0
A40: 1, При наличии на предприятии отклонений от нормальных режимов электропотребления (временное изменение схем питания, остановка на ремонт, резкое снижение
A41: эл,потребления и т,д,) последние необходимо перечислить,
A42: Главный инженер АО "Вологдаоблэнерго" А,В, Чурляев
A43: составляется самим предприятием с соблюдением всех пунктов настоящей таблицы,

Sheet 84
B1: АО "Вологдаоблэнерго" | H1: код 900151 | K1: ПС РПП-1, ф, Шубацкое
B2: наименование предприятия | K2: наименование источника питания
K3: КТП-63 "ЧЭТС"
B4: ул, Горького, 99 | G4: Таблица № 1
B5: адрес
A6: почасовых записей показаний электрических счетчиков
A7: ='1'!A7:Q7 -> в режимный день 21 ДЕКАБРЯ 2022 г.
A8: 1630 | B8: 1628
A9: часы суток | B9: Активная энергия | H9: Реактивная энергия
B10: =K3 -> КТП-63 "ЧЭТС" | E10: =K4 -> 0 | H10: =B10 -> КТП-63 "ЧЭТС" | K10: =E10 -> 0
B11: Расчет, Коэф, | D11: 20 | E11: Расчет, Коэф, | G11: 40 | H11: Расчет, Коэф, | J11: =D11 -> 20 | K11: Расчет, Коэф, | M11: =G11 -> 40
B12: показания счетчика | C12: разность | D12: расход эл,энергии за час | E12: показания счетчика | F12: разность | G12: расход эл,энергии за час | H12: показания счетчика | I12: разность | J12: расход эл,энергии за час | K12: показания счетчика | L12: разность | M12: расход эл,энергии за час
A13: 1 | B13: 2 | C13: 3 | D13: 4 | E13: 5 | F13: 6 | G13: 7 | H13: 8 | I13: 9 | J13: 10 | K13: 11 | L13: 12 | M13: 13
A14: 0
A15: 1 | D15: 8 | J15: 0
A16: 2 | D16: 7 | J16: 0
A17: 3 | D17: 7 | J17: 0
A18: 4 | D18: 7 | J18: 0
A19: 5 | D19: 7 | J19: 0
A20: 6 | D20: 7 | J20: 0
A21: 7 | D21: 9 | J21: 0
A22: 8 | D22: 66 | J22: 0
A23: 9 | D23: 101 | J23: 0
A24: 10 | D24: 104 | J24: 0
A25: 11 | D25: 104 | J25: 0
A26: 12 | D26: 103 | J26: 0
... A38: 24 | D38: 8 | J38: 0
A39: Итого | D39: =SUM(D15:D38) -> 949 | G39: =SUM(G15:G38) -> 0 | J39: =SUM(J15:J38) -> 0 | M39: =SUM(M15:M38) -> 0
A40: 1, При наличии на предприятии отклонений от нормальных режимов электропотребления (временное изменение схем питания, остановка на ремонт, резкое снижение
A41: эл,потребления и т,д,) последние необходимо перечислить,
A42: Главный инженер АО "Вологдаоблэнерго" А,В, Чурляев
A43: составляется самим предприятием с соблюдением всех пунктов настоящей таблицы,

Sheet 85
B1: АО "Вологдаоблэнерго" | H1: код 900151 | K1: ПС Климоская, ф, Лохта
B2: наименование предприятия | K2: наименование источника питания
K3: КТП-Деревня
B4: ул, Горького, 99 | G4: Таблица № 1 | K4: ТП-321
B5: адрес
A6: почасовых записей показаний электрических счетчиков
A7: ='1'!A7:Q7 -> в режимный день 21 ДЕКАБРЯ 2022 г.
A8: 1630 | B8: 1628
A9: часы суток | B9: Активная энергия | H9: Реактивная энергия
B10: =K3 -> КТП-Деревня | E10: =K4 -> ТП-321 | H10: =B10 -> КТП-Деревня | K10: =E10 -> ТП-321
B11: Расчет, Коэф, | D11: 80 | E11: Расчет, Коэф, | G11: 30 | H11: Расчет, Коэф, | J11: =D11 -> 80 | K11: Расчет, Коэф, | M11: =G11 -> 30
B12: показания счетчика | C12: разность | D12: расход эл,энергии за час | E12: показания счетчика | F12: разность | G12: расход эл,энергии за час | H12: показания счетчика | I12: разность | J12: расход эл,энергии за час | K12: показания счетчика | L12: разность | M12: расход эл,энергии за час
A13: 1 | B13: 2 | C13: 3 | D13: 4 | E13: 5 | F13: 6 | G13: 7 | H13: 8 | I13: 9 | J13: 10 | K13: 11 | L13: 12 | M13: 13
A14: 0
A15: 1 | D15: 65.776 | G15: 30.72 | J15: 0 | M15: 0
A16: 2 | D16: 70.656 | G16: 29.91 | J16: 0 | M16: 0
A17: 3 | D17: 66.432 | G17: 29.97 | J17: 0 | M17: 0
A18: 4 | D18: 69.2 | G18: 31.17 | J18: 0 | M18: 0
A19: 5 | D19: 64.752 | G19: 34.59 | J19: 0 | M19: 0
A20: 6 | D20: 74.784 | G20: 36 | J20: 0 | M20: 0
A21: 7 | D21: 78.4 | G21: 38.7 | J21: 0 | M21: 0
A22: 8 | D22: 81.072 | G22: 37.38 | J22: 0 | M22: 0
A23: 9 | D23: 82.656 | G23: 23.94 | J23: 0 | M23: 0
A24: 10 | D24: 79.936 | G24: 24.63 | J24: 0 | M24: 0
A25: 11 | D25: 78.816 | G25: 24.48 | J25: 0 | M25: 0
A26: 12 | D26: 75.328 | G26: 22.02 | J26: 0 | M26: 0
... A38: 24 | D38: 81.376 | G38: 21.81 | J38: 0 | M38: 0
A39: Итого | D39: =SUM(D15:D38) -> 1938.672 | G39: =SUM(G15:G38) -> 689.46 | J39: =SUM(J15:J38) -> 0 | M39: =SUM(M15:M38) -> 0
A40: 1, При наличии на предприятии отклонений от нормальных режимов электропотребления (временное изменение схем питания, остановка на ремонт, резкое снижение
A41: эл,потребления и т,д,) последние необходимо перечислить,
A42: Главный инженер АО "Вологдаоблэнерго" А,В, Чурляев
A43: составляется самим предприятием с соблюдением всех пунктов настоящей таблицы,

Sheet 86
B1: АО "Вологдаоблэнерго" | H1: код 900151 | K1: ПС Енюково
B2: наименование предприятия | K2: наименование источника питания
K3: ф, КУФ-3
B4: ул, Горького, 99 | G4: Таблица № 1
B5: адрес
A6: почасовых записей показаний электрических счетчиков
A7: ='1'!A7:Q7 -> в режимный день 21 ДЕКАБРЯ 2022 г.
A8: 1630 | B8: 1628
A9: часы суток | B9: Активная энергия | H9: Реактивная энергия
B10: =K3 -> ф, КУФ-3 | E10: =K4 -> 0 | H10: =B10 -> ф, КУФ-3 | K10: =E10 -> 0
B11: Расчет, Коэф, | D11: 80 | E11: Расчет, Коэф, | G11: 30 | H11: Расчет, Коэф, | J11: =D11 -> 80 | K11: Расчет, Коэф, | M11: =G11 -> 30
B12: показания счетчика | C12: разность | D12: расход эл,энергии за час | E12: показания счетчика | F12: разность | G12: расход эл,энергии за час | H12: показания счетчика | I12: разность | J12: расход эл,энергии за час | K12: показания счетчика | L12: разность | M12: расход эл,энергии за час
A13: 1 | B13: 2 | C13: 3 | D13: 4 | E13: 5 | F13: 6 | G13: 7 | H13: 8 | I13: 9 | J13: 10 | K13: 11 | L13: 12 | M13: 13
A14: 0
A15: 1 | D15: 0 | J15: 0
A16: 2 | D16: 0 | J16: 0
A17: 3 | D17: 0 | J17: 0
A18: 4 | D18: 0 | J18: 0
A19: 5 | D19: 0 | J19: 0
A20: 6 | D20: 0 | J20: 0
A21: 7 | D21: 0 | J21: 0
A22: 8 | D22: 0 | J22: 0
A23: 9 | D23: 0 | J23: 0
A24: 10 | D24: 0 | J24: 0
A25: 11 | D25: 0 | J25: 0
A26: 12 | D26: 0 | J26: 0
... A38: 24 | D38: 0 | J38: 0
A39: Итого | D39: =SUM(D15:D38) -> 0 | G39: =SUM(G15:G38) -> 0 | J39: =SUM(J15:J38) -> 0 | M39: =SUM(M15:M38) -> 0
A40: 1, При наличии на предприятии отклонений от нормальных режимов электропотребления (временное изменение схем питания, остановка на ремонт, резкое снижение
A41: эл,потребления и т,д,) последние необходимо перечислить,
A42: Главный инженер АО "Вологдаоблэнерго" А,В, Чурляев
A43: составляется самим предприятием с соблюдением всех пунктов настоящей таблицы,

Sheet 87
B1: АО "Вологдаоблэнерго" | H1: код 900151 | K1: ПС Ирдоматка
B2: наименование предприятия | K2: наименование источника питания
K3: ф, Промкомбинат
B4: ул, Горького, 99 | G4: Таблица № 1 | K4: ф, Романда
B5: адрес
A6: почасовых записей показаний электрических счетчиков
A7: ='1'!A7:Q7 -> в режимный день 21 ДЕКАБРЯ 2022 г.
A8: 1630 | B8: 1628
A9: часы суток | B9: Активная энергия | H9: Реактивная энергия
B10: =K3 -> ф, Промкомбинат | E10: =K4 -> ф, Романда | H10: =B10 -> ф, Промкомбинат | K10: =E10 -> ф, Романда
B11: Расчет, Коэф, | D11: 80 | E11: Расчет, Коэф, | G11: 30 | H11: Расчет, Коэф, | J11: =D11 -> 80 | K11: Расчет, Коэф, | M11: =G11 -> 30
B12: показания счетчика | C12: разность | D12: расход эл,энергии за час | E12: показания счетчика | F12: разность | G12: расход эл,энергии за час | H12: показания счетчика | I12: разность | J12: расход эл,энергии за час | K12: показания счетчика | L12: разность | M12: расход эл,энергии за час
A13: 1 | B13: 2 | C13: 3 | D13: 4 | E13: 5 | F13: 6 | G13: 7 | H13: 8 | I13: 9 | J13: 10 | K13: 11 | L13: 12 | M13: 13
A14: 0
A15: 1 | D15: 299.2 | G15: 211.2 | J15: 0
A16: 2 | D16: 276 | G16: 228.2 | J16: 0
A17: 3 | D17: 266.6 | G17: 226 | J17: 0
A18: 4 | D18: 271 | G18: 245.2 | J18: 0
A19: 5 | D19: 272.4 | G19: 239.2 | J19: 0
A20: 6 | D20: 273.6 | G20: 239 | J20: 0
A21: 7 | D21: 280 | G21: 211.2 | J21: 0
A22: 8 | D22: 274.2 | G22: 198.4 | J22: 0
A23: 9 | D23: 257.8 | G23: 237 | J23: 0
A24: 10 | D24: 263.4 | G24: 251 | J24: 0
A25: 11 | D25: 272 | G25: 276.8 | J25: 0
A26: 12 | D26: 284.4 | G26: 297.2 | J26: 0
... A38: 24 | D38: 298.4 | G38: 222.8 | J38: 0
A39: Итого | D39: =SUM(D15:D38) -> 6816.4 | G39: =SUM(G15:G38) -> 5902 | J39: =SUM(J15:J38) -> 0 | M39: =SUM(M15:M38) -> 0
A40: 1, При наличии на предприятии отклонений от нормальных режимов электропотребления (временное изменение схем питания, остановка на ремонт, резкое снижение
A41: эл,потребления и т,д,) последние необходимо перечислить,
A42: Главный инженер АО "Вологдаоблэнерго" А,В, Чурляев
A43: составляется самим предприятием с соблюдением всех пунктов настоящей таблицы,

Sheet 88
B1: АО "Вологдаоблэнерго" | H1: код 900151 | K1: ПС Вишняки
B2: наименование предприятия | K2: наименование источника питания
K3: ф, Парус-1
B4: ул, Горького, 99 | G4: Таблица № 1 | K4: ф, Парус-2
B5: адрес
A6: почасовых записей показаний электрических счетчиков
A7: ='1'!A7:Q7 -> в режимный день 21 ДЕКАБРЯ 2022 г.
A8: 1630 | B8: 1628
A9: часы суток | B9: Активная энергия | H9: Реактивная энергия
B10: =K3 -> ф, Парус-1 | E10: =K4 -> ф, Парус-2 | H10: =B10 -> ф, Парус-1 | K10: =E10 -> ф, Парус-2
B11: Расчет, Коэф, | D11: 80 | E11: Расчет, Коэф, | G11: 30 | H11: Расчет, Коэф, | J11: =D11 -> 80 | K11: Расчет, Коэф, | M11: =G11 -> 30
B12: показания счетчика | C12: разность | D12: расход эл,энергии за час | E12: показания счетчика | F12: разность | G12: расход эл,энергии за час | H12: показания счетчика | I12: разность | J12: расход эл,энергии за час | K12: показания счетчика | L12: разность | M12: расход эл,энергии за час
A13: 1 | B13: 2 | C13: 3 | D13: 4 | E13: 5 | F13: 6 | G13: 7 | H13: 8 | I13: 9 | J13: 10 | K13: 11 | L13: 12 | M13: 13
A14: 0
A15: 1 | D15: 0 | G15: 40.2 | J15: 0 | M15: 0
A16: 2 | D16: 0 | G16: 40 | J16: 0 | M16: 0
A17: 3 | D17: 0 | G17: 40.4 | J17: 0 | M17: 0
A18: 4 | D18: 0 | G18: 40 | J18: 0 | M18: 0
A19: 5 | D19: 0 | G19: 40.2 | J19: 0 | M19: 0
A20: 6 | D20: 0 | G20: 40 | J20: 0 | M20: 0
A21: 7 | D21: 0 | G21: 40 | J21: 0 | M21: 0
A22: 8 | D22: 0 | G22: 40 | J22: 0 | M22: 0
A23: 9 | D23: 0 | G23: 39.8 | J23: 0 | M23: 0
A24: 10 | D24: 0 | G24: 39.8 | J24: 0 | M24: 0
A25: 11 | D25: 0 | G25: 39.6 | J25: 0 | M25: 0
A26: 12 | D26: 0 | G26: 39.8 | J26: 0 | M26: 0
... A38: 24 | D38: 0 | G38: 39.8 | J38: 0 | M38: 0
A39: Итого | D39: =SUM(D15:D38) -> 0 | G39: =SUM(G15:G38) -> 957 | J39: =SUM(J15:J38) -> 0 | M39: =SUM(M15:M38) -> 0
A40: 1, При наличии на предприятии отклонений от нормальных режимов электропотребления (временное изменение схем питания, остановка на ремонт, резкое снижение
A41: эл,потребления и т,д,) последние необходимо перечислить,
A42: Главный инженер АО "Вологдаоблэнерго" А,В, Чурляев
A43: составляется самим предприятием с соблюдением всех пунктов настоящей таблицы,

Sheet 89
B1: АО "Вологдаоблэнерго" | H1: код 900151 | K1: ПС Искра
B2: наименование предприятия | K2: наименование источника питания
K3: ф, Садовая
B4: ул, Горького, 99 | G4: Таблица № 1 | K4: ф, Газовая-1
B5: адрес
A6: почасовых записей показаний электрических счетчиков
A7: ='1'!A7:Q7 -> в режимный день 21 ДЕКАБРЯ 2022 г.
A8: 1630 | B8: 1628
A9: часы суток | B9: Активная энергия | H9: Реактивная энергия
B10: =K3 -> ф, Садовая | E10: =K4 -> ф, Газовая-1 | H10: =B10 -> ф, Садовая | K10: =E10 -> ф, Газовая-1
B11: Расчет, Коэф, | D11: 80 | E11: Расчет, Коэф, | G11: 30 | H11: Расчет, Коэф, | J11: =D11 -> 80 | K11: Расчет, Коэф, | M11: =G11 -> 30
B12: показания счетчика | C12: разность | D12: расход эл,энергии за час | E12: показания счетчика | F12: разность | G12: расход эл,энергии за час | H12: показания счетчика | I12: разность | J12: расход эл,энергии за час | K12: показания счетчика | L12: разность | M12: расход эл,энергии за час
A13: 1 | B13: 2 | C13: 3 | D13: 4 | E13: 5 | F13: 6 | G13: 7 | H13: 8 | I13: 9 | J13: 10 | K13: 11 | L13: 12 | M13: 13
A14: 0
A15: 1 | D15: 546.60037 | G15: 764.81787 | J15: 0 | M15: 0
A16: 2 | D16: 519.50415 | G16: 564.59982 | J16: 0 | M16: 0
A17: 3 | D17: 503.80489 | G17: 587.8093 | J17: 0 | M17: 0
A18: 4 | D18: 491.75673 | G18: 595.84598 | J18: 0 | M18: 0
A19: 5 | D19: 515.1879 | G19: 598.84592 | J19: 0 | M19: 0
A20: 6 | D20: 545.07617 | G20: 519.56653 | J20: 0 | M20: 0
A21: 7 | D21: 572.02686 | G21: 583.59695 | J21: 0 | M21: 0
A22: 8 | D22: 578.29684 | G22: 658.25522 | J22: 0 | M22: 0
A23: 9 | D23: 584.57382 | G23: 945.04807 | J23: 0 | M23: 0
A24: 10 | D24: 582.84869 | G24: 1033.9161 | J24: 0 | M24: 0
A25: 11 | D25: 575.71265 | G25: 925.63525 | J25: 0 | M25: 0
A26: 12 | D26: 577.18143 | G26: 1000.5984 | J26: 0 | M26: 0
... A38: 24 | D38: 601.67261 | G38: 735.17212 | J38: 0 | M38: 0
A39: Итого | D39: =SUM(D15:D38) -> 14088.045 | G39: =SUM(G15:G38) -> 19571.071 | J39: =SUM(J15:J38) -> 0 | M39: =SUM(M15:M38) -> 0
A40: 1, При наличии на предприятии отклонений от нормальных режимов электропотребления (временное изменение схем питания, остановка на ремонт, резкое снижение
A41: эл,потребления и т,д,) последние необходимо перечислить,
A42: Главный инженер АО "Вологдаоблэнерго" А,В, Чурляев
A43: составляется самим предприятием с соблюдением всех пунктов настоящей таблицы,

Sheet 90
B1: АО "Вологдаоблэнерго" | H1: код 900151 | K1: ПС Климовская
B2: наименование предприятия | K2: наименование источника питания
K3: ф, КУФ-1
B4: ул, Горького, 99 | G4: Таблица № 1 | K4: ф, КУФ-2
B5: адрес
A6: почасовых записей показаний электрических счетчиков
A7: ='1'!A7:Q7 -> в режимный день 21 ДЕКАБРЯ 2022 г.
A8: 1630 | B8: 1628
A9: часы суток | B9: Активная энергия | H9: Реактивная энергия
B10: =K3 -> ф, КУФ-1 | E10: =K4 -> ф, КУФ-2 | H10: =B10 -> ф, КУФ-1 | K10: =E10 -> ф, КУФ-2
B11: Расчет, Коэф, | D11: 80 | E11: Расчет, Коэф, | G11: 30 | H11: Расчет, Коэф, | J11: =D11 -> 80 | K11: Расчет, Коэф, | M11: =G11 -> 30
B12: показания счетчика | C12: разность | D12: расход эл,энергии за час | E12: показания счетчика | F12: разность | G12: расход эл,энергии за час | H12: показания счетчика | I12: разность | J12: расход эл,энергии за час | K12: показания счетчика | L12: разность | M12: расход эл,энергии за час
A13: 1 | B13: 2 | C13: 3 | D13: 4 | E13: 5 | F13: 6 | G13: 7 | H13: 8 | I13: 9 | J13: 10 | K13: 11 | L13: 12 | M13: 13
A14: 0
A15: 1 | D15: 0 | G15: 156.6 | J15: 0 | M15: 0
A16: 2 | D16: 0 | G16: 159.3 | J16: 0 | M16: 0
A17: 3 | D17: 0 | G17: 161.1 | J17: 0 | M17: 0
A18: 4 | D18: 0 | G18: 166.8 | J18: 0 | M18: 0
A19: 5 | D19: 0 | G19: 153.3 | J19: 0 | M19: 0
A20: 6 | D20: 0 | G20: 163.8 | J20: 0 | M20: 0
A21: 7 | D21: 0 | G21: 147.3 | J21: 0 | M21: 0
A22: 8 | D22: 0 | G22: 159 | J22: 0 | M22: 0
A23: 9 | D23: 0 | G23: 162 | J23: 0 | M23: 0
A24: 10 | D24: 0 | G24: 174.3 | J24: 0 | M24: 0
A25: 11 | D25: 0 | G25: 175.5 | J25: 0 | M25: 0
A26: 12 | D26: 0 | G26: 163.5 | J26: 0 | M26: 0
... A38: 24 | D38: 0 | G38: 151.2 | J38: 0 | M38: 0
A39: Итого | D39: =SUM(D15:D38) -> 0 | G39: =SUM(G15:G38) -> 3831 | J39: =SUM(G15:G38) -> 3831 | M39: =SUM(M15:M38) -> 0
A40: 1, При наличии на предприятии отклонений от нормальных режимов электропотребления (временное изменение схем питания, остановка на ремонт, резкое снижение
A41: эл,потребления и т,д,) последние необходимо перечислить,
A42: Главный инженер АО "Вологдаоблэнерго" А,В, Чурляев
A43: составляется самим предприятием с соблюдением всех пунктов настоящей таблицы,

Sheet 91
B1: АО "Вологдаоблэнерго" | H1: код 900151 | K1: ПС Климовская
B2: наименование предприятия | K2: наименование источника питания
K3: ф, Поселок
B4: ул, Горького, 99 | G4: Таблица № 1 | K4: ф, ПТФ-2
B5: адрес
A6: почасовых записей показаний электрических счетчиков
A7: ='1'!A7:Q7 -> в режимный день 21 ДЕКАБРЯ 2022 г.
A8: 1630 | B8: 1628
A9: часы суток | B9: Активная энергия | H9: Реактивная энергия
B10: =K3 -> ф, Поселок | E10: =K4 -> ф, ПТФ-2 | H10: =B10 -> ф, Поселок | K10: =E10 -> ф, ПТФ-2
B11: Расчет, Коэф, | D11: 80 | E11: Расчет, Коэф, | G11: 30 | H11: Расчет, Коэф, | J11: =D11 -> 80 | K11: Расчет, Коэф, | M11: =G11 -> 30
B12: показания счетчика | C12: разность | D12: расход эл,энергии за час | E12: показания счетчика | F12: разность | G12: расход эл,энергии за час | H12: показания счетчика | I12: разность | J12: расход эл,энергии за час | K12: показания счетчика | L12: разность | M12: расход эл,энергии за час
A13: 1 | B13: 2 | C13: 3 | D13: 4 | E13: 5 | F13: 6 | G13: 7 | H13: 8 | I13: 9 | J13: 10 | K13: 11 | L13: 12 | M13: 13
A14: 0
A15: 1 | D15: 198.2 | G15: 29.6 | J15: 0 | M15: 0
A16: 2 | D16: 191 | G16: 29.2 | J16: 0 | M16: 0
A17: 3 | D17: 191.2 | G17: 29.2 | J17: 0 | M17: 0
A18: 4 | D18: 193.8 | G18: 29.2 | J18: 0 | M18: 0
A19: 5 | D19: 193 | G19: 29.6 | J19: 0 | M19: 0
A20: 6 | D20: 199 | G20: 29.6 | J20: 0 | M20: 0
A21: 7 | D21: 205.6 | G21: 31.2 | J21: 0 | M21: 0
A22: 8 | D22: 222.6 | G22: 41.6 | J22: 0 | M22: 0
A23: 9 | D23: 254.2 | G23: 44.4 | J23: 0 | M23: 0
A24: 10 | D24: 261.6 | G24: 51.2 | J24: 0 | M24: 0
A25: 11 | D25: 273.6 | G25: 54.8 | J25: 0 | M25: 0
A26: 12 | D26: 269.2 | G26: 53.6 | J26: 0 | M26: 0
... A38: 24 | D38: 208.6 | G38: 32.8 | J38: 0 | M38: 0
A39: Итого | D39: =SUM(D15:D38) -> 5835.8 | G39: =SUM(G15:G38) -> 940.4 | J39: =SUM(J15:J38) -> 0 | M39: =SUM(M15:M38) -> 0
A40: 1, При наличии на предприятии отклонений от нормальных режимов электропотребления (временное изменение схем питания, остановка на ремонт, резкое снижение
A41: эл,потребления и т,д,) последние необходимо перечислить,
A42: Главный инженер АО "Вологдаоблэнерго" А,В, Чурляев
A43: составляется самим предприятием с соблюдением всех пунктов настоящей таблицы,

Sheet 92
B1: АО "Вологдаоблэнерго" | H1: код 900151 | K1: ПС Климовская
B2: наименование предприятия | K2: наименование источника питания
K3: ф, ПТФ-3
B4: ул, Горького, 99 | G4: Таблица № 1 | K4: ф, ПТФ-4
B5: адрес
A6: почасовых записей показаний электрических счетчиков
A7: ='1'!A7:Q7 -> в режимный день 21 ДЕКАБРЯ 2022 г.
A8: 1630 | B8: 1628
A9: часы суток | B9: Активная энергия | H9: Реактивная энергия
B10: =K3 -> ф, ПТФ-3 | E10: =K4 -> ф, ПТФ-4 | H10: =B10 -> ф, ПТФ-3 | K10: =E10 -> ф, ПТФ-4
B11: Расчет, Коэф, | D11: 80 | E11: Расчет, Коэф, | G11: 30 | H11: Расчет, Коэф, | J11: =D11 -> 80 | K11: Расчет, Коэф, | M11: =G11 -> 30
B12: показания счетчика | C12: разность | D12: расход эл,энергии за час | E12: показания счетчика | F12: разность | G12: расход эл,энергии за час | H12: показания счетчика | I12: разность | J12: расход эл,энергии за час | K12: показания счетчика | L12: разность | M12: расход эл,энергии за час
A13: 1 | B13: 2 | C13: 3 | D13: 4 | E13: 5 | F13: 6 | G13: 7 | H13: 8 | I13: 9 | J13: 10 | K13: 11 | L13: 12 | M13: 13
A14: 0
A15: 1 | D15: 192 | G15: 30.6 | J15: 0 | M15: 0
A16: 2 | D16: 182.4 | G16: 31.8 | J16: 0 | M16: 0
A17: 3 | D17: 177.6 | G17: 28.2 | J17: 0 | M17: 0
A18: 4 | D18: 177.6 | G18: 28.8 | J18: 0 | M18: 0
A19: 5 | D19: 176.8 | G19: 28.2 | J19: 0 | M19: 0
A20: 6 | D20: 189.6 | G20: 30 | J20: 0 | M20: 0
A21: 7 | D21: 245.6 | G21: 31.8 | J21: 0 | M21: 0
A22: 8 | D22: 264 | G22: 34.2 | J22: 0 | M22: 0
A23: 9 | D23: 288.8 | G23: 37.2 | J23: 0 | M23: 0
A24: 10 | D24: 280.8 | G24: 36.6 | J24: 0 | M24: 0
A25: 11 | D25: 251.2 | G25: 37.8 | J25: 0 | M25: 0
A26: 12 | D26: 258.4 | G26: 37.8 | J26: 0 | M26: 0
... A38: 24 | D38: 220 | G38: 39.6 | J38: 0 | M38: 0
A39: Итого | D39: =SUM(D15:D38) -> 5881.6 | G39: =SUM(G15:G38) -> 855.6 | J39: =SUM(J15:J38) -> 0 | M39: =SUM(M15:M38) -> 0
A40: 1, При наличии на предприятии отклонений от нормальных режимов электропотребления (временное изменение схем питания, остановка на ремонт, резкое снижение
A41: эл,потребления и т,д,) последние необходимо перечислить,
A42: Главный инженер АО "Вологдаоблэнерго" А,В, Чурляев
A43: составляется самим предприятием с соблюдением всех пунктов настоящей таблицы,

Sheet 93
B1: АО "Вологдаоблэнерго" | H1: код 900151 | K1: ПС Новые Углы
B2: наименование предприятия | K2: наименование источника питания
K3: ф, Подсобное хоз,-1
B4: ул, Горького, 99 | G4: Таблица № 1 | K4: ф, Подсобное хоз,-2
B5: адрес
A6: почасовых записей показаний электрических счетчиков
A7: ='1'!A7:Q7 -> в режимный день 21 ДЕКАБРЯ 2022 г.
A8: 1630 | B8: 1628
A9: часы суток | B9: Активная энергия | H9: Реактивная энергия
B10: =K3 -> ф, Подсобное хоз,-1 | E10: =K4 -> ф, Подсобное хоз,-2 | H10: =B10 -> ф, Подсобное хоз,-1 | K10: =E10 -> ф, Подсобное хоз,-2
