Workbook

Sheet Содержание книги
A1: Содержание
A4: № листа | B4: Электросетевой участок | C4: Центр питания
A5: 1, 2 | B5: г. Вологда | C5: ПС "АНАНЬИНО"
A6: 3 | B6: г. Вологда | C6: ПС ЕРМАКОВО
A7: 4 | B7: г. Вологда | C7: ПС "МАЕГА"
A8: 5,6, 7, 8, 9 | B8: г. Вологда | C8: ПС "ЗАПАДНАЯ
A9: 10 | B9: г. Вологда | C9: ПС "СЕВЕРНАЯ 35/6 кВ
A10: 11 | B10: г. Вологда | C10: РТП "ТЕПЛИЧНОГО ХОЗ - ВА"
A11: 12,13, 14 | B11: г. Вологда | C11: ГПП 110/10 кВ "ВОМЗ"
A12: 15,16,17,18,19,20, 21, 21-1, 21-2, 21-3, 21-4 | B12: г. Вологда | C12: ПС ВОЛОГДА-ЮЖНАЯ РУ - 6 -10 кВ
A13: 21-5, | C13: ПС ВОЛОГДА-ЮЖНАЯ РУ 6 кВ ОАО "БМЗ"
A14: 22 | B14: г. Вологда | C14: ГПП ВОЛОГДА - ТЯГОВАЯ 110/27,5/6 кВ
A15: 23 | B15: г. Вологда | C15: ТП 10 РЖД
A16: 24 | B16: г. Вологда | C16: ТП 34 РЖД
A17: 25,26,27,28,29 | B17: г. Вологда | C17: ТГК- 2 ВТЭЦ РП 6 кВ
A18: 30,31,32,33,34,34-1 | B18: г. Вологда | C18: ПС "ЦЕНТРАЛЬНАЯ" 110/6 кВ
A19: 35, 36 | B19: г. Вологда | C19: ПС "ГОРОДСКАЯ" 35/6 кВ
A20: 37, 38, 39, 39-1 | B20: г. Вологда | C20: ПС "ВОСТОЧНАЯ" 110/35/10 кВ
A21: 40, 40-1, 41,41-1 | B21: г. Вологда | C21: ПС "ЛУГОВАЯ"
A22: 42 | B22: г. Вологда | C22: РП "ГОРКА"
A23: 43, 44 | B23: г. Вологда | C23: ГПП 2 ЗАО ВПЗ
A24: 45 | B24: г. Вологда | C24: ГПП 1 ЗАО ВПЗ
A25: 46 | B25: ЭСУ "Кубенское" | C25: ПС "Кубенское"
A26: 47, 48, 48-1,48-2 | B26: ЭСУ п. Молочное | C26: ПС "Молочное" 35/10 кВ
A27: 49, 50, 50-1, 50-2, 50-3 | B27: ЭСУ "Устье-Кубенское" | C27: РТП "КОРНИЛОВО" 35/10 кВ
A28: 51, 52, 53 | B28: ЭСУ "Шуйское" | C28: ПС "ШУЙСКОЕ" 35/ 10 кВ
A29: 54.55 | B29: ЭСУ г. Сокол | C29: ПС "ГДЗ" 110/6 кВ
A30: 55-1 | B30: ЭСУ г. Сокол | C30: ПС ИП Сокол 110/10/10
A31: 56, 57, 58, | B31: ЭСУ г. Сокол | C31: ОАО "Сокольский" ЦБК" ГПП 35/6 кВ
A32: 59 | B32: ЭСУ г. Сокол | C32: ОАО "Сокольский" ЦБК" ГПП 110/6 кВ
A33: 60, 61, 62, 63 | B33: ЭСУ г. Сокол | C33: ООО "Сухонский ЦБК" ГПП 110/6 кВ
A34: 64-66-1 | B34: ЭСУ "Белозерск" | C34: ПС Белозерск, ПС Вашки
A35: 67-75 | B35: ЭСУ "Вытегра" | C35: ПС 35 кВ Вытегра, ПС 110 кВ Восточная ПС
A36: 76-81_1 | B36: ЭСУ "Харовск" | C36: ПС 110 кВ Харовск (Р), ПС 110 кВ Харовск-Тяговая
A37: 82-86 | B37: ЭТУ "Вожега"
A38: 87-91 | B38: ЭТУ "Тотьма"
A39: 92-95 | B39: ЭСУ "Сямжа"
A40: 96-97 | B40: ЭСУ "Грязовец"
A42: Содержание
A45: № листа | B45: Электросетевой участок | C45: Центр питания
A46: 1 а | B46: г. Вологда | C46: ОАО "БМЗ"
A48: 1, 2 | B48: г. Вологда | C48: ПС "АНАНЬИНО"
A51: 3 | B51: г. Вологда | C51: ПС "ИСКРА"
A53: 4 | B53: г. Вологда | C53: ПС "МАЕГА"
A55: 5,6, 7, 8, 9 | B55: г. Вологда | C55: ПС "ЗАПАДНАЯ
A61: 10 | B61: г. Вологда | C61: ПС "СЕВЕРНАЯ 35/6 кВ
A63: 11 | B63: г. Вологда | C63: РТП "ТЕПЛИЧНОГО ХОЗ - ВА"
A65: 12,13, 14 | B65: г. Вологда | C65: ГПП 110/10 кВ "ВОМЗ"
A69: 15,16,17,18,19,20, 21 | B69: г. Вологда | C69: ПС ВОЛОГДА-ЮЖНАЯ РУ - 6 -10 кВ
A78: 22 | B78: г. Вологда | C78: ГПП ВОЛОГДА - ТЯГОВАЯ 110/27,5/6 кВ
A80: 23 | B80: г. Вологда | C80: ТП 10 СЖД ОАО РЖД
A82: 24 | B82: г. Вологда | C82: ТП 34 СЖД ОАО РЖД
A84: 25,26,27,28,29 | B84: г. Вологда | C84: ТГК- 2 ВТЭЦ РП 6 кВ
A90: 30,31,32,33,34,34-1 | B90: г. Вологда | C90: ПС "ЦЕНТРАЛЬНАЯ" 110/6 кВ
A97: 35, 36 | B97: г. Вологда | C97: ПС "ГОРОДСКАЯ" 35/6 кВ
A100: 37, 38, 39 | B100: г. Вологда | C100: ПС "ВОСТОЧНАЯ" 110/35/10 кВ
A104: 40, 41 | B104: г. Вологда | C104: ПС "ЛУГОВАЯ"
A107: 42 | B107: г. Вологда | C107: РП "ГОРКА"
A109: 43, 44 | B109: г. Вологда | C109: ГПП 2 ЗАО ВПЗ
A112: 45 | B112: г. Вологда | C112: ГПП 1 ЗАО ВПЗ
A114: 46 | B114: ЭСУ "Кубенское" | C114: ПС "Кубенское"
A116: 47, 48 | B116: ЭСУ п. Молочное | C116: ПС "Молочное" 35/10 кВ
A119: 49, 50 | B119: ЭСУ "Устье-Кубенское" | C119: РТП "КОРНИЛОВО" 35/10 кВ
A124: 51, 52, 53 | B124: ЭСУ "Шуйское" | C124: ПС "ШУЙСКОЕ" 35/ 10 кВ
A128: 54 | B128: ЭСУ г. Сокол | C128: ПС "ГДЗ" 110/6 кВ
A131: 55 | B131: ЭСУ г. Сокол | C131: ОАО "СОКОЛРЕММАШ"
A133: 56, 57, 58, | B133: ЭСУ г. Сокол | C133: ОАО "Сокольский" ЦБК" ГПП 35/6 кВ
A137: 59 | B137: ЭСУ г. Сокол | C137: ОАО "Сокольский" ЦБК" ГПП 110/6 кВ
A139: 60, 61, 62, 63 | B139: ЭСУ г. Сокол | C139: ООО "Сухонский ЦБК" ГПП 110/6 кВ
A144: 64, 65, 66 | B144: ЭСУ "Белозерск" | C144: ПС "Белозерск"
A148: 67, 68, 69, 70, 71, 72, | B148: ЭСУ "Вытегра" | C148: ПС "Белоусово"
A149: 73, 74, 75
C150: ПС "Ольховская"
C152: ПС "Восточная"
C155: ПС "Мегра"
C157: ПС "Вытегра"
C161: ПС "Анненская"

Sheet 1
B1: АО "Вологдаоблэнерго" | J1: код 900151 | N1: ПС "АНАНЬИНО"
B2: наименование предприятия | N2: наименование источника питания
N3: _________________________________
B4: ул. Горького, 99 | I4: Таблица № 1 | O4: ВЛ 10 кВ № 31
B5: адрес
A6: почасовых записей показаний электрических счетчиков
A7: в режимный день 21 ДЕКАБРЯ 2022 г.
A8: 1629
A9: часы суток | B9: Активная энергия | J9: Реактивная энергия
B10: ЯЧ. № 7 - Ф."Город 7" | J10: ЯЧ. № 7 - Ф."Город 7"
B11: Расчет. Коэф. | E11: 3600 | F11: Расчет. Коэф. | J11: Расчет. Коэф. | M11: =E11 -> 3600 | N11: Расчет. Коэф.
B12: показания счетчика | C12: разность | E12: расход эл.энергии за час | F12: показания счетчика | G12: разность | I12: расход эл.энергии за час | J12: показания счетчика | K12: разность | M12: расход эл.энергии за час | N12: показания счетчика | O12: разность | Q12: расход эл.энергии за час
A13: 1 | B13: 2 | C13: 3 | E13: 4 | F13: 5 | G13: 6 | I13: 7 | J13: 8 | K13: 9 | M13: 10 | N13: 11 | O13: 12 | Q13: 13
A14: 0
A15: 1 | E15: 670 | M15: 262
A16: 2 | E16: 657 | M16: 256
A17: 3 | E17: 647 | M17: 255
A18: 4 | E18: 615 | M18: 250
A19: 5 | E19: 641 | M19: 251
A20: 6 | E20: 686 | M20: 252
A21: 7 | E21: 727 | M21: 245
A22: 8 | E22: 680 | M22: 185
A23: 9 | E23: 849 | M23: 250
A24: 10 | E24: 854 | M24: 276
A25: 11 | E25: 826 | M25: 249
A26: 12 | E26: 866 | M26: 309
... A38: 24 | E38: 714 | M38: 222
A39: Итого | E39: =SUM(E15:E38) -> 18072 | M39: =SUM(M15:M38) -> 6124
A40: 1. При наличии на предприятии отклонений от нормальных режимов электропотребления (временное изменение схем питания, остановка на ремонт, резкое снижение
A41: эл.потребления и т.д.) последние необходимо перечислить.
A42: Главный инженер АО "Вологдаоблэнерго" А.В. Чурляев
A43: составляется самим предприятием с соблюдением всех пунктов настоящей таблицы.

Sheet 2
B1: АО "Вологдаоблэнерго" | J1: код 900151 | N1: ПС "АНАНЬИНО"
B2: наименование предприятия | N2: наименование источника питания
N3: _________________________________
B4: ул. Горького, 99 | I4: Таблица № 1 | O4: РП 36 ф 16; ТП 360
B5: адрес
A6: почасовых записей показаний электрических счетчиков
A7: в режимный день 21 ДЕКАБРЯ 2022 г.
A8: 1630 | B8: 1628
A9: часы суток | B9: Активная энергия | J9: Реактивная энергия
B10: ЯЧ. № 2 - Ф."Овощехранилище" | F10: ЯЧ. № 8 - Ф."Городской" | J10: ЯЧ. № 2 - Ф."Овощехранилище" | N10: ЯЧ. № 8 - Ф."Городской"
B11: Расчет. Коэф. | E11: 3600 | F11: Расчет. Коэф. | I11: 2400 | J11: Расчет. Коэф. | M11: =E11 -> 3600 | N11: Расчет. Коэф. | Q11: =I11 -> 2400
B12: показания счетчика | C12: разность | E12: расход эл.энергии за час | F12: показания счетчика | G12: разность | I12: расход эл.энергии за час | J12: показания счетчика | K12: разность | M12: расход эл.энергии за час | N12: показания счетчика | O12: разность | Q12: расход эл.энергии за час
A13: 1 | B13: 2 | C13: 3 | E13: 4 | F13: 5 | G13: 6 | I13: 7 | J13: 8 | K13: 9 | M13: 10 | N13: 11 | O13: 12 | Q13: 13
A14: 0
A15: 1 | E15: 207 | I15: 233 | M15: 112 | Q15: 73
A16: 2 | E16: 265 | I16: 233 | M16: 164 | Q16: 70
A17: 3 | E17: 262 | I17: 227 | M17: 158 | Q17: 72
A18: 4 | E18: 251 | I18: 229 | M18: 156 | Q18: 71
A19: 5 | E19: 234 | I19: 237 | M19: 139 | Q19: 71
A20: 6 | E20: 244 | I20: 249 | M20: 136 | Q20: 70
A21: 7 | E21: 243 | I21: 274 | M21: 127 | Q21: 74
A22: 8 | E22: 179 | I22: 292 | M22: 66 | Q22: 81
A23: 9 | E23: 245 | I23: 286 | M23: 121 | Q23: 83
A24: 10 | E24: 419 | I24: 285 | M24: 246 | Q24: 83
A25: 11 | E25: 416 | I25: 273 | M25: 230 | Q25: 80
A26: 12 | E26: 434 | I26: 274 | M26: 255 | Q26: 79
... A38: 24 | E38: 182 | I38: 248 | M38: 66 | Q38: 64
A39: Итого | E39: =SUM(E16:E38) -> 6585 | I39: =SUM(I15:I38) -> 6436 | M39: =SUM(M15:M38) -> 3567 | Q39: =SUM(Q15:Q38) -> 1801
A40: 1. При наличии на предприятии отклонений от нормальных режимов электропотребления (временное изменение схем питания, остановка на ремонт, резкое снижение
A41: эл.потребления и т.д.) последние необходимо перечислить.
A42: Главный инженер АО "Вологдаоблэнерго" А.В. Чурляев
A43: составляется самим предприятием с соблюдением всех пунктов настоящей таблицы.

Sheet 3
B1: АО "Вологдаоблэнерго" | J1: код 900151 | N1: ПС 110 кВ ЕРМАКОВО
B2: наименование предприятия | N2: наименование источника питания
N3: яч. 18 ф."РУБЦОВО"
B4: ул. Горького, 99 | I4: Таблица № 1 | O4: ВЛ-10кВ № 2
B5: адрес
A6: почасовых записей показаний электрических счетчиков
A7: в режимный день 21 ДЕКАБРЯ 2022 г.
A8: 374
A9: часы суток | B9: Активная энергия | J9: Реактивная энергия
B10: яч. 18 ф."РУБЦОВО"- ПКУ - ВЛ№2 | J10: яч. 18 ф."РУБЦОВО"- ПКУ - ВЛ№2
B11: Расчет. Коэф. | E11: 1000 | F11: Расчет. Коэф. | I11: 0 | J11: Расчет. Коэф. | M11: =E11 -> 1000 | N11: Расчет. Коэф. | Q11: =I11 -> 0
B12: показания счетчика | C12: разность | E12: расход эл.энергии за час | F12: показания счетчика | G12: разность | I12: расход эл.энергии за час | J12: показания счетчика | K12: разность | M12: расход эл.энергии за час | N12: показания счетчика | O12: разность | Q12: расход эл.энергии за час
A13: 1 | B13: 2 | C13: 3 | E13: 4 | F13: 5 | G13: 6 | I13: 7 | J13: 8 | K13: 9 | M13: 10 | N13: 11 | O13: 12 | Q13: 13
A14: 0
A15: 1 | E15: 487 | M15: 28.6
A16: 2 | E16: 461.8 | M16: 25.8
A17: 3 | E17: 448 | M17: 20.6
A18: 4 | E18: 458.2 | M18: 21.8
A19: 5 | E19: 448.8 | M19: 20
A20: 6 | E20: 472 | M20: 20.6
A21: 7 | E21: 512.2 | M21: 21.8
A22: 8 | E22: 532.8 | M22: 19.8
A23: 9 | E23: 527.2 | M23: 22
A24: 10 | E24: 472.4 | M24: 23
A25: 11 | E25: 462.4 | M25: 25
A26: 12 | E26: 464.8 | M26: 26
... A38: 24 | E38: 526 | M38: 23
A39: Итого | E39: =SUM(E15:E38) -> 12082.6 | M39: =SUM(M16:M38) -> 547.6
A40: 1. При наличии на предприятии отклонений от нормальных режимов электропотребления (временное изменение схем питания, остановка на ремонт, резкое снижение
A41: эл.потребления и т.д.) последние необходимо перечислить.
A42: Главный инженер АО "Вологдаоблэнерго" А.В. Чурляев
A43: составляется самим предприятием с соблюдением всех пунктов настоящей таблицы.

Sheet 4
B1: АО "Вологдаоблэнерго" | J1: код 900151 | N1: ПС "МАЕГА"
B2: наименование предприятия | N2: наименование источника питания
N3: яч. 13 - Ф НИКИТИНО
B4: ул. Горького, 99 | I4: Таблица № 1 | O4: ВЛ 10 кВ №27
B5: адрес
A6: почасовых записей показаний электрических счетчиков
A7: в режимный день 21 ДЕКАБРЯ 2022 г.
A8: 363
A9: часы суток | B9: Активная энергия | J9: Реактивная энергия
B10: яч. 13 - Ф НИКИТИНО-СВ - ВЛ№27 | J10: яч. 13 - Ф НИКИТИНО-СВ - ВЛ№27
B11: Расчет. Коэф. | E11: 1500 | F11: Расчет. Коэф. | I11: 0 | J11: Расчет. Коэф. | M11: =E11 -> 1500 | N11: Расчет. Коэф. | Q11: =I11 -> 0
B12: показания счетчика | C12: разность | E12: расход эл.энергии за час | F12: показания счетчика | G12: разность | I12: расход эл.энергии за час | J12: показания счетчика | K12: разность | M12: расход эл.энергии за час | N12: показания счетчика | O12: разность | Q12: расход эл.энергии за час
A13: 1 | B13: 2 | C13: 3 | E13: 4 | F13: 5 | G13: 6 | I13: 7 | J13: 8 | K13: 9 | M13: 10 | N13: 11 | O13: 12 | Q13: 13
A14: 0
A15: 1 | E15: 560.1 | M15: 45.45
A16: 2 | E16: 554.4 | M16: 42.9
A17: 3 | E17: 544.8 | M17: 43.35
A18: 4 | E18: 543.45 | M18: 43.05
A19: 5 | E19: 554.7 | M19: 41.25
A20: 6 | E20: 599.25 | M20: 38.85
A21: 7 | E21: 641.25 | M21: 41.55
A22: 8 | E22: 654.9 | M22: 47.4
A23: 9 | E23: 660.15 | M23: 48.15
A24: 10 | E24: 660.9 | M24: 52.95
A25: 11 | E25: 651.6 | M25: 54.15
A26: 12 | E26: 671.55 | M26: 57
... A38: 24 | E38: 619.95 | M38: 45.6
A39: Итого | E39: =SUM(E15:E38) -> 15630.75 | M39: =SUM(M15:M38) -> 1165.5
A40: 1. При наличии на предприятии отклонений от нормальных режимов электропотребления (временное изменение схем питания, остановка на ремонт, резкое снижение
A41: эл.потребления и т.д.) последние необходимо перечислить.
A42: Главный инженер АО "Вологдаоблэнерго" А.В. Чурляев
A43: составляется самим предприятием с соблюдением всех пунктов настоящей таблицы.

Sheet 5
B1: АО "Вологдаоблэнерго" | J1: код 900151 | N1: ПС "ЗАПАДНАЯ"
B2: наименование предприятия | N2: наименование источника питания
N3: _________________________________
B4: ул. Горького, 99 | I4: Таблица № 1 | O4: РП 16
B5: адрес
A6: почасовых записей показаний электрических счетчиков
A7: в режимный день 21 ДЕКАБРЯ 2022 г.
A8: 372 | B8: 368
A9: часы суток | B9: Активная энергия | J9: Реактивная энергия
B10: Яч. 21 - "РМЗ-1" | F10: Яч. 28 - "РМЗ-2" | J10: Яч. 21 - "РМЗ-1" | N10: Яч. 28 - "РМЗ-2"
B11: Расчет. Коэф. | E11: 7200 | F11: Расчет. Коэф. | I11: 7200 | J11: Расчет. Коэф. | M11: =E11 -> 7200 | N11: Расчет. Коэф. | Q11: =I11 -> 7200
B12: показания счетчика | C12: разность | E12: расход эл.энергии за час | F12: показания счетчика | G12: разность | I12: расход эл.энергии за час | J12: показания счетчика | K12: разность | M12: расход эл.энергии за час | N12: показания счетчика | O12: разность | Q12: расход эл.энергии за час
A13: 1 | B13: 2 | C13: 3 | E13: 4 | F13: 5 | G13: 6 | I13: 7 | J13: 8 | K13: 9 | M13: 10 | N13: 11 | O13: 12 | Q13: 13
A14: 0
A15: 1 | E15: 453 | I15: 1079 | M15: 118 | Q15: 138
A16: 2 | E16: 424 | I16: 1227 | M16: 116 | Q16: 187
A17: 3 | E17: 426 | I17: 1246 | M17: 117 | Q17: 189
A18: 4 | E18: 421 | I18: 1206 | M18: 119 | Q18: 197
A19: 5 | E19: 455 | I19: 1216 | M19: 120 | Q19: 191
A20: 6 | E20: 510 | I20: 1300 | M20: 137 | Q20: 181
A21: 7 | E21: 632 | I21: 1486 | M21: 152 | Q21: 181
A22: 8 | E22: 1010 | I22: 1726 | M22: 348 | Q22: 195
A23: 9 | E23: 1299 | I23: 1835 | M23: 524 | Q23: 242
A24: 10 | E24: 1329 | I24: 1905 | M24: 562 | Q24: 261
A25: 11 | E25: 1285 | I25: 1982 | M25: 538 | Q25: 255
A26: 12 | E26: 1339 | I26: 1971 | M26: 558 | Q26: 256
... A38: 24 | E38: 538 | I38: 1479 | M38: 135 | Q38: 170
A39: Итого | E39: =SUM(E15:E38) -> 21389 | I39: =SUM(I15:I38) -> 39971 | M39: =SUM(M15:M38) -> 7422 | Q39: =SUM(Q15:Q38) -> 4986
A40: 1. При наличии на предприятии отклонений от нормальных режимов электропотребления (временное изменение схем питания, остановка на ремонт, резкое снижение
A41: эл.потребления и т.д.) последние необходимо перечислить.
A42: Главный инженер АО "Вологдаоблэнерго" А.В. Чурляев
A43: составляется самим предприятием с соблюдением всех пунктов настоящей таблицы.

Sheet 6
B1: АО "Вологдаоблэнерго" | J1: код 900151 | N1: ПС "ЗАПАДНАЯ"
B2: наименование предприятия | N2: наименование источника питания
N3: _________________________________
B4: ул. Горького, 99 | I4: Таблица № 1 | N4: РП 10 ф7 | Q4: РП 36 ф17
B5: адрес
A6: почасовых записей показаний электрических счетчиков
A7: в режимный день 21 ДЕКАБРЯ 2022 г.
A8: 370 | B8: 365
A9: часы суток | B9: Активная энергия | J9: Реактивная энергия
B10: яч. 16 - ф."ОЧИСТНЫЕ-1" | F10: яч. 24 - "ГОРОД-1" | J10: яч. 16 - ф."ОЧИСТНЫЕ-1" | N10: яч. 24 - "ГОРОД-1"
B11: Расчет. Коэф. | E11: 4800 | F11: Расчет. Коэф. | I11: 7200 | J11: Расчет. Коэф. | M11: =E11 -> 4800 | N11: Расчет. Коэф. | Q11: =I11 -> 7200
B12: показания счетчика | C12: разность | E12: расход эл.энергии за час | F12: показания счетчика | G12: разность | I12: расход эл.энергии за час | J12: показания счетчика | K12: разность | M12: расход эл.энергии за час | N12: показания счетчика | O12: разность | Q12: расход эл.энергии за час
A13: 1 | B13: 2 | C13: 3 | E13: 4 | F13: 5 | G13: 6 | I13: 7 | J13: 8 | K13: 9 | M13: 10 | N13: 11 | O13: 12 | Q13: 13
A14: 0
A15: 1 | E15: 257 | I15: 1477 | M15: 46 | Q15: 697
A16: 2 | E16: 234 | I16: 1488 | M16: 41 | Q16: 686
A17: 3 | E17: 233 | I17: 1514 | M17: 42 | Q17: 669
A18: 4 | E18: 233 | I18: 1517 | M18: 42 | Q18: 675
A19: 5 | E19: 233 | I19: 1481 | M19: 41 | Q19: 664
A20: 6 | E20: 312 | I20: 1514 | M20: 55 | Q20: 684
A21: 7 | E21: 738 | I21: 1528 | M21: 147 | Q21: 684
A22: 8 | E22: 801 | I22: 1568 | M22: 161 | Q22: 687
A23: 9 | E23: 586 | I23: 1600 | M23: 105 | Q23: 675
A24: 10 | E24: 575 | I24: 1670 | M24: 98 | Q24: 716
A25: 11 | E25: 574 | I25: 1628 | M25: 99 | Q25: 703
A26: 12 | E26: 575 | I26: 1638 | M26: 100 | Q26: 751
... A38: 24 | E38: 363 | I38: 1471 | M38: 63 | Q38: 626
A39: Итого | E39: =SUM(E15:E38) -> 12561 | I39: =SUM(I15:I38) -> 37337 | M39: =SUM(M15:M38) -> 2312 | Q39: =SUM(Q15:Q38) -> 16811
A40: 1. При наличии на предприятии отклонений от нормальных режимов электропотребления (временное изменение схем питания, остановка на ремонт, резкое снижение
A41: эл.потребления и т.д.) последние необходимо перечислить.
A42: Главный инженер АО "Вологдаоблэнерго" А.В. Чурляев
A43: составляется самим предприятием с соблюдением всех пунктов настоящей таблицы.

Sheet 7
B1: АО "Вологдаоблэнерго" | J1: код 900151 | N1: ПС "ЗАПАДНАЯ"
B2: наименование предприятия | N2: наименование источника питания
N3: _________________________________
B4: ул. Горького, 99 | I4: Таблица № 1 | O4: РП 7
B5: адрес
A6: почасовых записей показаний электрических счетчиков
A7: в режимный день 21 ДЕКАБРЯ 2022 г.
A8: 371 | B8: 367
A9: часы суток | B9: Активная энергия | J9: Реактивная энергия
B10: яч. 3 "П/Я-1" | F10: яч. 10 "П/Я-2" | J10: яч. 3 "П/Я-1" | N10: яч. 10 "П/Я-2"
B11: Расчет. Коэф. | E11: 12000 | F11: Расчет. Коэф. | I11: 7200 | J11: Расчет. Коэф. | M11: =E11 -> 12000 | N11: Расчет. Коэф. | Q11: =I11 -> 7200
B12: показания счетчика | C12: разность | E12: расход эл.энергии за час | F12: показания счетчика | G12: разность | I12: расход эл.энергии за час | J12: показания счетчика | K12: разность | M12: расход эл.энергии за час | N12: показания счетчика | O12: разность | Q12: расход эл.энергии за час
A13: 1 | B13: 2 | C13: 3 | E13: 4 | F13: 5 | G13: 6 | I13: 7 | J13: 8 | K13: 9 | M13: 10 | N13: 11 | O13: 12 | Q13: 13
A14: 0
A15: 1 | E15: 712 | I15: 1079 | M15: 137 | Q15: 138
A16: 2 | E16: 686 | I16: 1227 | M16: 133 | Q16: 187
A17: 3 | E17: 678 | I17: 1246 | M17: 127 | Q17: 189
A18: 4 | E18: 703 | I18: 1206 | M18: 144 | Q18: 197
A19: 5 | E19: 740 | I19: 1216 | M19: 143 | Q19: 191
A20: 6 | E20: 838 | I20: 1300 | M20: 166 | Q20: 181
A21: 7 | E21: 966 | I21: 1486 | M21: 203 | Q21: 181
A22: 8 | E22: 1111 | I22: 1726 | M22: 268 | Q22: 195
A23: 9 | E23: 1386 | I23: 1835 | M23: 322 | Q23: 242
A24: 10 | E24: 1399 | I24: 1905 | M24: 338 | Q24: 261
A25: 11 | E25: 1266 | I25: 1982 | M25: 343 | Q25: 255
A26: 12 | E26: 1209 | I26: 1971 | M26: 340 | Q26: 256
... A38: 24 | E38: 885 | I38: 1479 | M38: 187 | Q38: 170
A39: Итого | E39: =SUM(E15:E38) -> 24941 | I39: =SUM(I15:I38) -> 39971 | M39: =SUM(M15:M38) -> 5679 | Q39: =SUM(Q15:Q38) -> 4986
A40: 1. При наличии на предприятии отклонений от нормальных режимов электропотребления (временное изменение схем питания, остановка на ремонт, резкое снижение
A41: эл.потребления и т.д.) последние необходимо перечислить.
A42: Главный инженер АО "Вологдаоблэнерго" А.В. Чурляев
A43: составляется самим предприятием с соблюдением всех пунктов настоящей таблицы.

Sheet 8
B1: АО "Вологдаоблэнерго" | J1: код 900151 | N1: ПС "ЗАПАДНАЯ"
B2: наименование предприятия | I2: _ | N2: наименование источника питания
N3: _________________________________
B4: ул. Горького, 99 | I4: Таблица № 1 | O4: РП 35; РП 37
B5: адрес
A6: почасовых записей показаний электрических счетчиков
A7: в режимный день 21 ДЕКАБРЯ 2022 г.
A8: 129 | B8: 130
A9: часы суток | B9: Активная энергия | J9: Реактивная энергия
B10: яч. 15 "РП -35" | F10: яч. 35 "РП-37" | J10: яч. 15 "РП -35" | N10: яч. 35 "РП-37"
B11: Расчет. Коэф. | E11: 3600 | F11: Расчет. Коэф. | I11: 4800 | J11: Расчет. Коэф. | M11: =E11 -> 3600 | N11: Расчет. Коэф. | Q11: =I11 -> 4800
B12: показания счетчика | C12: разность | E12: расход эл.энергии за час | F12: показания счетчика | G12: разность | I12: расход эл.энергии за час | J12: показания счетчика | K12: разность | M12: расход эл.энергии за час | N12: показания счетчика | O12: разность | Q12: расход эл.энергии за час
A13: 1 | B13: 2 | C13: 3 | E13: 4 | F13: 5 | G13: 6 | I13: 7 | J13: 8 | K13: 9 | M13: 10 | N13: 11 | O13: 12 | Q13: 13
A14: 0
A15: 1 | E15: 466 | I15: 896 | M15: 249 | Q15: 177
A16: 2 | E16: 465 | I16: 850 | M16: 248 | Q16: 166
A17: 3 | E17: 465 | I17: 943 | M17: 248 | Q17: 232
A18: 4 | E18: 465 | I18: 895 | M18: 250 | Q18: 214
A19: 5 | E19: 465 | I19: 833 | M19: 247 | Q19: 166
A20: 6 | E20: 464 | I20: 896 | M20: 248 | Q20: 162
A21: 7 | E21: 328 | I21: 955 | M21: 177 | Q21: 150
A22: 8 | E22: 304 | I22: 1005 | M22: 169 | Q22: 144
A23: 9 | E23: 305 | I23: 1066 | M23: 169 | Q23: 168
A24: 10 | E24: 304 | I24: 1201 | M24: 170 | Q24: 231
A25: 11 | E25: 305 | I25: 1233 | M25: 171 | Q25: 303
A26: 12 | E26: 305 | I26: 1133 | M26: 172 | Q26: 267
... A38: 24 | E38: 306 | I38: 923 | M38: 178 | Q38: 206
A39: Итого | E39: =SUM(E15:E38) -> 8305 | I39: =SUM(I15:I38) -> 24645 | M39: =SUM(M15:M38) -> 4578 | Q39: =SUM(Q15:Q38) -> 4954
A40: 1. При наличии на предприятии отклонений от нормальных режимов электропотребления (временное изменение схем питания, остановка на ремонт, резкое снижение
A41: эл.потребления и т.д.) последние необходимо перечислить.
A42: Главный инженер АО "Вологдаоблэнерго" А.В. Чурляев
A43: составляется самим предприятием с соблюдением всех пунктов настоящей таблицы.

Sheet 9
B1: АО "Вологдаоблэнерго" | J1: код 900151 | N1: ПС "ЗАПАДНАЯ"
B2: наименование предприятия | N2: наименование источника питания
N3: _________________________________
B4: ул. Горького, 99 | I4: Таблица № 1 | O4: РП 28
B5: адрес
A6: почасовых записей показаний электрических счетчиков
A7: в режимный день 21 ДЕКАБРЯ 2022 г.
A8: 366 | B8: 369
A9: часы суток | B9: Активная энергия | J9: Реактивная энергия
B10: яч. 17 "ГОРОД-2" | F10: яч. 22 - "ОЧИСТНЫЕ-2" | J10: ЯЧ. №17 - "ГОРОД-2" | N10: ЯЧ. №22 - "ОЧИСТНЫЕ-2"
B11: Расчет. Коэф. | E11: 7200 | F11: Расчет. Коэф. | I11: 7200 | J11: Расчет. Коэф. | M11: =E11 -> 7200 | N11: Расчет. Коэф. | Q11: =I11 -> 7200
B12: показания счетчика | C12: разность | E12: расход эл.энергии за час | F12: показания счетчика | G12: разность | I12: расход эл.энергии за час | J12: показания счетчика | K12: разность | M12: расход эл.энергии за час | N12: показания счетчика | O12: разность | Q12: расход эл.энергии за час
A13: 1 | B13: 2 | C13: 3 | E13: 4 | F13: 5 | G13: 6 | I13: 7 | J13: 8 | K13: 9 | M13: 10 | N13: 11 | O13: 12 | Q13: 13
A14: 0
A15: 1 | E15: 711 | I15: 690 | M15: 120 | Q15: 291
A16: 2 | E16: 690 | I16: 683 | M16: 118 | Q16: 292
A17: 3 | E17: 658 | I17: 793 | M17: 117 | Q17: 359
A18: 4 | E18: 676 | I18: 728 | M18: 121 | Q18: 318
A19: 5 | E19: 694 | I19: 675 | M19: 119 | Q19: 283
A20: 6 | E20: 708 | I20: 693 | M20: 121 | Q20: 287
A21: 7 | E21: 809 | I21: 699 | M21: 133 | Q21: 282
A22: 8 | E22: 959 | I22: 752 | M22: 163 | Q22: 280
A23: 9 | E23: 1175 | I23: 872 | M23: 242 | Q23: 327
A24: 10 | E24: 1257 | I24: 906 | M24: 276 | Q24: 329
A25: 11 | E25: 1221 | I25: 1011 | M25: 287 | Q25: 388
A26: 12 | E26: 1226 | I26: 997 | M26: 291 | Q26: 392
... A38: 24 | E38: 801 | I38: 716 | M38: 126 | Q38: 310
A39: Итого | E39: =SUM(E15:E38) -> 23700 | I39: =SUM(I15:I38) -> 19533 | M39: =SUM(M15:M38) -> 4571 | Q39: =SUM(Q15:Q38) -> 7810
A40: 1. При наличии на предприятии отклонений от нормальных режимов электропотребления (временное изменение схем питания, остановка на ремонт, резкое снижение
A41: эл.потребления и т.д.) последние необходимо перечислить.
A42: Главный инженер АО "Вологдаоблэнерго" А.В. Чурляев
A43: составляется самим предприятием с соблюдением всех пунктов настоящей таблицы.

Sheet 10
B1: АО "Вологдаоблэнерго" | J1: код 900151 | N1: ПС "СЕВЕРНАЯ 35/6 кВ
B2: наименование предприятия | N2: наименование источника питания
N3: _________________________________
B4: ул. Горького, 99 | I4: Таблица № 1 | N4: Т1, Т2 | O4: РП 5
B5: адрес
A6: почасовых записей показаний электрических счетчиков
A7: в режимный день 21 ДЕКАБРЯ 2022 г.
A8: 325 | B8: 328
A9: часы суток | B9: Активная энергия | J9: Реактивная энергия
B10: Т 1 -РП 5 Ф 3 ввод № 1 | F10: Т 2 - РП 5 Ф 17 ввод № 2 | J10: Т 1 -РП 5 Ф 3 ввод № 1 | N10: Т 2 - РП 5 Ф 17 ввод № 2
B11: Расчет. Коэф. | E11: 18000 | F11: Расчет. Коэф. | I11: 18000 | J11: Расчет. Коэф. | M11: =E11 -> 18000 | N11: Расчет. Коэф. | Q11: =I11 -> 18000
B12: показания счетчика | C12: разность | E12: расход эл.энергии за час | F12: показания счетчика | G12: разность | I12: расход эл.энергии за час | J12: показания счетчика | K12: разность | M12: расход эл.энергии за час | N12: показания счетчика | O12: разность | Q12: расход эл.энергии за час
A13: 1 | B13: 2 | C13: 3 | E13: 4 | F13: 5 | G13: 6 | I13: 7 | J13: 8 | K13: 9 | M13: 10 | N13: 11 | O13: 12 | Q13: 13
A14: 0
A15: 1 | E15: 1625.4 | I15: 2241 | M15: 349.2 | Q15: 509.4
A16: 2 | E16: 1553.4 | I16: 1890 | M16: 342 | Q16: 468
A17: 3 | E17: 1517.4 | I17: 1805.4 | M17: 327.6 | Q17: 451.8
A18: 4 | E18: 1492.2 | I18: 1791 | M18: 318.6 | Q18: 451.8
A19: 5 | E19: 1515.6 | I19: 1836 | M19: 327.6 | Q19: 437.4
A20: 6 | E20: 1634.4 | I20: 1963.8 | M20: 363.6 | Q20: 432
A21: 7 | E21: 1807.2 | I21: 2277 | M21: 372.6 | Q21: 432
A22: 8 | E22: 1980 | I22: 2498.4 | M22: 412.2 | Q22: 424.8
A23: 9 | E23: 2077.2 | I23: 2910.6 | M23: 410.4 | Q23: 586.8
A24: 10 | E24: 2122.2 | I24: 3110.4 | M24: 478.8 | Q24: 630
A25: 11 | E25: 2125.8 | I25: 3114 | M25: 480.6 | Q25: 601.2
A26: 12 | E26: 2131.2 | I26: 3213 | M26: 468 | Q26: 673.2
... A38: 24 | E38: 1656 | I38: 2113.2 | M38: 298.8 | Q38: 412.2
A39: Итого | E39: =SUM(E15:E38) -> 46166.4 | I39: =SUM(I15:I38) -> 63041.4 | M39: =SUM(M15:M38) -> 9324 | Q39: =SUM(Q15:Q38) -> 12313.8
A40: 1. При наличии на предприятии отклонений от нормальных режимов электропотребления (временное изменение схем питания, остановка на ремонт, резкое снижение
A41: эл.потребления и т.д.) последние необходимо перечислить.
A42: Главный инженер АО "Вологдаоблэнерго" А.В. Чурляев
A43: составляется самим предприятием с соблюдением всех пунктов настоящей таблицы.

Sheet 11
B1: АО "Вологдаоблэнерго" | G1: код 900151 | I1: ПС "ВОЛОГДА-ЮЖНАЯ" 110/6 транзит через РТП "ТЕПЛИЧНОГО ХОЗ - ВА"
B2: наименование предприятия | N2: наименование источника питания
N3: _________________________________
B4: ул. Горького, 99 | I4: Таблица № 1 | O4: ТП 438
B5: адрес
A6: почасовых записей показаний электрических счетчиков
A7: в режимный день 21 ДЕКАБРЯ 2022 г.
A8: 635 | B8: 634
A9: часы суток | B9: Активная энергия | J9: Реактивная энергия
B10: ЯЧ. 3 - ф. "Микрорайон-1" ввод № 1 | F10: яч. 13 - ф. "Микрорайон-2" ввод № 2 | J10: ЯЧ. 3 - ф. "Микрорайон-1" ввод № 1 | N10: яч. 13 - ф. "Микрорайон-2" ввод № 2
B11: Расчет. Коэф. | E11: 3600 | F11: Расчет. Коэф. | I11: 3600 | J11: Расчет. Коэф. | M11: =E11 -> 3600 | N11: Расчет. Коэф. | Q11: =I11 -> 3600
B12: показания счетчика | C12: разность | E12: расход эл.энергии за час | F12: показания счетчика | G12: разность | I12: расход эл.энергии за час | J12: показания счетчика | K12: разность | M12: расход эл.энергии за час | N12: показания счетчика | O12: разность | Q12: расход эл.энергии за час
A13: 1 | B13: 2 | C13: 3 | E13: 4 | F13: 5 | G13: 6 | I13: 7 | J13: 8 | K13: 9 | M13: 10 | N13: 11 | O13: 12 | Q13: 13
A14: 0
A15: 1 | E15: 116.28 | I15: 144 | M15: 43.92 | Q15: 47.88
A16: 2 | E16: 108.72 | I16: 131.4 | M16: 44.28 | Q16: 49.32
A17: 3 | E17: 101.88 | I17: 127.08 | M17: 43.2 | Q17: 48.24
A18: 4 | E18: 100.44 | I18: 127.8 | M18: 43.56 | Q18: 48.96
A19: 5 | E19: 104.04 | I19: 148.68 | M19: 48.24 | Q19: 50.76
A20: 6 | E20: 118.08 | I20: 168.12 | M20: 46.08 | Q20: 52.56
A21: 7 | E21: 158.4 | I21: 186.48 | M21: 43.56 | Q21: 50.04
A22: 8 | E22: 191.88 | I22: 202.32 | M22: 48.24 | Q22: 51.12
A23: 9 | E23: 208.8 | I23: 231.48 | M23: 56.88 | Q23: 50.76
A24: 10 | E24: 210.24 | I24: 252.72 | M24: 57.6 | Q24: 47.52
A25: 11 | E25: 209.88 | I25: 256.32 | M25: 52.56 | Q25: 46.08
A26: 12 | E26: 217.08 | I26: 253.08 | M26: 55.08 | Q26: 47.52
... A38: 24 | E38: 131.04 | I38: 175.68 | M38: 41.76 | Q38: 43.92
A39: Итого | E39: =SUM(E15:E38) -> 4190.76 | I39: =SUM(I15:I38) -> 5095.8 | M39: =SUM(M15:M38) -> 1203.12 | Q39: =SUM(Q15:Q38) -> 1175.76
A40: 1. При наличии на предприятии отклонений от нормальных режимов электропотребления (временное изменение схем питания, остановка на ремонт, резкое снижение
A41: эл.потребления и т.д.) последние необходимо перечислить.
A42: Главный инженер АО "Вологдаоблэнерго" А.В. Чурляев
A43: составляется самим предприятием с соблюдением всех пунктов настоящей таблицы.

Sheet 12
B1: АО "Вологдаоблэнерго" | J1: код 900151 | N1: ГПП 110/10 кВ "ВОМЗ"
B2: наименование предприятия | N2: наименование источника питания
N3: _________________________________
B4: ул. Горького, 99 | I4: Таблица № 1 | O4: РП 29
B5: адрес
A6: почасовых записей показаний электрических счетчиков
A7: в режимный день 21 ДЕКАБРЯ 2022 г.
A8: 613 | B8: 610
A9: часы суток | B9: Активная энергия | J9: Реактивная энергия
B10: ЯЧ.47 - РП 29 ввод № 1 | F10: ЯЧ.31 - РП 29 ввод № 2 | J10: ЯЧ.47 - РП 29 ввод № 1 | N10: ЯЧ.31 - РП 29 ввод № 2
B11: Расчет. Коэф. | E11: 12000 | F11: Расчет. Коэф. | I11: 20000 | J11: Расчет. Коэф. | M11: =E11 -> 12000 | N11: Расчет. Коэф. | Q11: =I11 -> 20000
B12: показания счетчика | C12: разность | E12: расход эл.энергии за час | F12: показания счетчика | G12: разность | I12: расход эл.энергии за час | J12: показания счетчика | K12: разность | M12: расход эл.энергии за час | N12: показания счетчика | O12: разность | Q12: расход эл.энергии за час
A13: 1 | B13: 2 | C13: 3 | E13: 4 | F13: 5 | G13: 6 | I13: 7 | J13: 8 | K13: 9 | M13: 10 | N13: 11 | O13: 12 | Q13: 13
A14: 0
A15: 1 | E15: 986 | I15: 736 | M15: 273 | Q15: 118
A16: 2 | E16: 896 | I16: 674 | M16: 268 | Q16: 108
A17: 3 | E17: 846 | I17: 650 | M17: 263 | Q17: 110
A18: 4 | E18: 837 | I18: 642 | M18: 261 | Q18: 108
A19: 5 | E19: 856 | I19: 668 | M19: 254 | Q19: 106
A20: 6 | E20: 975 | I20: 750 | M20: 260 | Q20: 110
A21: 7 | E21: 1275 | I21: 994 | M21: 270 | Q21: 120
A22: 8 | E22: 1586 | I22: 1244 | M22: 323 | Q22: 152
A23: 9 | E23: 1867 | I23: 1528 | M23: 334 | Q23: 182
A24: 10 | E24: 2055 | I24: 1590 | M24: 301 | Q24: 168
A25: 11 | E25: 2180 | I25: 1604 | M25: 302 | Q25: 174
A26: 12 | E26: 2183 | I26: 1642 | M26: 309 | Q26: 180
... A38: 24 | E38: 1104 | I38: 824 | M38: 233 | Q38: 88
A39: Итого | E39: =SUM(E15:E38) -> 39100 | I39: =SUM(I15:I38) -> 29128 | M39: =SUM(M15:M38) -> 6984 | Q39: =SUM(Q15:Q38) -> 3340
A40: 1. При наличии на предприятии отклонений от нормальных режимов электропотребления (временное изменение схем питания, остановка на ремонт, резкое снижение
A41: эл.потребления и т.д.) последние необходимо перечислить.
A42: Главный инженер АО "Вологдаоблэнерго" А.В. Чурляев
A43: составляется самим предприятием с соблюдением всех пунктов настоящей таблицы.

Sheet 13
B1: АО "Вологдаоблэнерго" | J1: код 900151 | N1: ГПП 110/10 кВ "ВОМЗ"
B2: наименование предприятия | N2: наименование источника питания
N3: _________________________________
B4: ул. Горького, 99 | I4: Таблица № 1 | O4: РП 14
B5: адрес
A6: почасовых записей показаний электрических счетчиков
A7: в режимный день 21 ДЕКАБРЯ 2022 г.
A8: 614 | B8: 615
A9: часы суток | B9: Активная энергия | J9: Реактивная энергия
B10: ЯЧ.5 - РП 14 ввод № 1 | F10: ЯЧ.22 - РП 14 ввод № 2 | J10: ЯЧ.5 - РП 14 ввод № 1 | N10: ЯЧ.22 - РП 14 ввод № 2
B11: Расчет. Коэф. | E11: 12000 | F11: Расчет. Коэф. | I11: 12000 | J11: Расчет. Коэф. | M11: =E11 -> 12000 | N11: Расчет. Коэф. | Q11: =I11 -> 12000
B12: показания счетчика | C12: разность | E12: расход эл.энергии за час | F12: показания счетчика | G12: разность | I12: расход эл.энергии за час | J12: показания счетчика | K12: разность | M12: расход эл.энергии за час | N12: показания счетчика | O12: разность | Q12: расход эл.энергии за час
A13: 1 | B13: 2 | C13: 3 | E13: 4 | F13: 5 | G13: 6 | I13: 7 | J13: 8 | K13: 9 | M13: 10 | N13: 11 | O13: 12 | Q13: 13
A14: 0
A15: 1 | E15: 2068 | I15: 2066 | M15: 9 | Q15: 145
A16: 2 | E16: 1907 | I16: 1928 | M16: 15 | Q16: 72
A17: 3 | E17: 1824 | I17: 1859 | M17: 13 | Q17: 70
A18: 4 | E18: 1819 | I18: 1849 | M18: 17 | Q18: 96
A19: 5 | E19: 1829 | I19: 1858 | M19: 14 | Q19: 60
A20: 6 | E20: 1986 | I20: 2014 | M20: 11 | Q20: 91
A21: 7 | E21: 2408 | I21: 2482 | M21: 13 | Q21: 106
A22: 8 | E22: 2716 | I22: 2983 | M22: 54 | Q22: 144
A23: 9 | E23: 3040 | I23: 3427 | M23: 70 | Q23: 274
A24: 10 | E24: 3299 | I24: 3557 | M24: 39 | Q24: 230
A25: 11 | E25: 3372 | I25: 3617 | M25: 66 | Q25: 216
A26: 12 | E26: 3396 | I26: 3797 | M26: 69 | Q26: 291
... A38: 24 | E38: 2252 | I38: 2349 | M38: 2 | Q38: 6
A39: Итого | E39: =SUM(E15:E38) -> 68043 | I39: =SUM(I15:I38) -> 73037 | M39: =SUM(M15:M38) -> 831 | Q39: =SUM(Q15:Q38) -> 3833
A40: 1. При наличии на предприятии отклонений от нормальных режимов электропотребления (временное изменение схем питания, остановка на ремонт, резкое снижение
A41: эл.потребления и т.д.) последние необходимо перечислить.
A42: Главный инженер АО "Вологдаоблэнерго" А.В. Чурляев
A43: составляется самим предприятием с соблюдением всех пунктов настоящей таблицы.

Sheet 14
B1: АО "Вологдаоблэнерго" | J1: код 900151 | N1: ГПП 110/10 кВ "ВОМЗ"
B2: наименование предприятия | N2: наименование источника питания
N3: _________________________________
B4: ул. Горького, 99 | I4: Таблица № 1 | O4: РП 2
B5: адрес
A6: почасовых записей показаний электрических счетчиков
A7: в режимный день 21 ДЕКАБРЯ 2022 г.
A8: 612 | B8: 611
A9: часы суток | B9: Активная энергия | J9: Реактивная энергия
B10: ЯЧ.44 - РП 2 ввод № 1 | F10: ЯЧ.26в - РП 2 ввод № 2 | J10: ЯЧ.44 - РП 2 ввод № 1 | N10: ЯЧ.26в - РП 2 ввод № 2
B11: Расчет. Коэф. | E11: 12000 | F11: Расчет. Коэф. | I11: 12000 | J11: Расчет. Коэф. | M11: =E11 -> 12000 | N11: Расчет. Коэф. | Q11: =I11 -> 12000
B12: показания счетчика | C12: разность | E12: расход эл.энергии за час | F12: показания счетчика | G12: разность | I12: расход эл.энергии за час | J12: показания счетчика | K12: разность | M12: расход эл.энергии за час | N12: показания счетчика | O12: разность | Q12: расход эл.энергии за час
A13: 1 | B13: 2 | C13: 3 | E13: 4 | F13: 5 | G13: 6 | I13: 7 | J13: 8 | K13: 9 | M13: 10 | N13: 11 | O13: 12 | Q13: 13
A14: 0
A15: 1 | E15: 649 | I15: 481 | M15: 17 | Q15: 43
A16: 2 | E16: 600 | I16: 450 | M16: 16 | Q16: 48
A17: 3 | E17: 576 | I17: 433 | M17: 18 | Q17: 43
A18: 4 | E18: 571 | I18: 426 | M18: 17 | Q18: 40
A19: 5 | E19: 566 | I19: 445 | M19: 12 | Q19: 39
A20: 6 | E20: 586 | I20: 485 | M20: 15 | Q20: 42
A21: 7 | E21: 696 | I21: 582 | M21: 35 | Q21: 34
A22: 8 | E22: 857 | I22: 691 | M22: 54 | Q22: 24
A23: 9 | E23: 945 | I23: 784 | M23: 72 | Q23: 28
A24: 10 | E24: 993 | I24: 878 | M24: 79 | Q24: 32
A25: 11 | E25: 1051 | I25: 935 | M25: 83 | Q25: 42
A26: 12 | E26: 1050 | I26: 898 | M26: 89 | Q26: 41
... A38: 24 | E38: 724 | I38: 528 | M38: 3 | Q38: 28
A39: Итого | E39: =SUM(E15:E38) -> 21055 | I39: =SUM(I15:I38) -> 17283 | M39: =SUM(M15:M38) -> 1062 | Q39: =SUM(Q15:Q38) -> 919
A40: 1. При наличии на предприятии отклонений от нормальных режимов электропотребления (временное изменение схем питания, остановка на ремонт, резкое снижение
A41: эл.потребления и т.д.) последние необходимо перечислить.
A42: Главный инженер АО "Вологдаоблэнерго" А.В. Чурляев
A43: составляется самим предприятием с соблюдением всех пунктов настоящей таблицы.

Sheet 15
B1: АО "Вологдаоблэнерго" | J1: код 900151 | N1: ПС ВОЛОГДА-ЮЖНАЯ РУ - 6 кВ
B2: наименование предприятия | N2: наименование источника питания
N3: _________________________________
B4: ул. Горького, 99 | I4: Таблица № 1 | N4: ТП 450 | Q4: ТП 630
B5: адрес
A6: почасовых записей показаний электрических счетчиков
A7: в режимный день 21 ДЕКАБРЯ 2022 г.
A8: 591 | B8: 595
A9: часы суток | B9: Активная энергия | J9: Реактивная энергия
B10: ЯЧ.№ 206 - "ГОРОД-15" | F10: ЯЧ.№103 - "ТУБДИСПАНСЕР" | J10: =B10 -> ЯЧ.№ 206 - "ГОРОД-15" | N10: =F10 -> ЯЧ.№103 - "ТУБДИСПАНСЕР"
B11: Расчет. Коэф. | E11: 4800 | F11: Расчет. Коэф. | I11: 2400 | J11: Расчет. Коэф. | M11: =E11 -> 4800 | N11: Расчет. Коэф. | Q11: =I11 -> 2400
B12: показания счетчика | C12: разность | E12: расход эл.энергии за час | F12: показания счетчика | G12: разность | I12: расход эл.энергии за час | J12: показания счетчика | K12: разность | M12: расход эл.энергии за час | N12: показания счетчика | O12: разность | Q12: расход эл.энергии за час
A13: 1 | B13: 2 | C13: 3 | E13: 4 | F13: 5 | G13: 6 | I13: 7 | J13: 8 | K13: 9 | M13: 10 | N13: 11 | O13: 12 | Q13: 13
A14: 0
A15: 1 | E15: 209 | I15: 255 | M15: 48 | Q15: 29
A16: 2 | E16: 188 | I16: 242 | M16: 41 | Q16: 29
A17: 3 | E17: 188 | I17: 234 | M17: 39 | Q17: 27
A18: 4 | E18: 181 | I18: 231 | M18: 38 | Q18: 29
A19: 5 | E19: 202 | I19: 231 | M19: 39 | Q19: 26
A20: 6 | E20: 208 | I20: 236 | M20: 39 | Q20: 25
A21: 7 | E21: 264 | I21: 278 | M21: 54 | Q21: 27
A22: 8 | E22: 311 | I22: 341 | M22: 88 | Q22: 38
A23: 9 | E23: 382 | I23: 391 | M23: 168 | Q23: 67
A24: 10 | E24: 413 | I24: 423 | M24: 206 | Q24: 81
A25: 11 | E25: 425 | I25: 409 | M25: 203 | Q25: 69
A26: 12 | E26: 439 | I26: 425 | M26: 215 | Q26: 71
... A38: 24 | E38: 222 | I38: 285 | M38: 37 | Q38: 25
A39: Итого | E39: =SUM(E15:E38) -> 7514 | I39: =SUM(I15:I38) -> 8385 | M39: =SUM(M15:M38) -> 2472 | Q39: =SUM(Q15:Q38) -> 1056
A40: 1. При наличии на предприятии отклонений от нормальных режимов электропотребления (временное изменение схем питания, остановка на ремонт, резкое снижение
A41: эл.потребления и т.д.) последние необходимо перечислить.
A42: Главный инженер АО "Вологдаоблэнерго" А.В. Чурляев
A43: составляется самим предприятием с соблюдением всех пунктов настоящей таблицы.

Sheet 16
B1: АО "Вологдаоблэнерго" | J1: код 900151 | N1: ПС ВОЛОГДА-ЮЖНАЯ РУ-10 кВ
B2: наименование предприятия | I2: _ | N2: наименование источника питания
N3: _________________________________
B4: ул. Горького, 99 | I4: Таблица № 1 | O4: РП 32
B5: адрес
A6: почасовых записей показаний электрических счетчиков
A7: в режимный день 21 ДЕКАБРЯ 2022 г.
A8: 590 | B8: 593
A9: часы суток | B9: Активная энергия | J9: Реактивная энергия
B10: ЯЧ.№206 - "ГОРОД-10" | F10: ЯЧ.№404- "ГОРОД-14" | J10: =B10 -> ЯЧ.№206 - "ГОРОД-10" | N10: =F10 -> ЯЧ.№404- "ГОРОД-14"
B11: Расчет. Коэф. | E11: 6000 | F11: Расчет. Коэф. | I11: 3000 | J11: Расчет. Коэф. | M11: =E11 -> 6000 | N11: Расчет. Коэф. | Q11: =I11 -> 3000
B12: показания счетчика | C12: разность | E12: расход эл.энергии за час | F12: показания счетчика | G12: разность | I12: расход эл.энергии за час | J12: показания счетчика | K12: разность | M12: расход эл.энергии за час | N12: показания счетчика | O12: разность | Q12: расход эл.энергии за час
A13: 1 | B13: 2 | C13: 3 | E13: 4 | F13: 5 | G13: 6 | I13: 7 | J13: 8 | K13: 9 | M13: 10 | N13: 11 | O13: 12 | Q13: 13
A14: 0
A15: 1 | E15: 497 | I15: 812 | M15: 11 | Q15: 81
A16: 2 | E16: 482 | I16: 798 | M16: 10 | Q16: 77
A17: 3 | E17: 470 | I17: 777 | M17: 4 | Q17: 77
A18: 4 | E18: 529 | I18: 774 | M18: 9 | Q18: 78
A19: 5 | E19: 572 | I19: 773 | M19: 8 | Q19: 70
A20: 6 | E20: 559 | I20: 786 | M20: 8 | Q20: 68
A21: 7 | E21: 577 | I21: 869 | M21: 8 | Q21: 66
A22: 8 | E22: 772 | I22: 1066 | M22: 14 | Q22: 61
A23: 9 | E23: 894 | I23: 1414 | M23: 17 | Q23: 104
A24: 10 | E24: 889 | I24: 1498 | M24: 13 | Q24: 126
A25: 11 | E25: 862 | I25: 1483 | M25: 19 | Q25: 125
A26: 12 | E26: 863 | I26: 1432 | M26: 15 | Q26: 115
... A38: 24 | E38: 584 | I38: 829 | M38: 0 | Q38: 24
A39: Итого | E39: =SUM(E15:E38) -> 16682 | I39: =SUM(I15:I38) -> 26348 | M39: =SUM(M15:M38) -> 232 | Q39: =SUM(Q15:Q38) -> 1947
A40: 1. При наличии на предприятии отклонений от нормальных режимов электропотребления (временное изменение схем питания, остановка на ремонт, резкое снижение
A41: эл.потребления и т.д.) последние необходимо перечислить.
A42: Главный инженер АО "Вологдаоблэнерго" А.В. Чурляев
A43: составляется самим предприятием с соблюдением всех пунктов настоящей таблицы.

Sheet 17
B1: АО "Вологдаоблэнерго" | J1: код 900151 | N1: ПС ВОЛОГДА-ЮЖНАЯ РУ-10 кВ
B2: наименование предприятия | N2: наименование источника питания
N3: РП-44
B4: ул. Горького, 99 | I4: Таблица № 1
B5: адрес
A6: почасовых записей показаний электрических счетчиков
A7: в режимный день 21 ДЕКАБРЯ 2022 г.
A9: часы суток | B9: Активная энергия | J9: Реактивная энергия
B10: яч. 307 ф "Охмыльцево-1" | F10: яч. 409 ф "Охмыльцево-2" | J10: яч. 307 ф "Охмыльцево-1" | N10: яч. 409 ф "Охмыльцево-2"
B11: Расчет. Коэф. | F11: Расчет. Коэф. | J11: Расчет. Коэф. | N11: Расчет. Коэф.
B12: показания счетчика | C12: разность | E12: расход эл.энергии за час | F12: показания счетчика | G12: разность | I12: расход эл.энергии за час | J12: показания счетчика | K12: разность | M12: расход эл.энергии за час | N12: показания счетчика | O12: разность | Q12: расход эл.энергии за час
A13: 1 | B13: 2 | C13: 3 | E13: 4 | F13: 5 | G13: 6 | I13: 7 | J13: 8 | K13: 9 | M13: 10 | N13: 11 | O13: 12 | Q13: 13
A14: 0
A15: 1 | E15: 779 | I15: 466 | M15: 0 | Q15: 0
A16: 2 | E16: 692 | I16: 411 | M16: 0 | Q16: 0
A17: 3 | E17: 669 | I17: 381 | M17: 0 | Q17: 0
A18: 4 | E18: 650 | I18: 375 | M18: 0 | Q18: 0
A19: 5 | E19: 663 | I19: 374 | M19: 0 | Q19: 0
A20: 6 | E20: 750 | I20: 430 | M20: 0 | Q20: 0
A21: 7 | E21: 993 | I21: 606 | M21: 0 | Q21: 0
A22: 8 | E22: 1114 | I22: 679 | M22: 0 | Q22: 0
A23: 9 | E23: 1141 | I23: 687 | M23: 0 | Q23: 0
A24: 10 | E24: 1163 | I24: 724 | M24: 0 | Q24: 0
A25: 11 | E25: 1259 | I25: 752 | M25: 0 | Q25: 0
A26: 12 | E26: 1279 | I26: 732 | M26: 0 | Q26: 0
... A38: 24 | E38: 918 | I38: 573 | M38: 0 | Q38: 0
A39: Итого | E39: =SUM(E15:E38) -> 27093 | I39: =SUM(I15:I38) -> 16249 | M39: =SUM(M15:M38) -> 1 | Q39: =SUM(Q15:Q38) -> 0
A40: 1. При наличии на предприятии отклонений от нормальных режимов электропотребления (временное изменение схем питания, остановка на ремонт, резкое снижение
A41: эл.потребления и т.д.) последние необходимо перечислить.
A42: Главный инженер АО "Вологдаоблэнерго" А.В. Чурляев
A43: составляется самим предприятием с соблюдением всех пунктов настоящей таблицы.

Sheet 18
B1: АО "Вологдаоблэнерго" | J1: код 900151 | N1: ПС ВОЛОГДА-ЮЖНАЯ РУ-10 кВ
B2: наименование предприятия | N2: наименование источника питания
N3: _________________________________
B4: ул. Горького, 99 | I4: Таблица № 1 | O4: РП 26
B5: адрес
A6: почасовых записей показаний электрических счетчиков
A7: в режимный день 21 ДЕКАБРЯ 2022 г.
A8: 589 | B8: 592
A9: часы суток | B9: Активная энергия | J9: Реактивная энергия
B10: ЯЧ. № 107- ф."ГОРОД 7" | F10: ЯЧ. № 204 - ф."ГОРОД 17" | J10: ЯЧ. № 107- ф."ГОРОД 7" | N10: ЯЧ. № 204 - ф."ГОРОД 17"
B11: Расчет. Коэф. | E11: 8000 | F11: Расчет. Коэф. | I11: 8000 | J11: Расчет. Коэф. | M11: =E11 -> 8000 | N11: Расчет. Коэф. | Q11: =I11 -> 8000
B12: показания счетчика | C12: разность | E12: расход эл.энергии за час | F12: показания счетчика | G12: разность | I12: расход эл.энергии за час | J12: показания счетчика | K12: разность | M12: расход эл.энергии за час | N12: показания счетчика | O12: разность | Q12: расход эл.энергии за час
A13: 1 | B13: 2 | C13: 3 | E13: 4 | F13: 5 | G13: 6 | I13: 7 | J13: 8 | K13: 9 | M13: 10 | N13: 11 | O13: 12 | Q13: 13
A14: 0
A15: 1 | E15: 1745 | I15: 1126 | M15: 180 | Q15: 173
A16: 2 | E16: 1588 | I16: 1040 | M16: 175 | Q16: 167
A17: 3 | E17: 1507 | I17: 999 | M17: 169 | Q17: 165
A18: 4 | E18: 1468 | I18: 991 | M18: 166 | Q18: 174
A19: 5 | E19: 1486 | I19: 1023 | M19: 162 | Q19: 160
A20: 6 | E20: 1601 | I20: 1182 | M20: 168 | Q20: 161
A21: 7 | E21: 2083 | I21: 1487 | M21: 198 | Q21: 195
A22: 8 | E22: 2403 | I22: 1695 | M22: 317 | Q22: 238
A23: 9 | E23: 2520 | I23: 1878 | M23: 278 | Q23: 217
A24: 10 | E24: 2568 | I24: 1881 | M24: 251 | Q24: 201
A25: 11 | E25: 2571 | I25: 1827 | M25: 241 | Q25: 200
A26: 12 | E26: 2644 | I26: 1810 | M26: 263 | Q26: 203
... A38: 24 | E38: 2047 | I38: 1298 | M38: 133 | Q38: 125
A39: Итого | E39: =SUM(E15:E38) -> 57996 | I39: =SUM(I15:I38) -> 37822 | M39: =SUM(M15:M38) -> 5727 | Q39: =SUM(Q15:Q38) -> 4586
A40: 1. При наличии на предприятии отклонений от нормальных режимов электропотребления (временное изменение схем питания, остановка на ремонт, резкое снижение
A41: эл.потребления и т.д.) последние необходимо перечислить.
A42: Главный инженер АО "Вологдаоблэнерго" А.В. Чурляев
A43: составляется самим предприятием с соблюдением всех пунктов настоящей таблицы.

Sheet 19
B1: АО "Вологдаоблэнерго" | J1: код 900151 | N1: ПС ВОЛОГДА-ЮЖНАЯ РУ - 10 кВ
B2: наименование предприятия | N2: наименование источника питания
N3: _________________________________
B4: ул. Горького, 99 | I4: Таблица № 1 | O4: РП 43
B5: адрес
A6: почасовых записей показаний электрических счетчиков
A7: в режимный день 21 ДЕКАБРЯ 2022 г.
A8: 597 | B8: 596
A9: часы суток | B9: Активная энергия | J9: Реактивная энергия
B10: ЯЧ.№ 407 - "ГОРОД-3" | F10: ЯЧ.№ 305 - "ГОРОД-5" | J10: ЯЧ.№ 407- "ГОРОД-3" | N10: ЯЧ.№ 305- "ГОРОД-5"
B11: Расчет. Коэф. | E11: 6000 | F11: Расчет. Коэф. | I11: 4000 | J11: Расчет. Коэф. | M11: =E11 -> 6000 | N11: Расчет. Коэф. | Q11: =I11 -> 4000
B12: показания счетчика | C12: разность | E12: расход эл.энергии за час | F12: показания счетчика | G12: разность | I12: расход эл.энергии за час | J12: показания счетчика | K12: разность | M12: расход эл.энергии за час | N12: показания счетчика | O12: разность | Q12: расход эл.энергии за час
A13: 1 | B13: 2 | C13: 3 | E13: 4 | F13: 5 | G13: 6 | I13: 7 | J13: 8 | K13: 9 | M13: 10 | N13: 11 | O13: 12 | Q13: 13
A14: 0
A15: 1 | E15: 2169 | I15: 2054 | M15: 271 | Q15: 324
A16: 2 | E16: 2009 | I16: 1904 | M16: 260 | Q16: 317
A17: 3 | E17: 1933 | I17: 1857 | M17: 251 | Q17: 315
A18: 4 | E18: 1923 | I18: 1819 | M18: 247 | Q18: 309
A19: 5 | E19: 1972 | I19: 1818 | M19: 237 | Q19: 291
A20: 6 | E20: 2288 | I20: 1953 | M20: 252 | Q20: 307
A21: 7 | E21: 2684 | I21: 2296 | M21: 284 | Q21: 333
A22: 8 | E22: 3198 | I22: 2686 | M22: 338 | Q22: 395
A23: 9 | E23: 3628 | I23: 3013 | M23: 420 | Q23: 401
A24: 10 | E24: 3908 | I24: 3240 | M24: 462 | Q24: 392
A25: 11 | E25: 4013 | I25: 3414 | M25: 454 | Q25: 383
A26: 12 | E26: 4043 | I26: 3418 | M26: 457 | Q26: 400
... A38: 24 | E38: 2445 | I38: 2394 | M38: 175 | Q38: 276
A39: Итого | E39: =SUM(E15:E38) -> 78126 | I39: =SUM(I15:I38) -> 70673 | M39: =SUM(M15:M38) -> 8382 | Q39: =SUM(Q15:Q38) -> 8792
A40: 1. При наличии на предприятии отклонений от нормальных режимов электропотребления (временное изменение схем питания, остановка на ремонт, резкое снижение
A41: эл.потребления и т.д.) последние необходимо перечислить.
A42: Главный инженер АО "Вологдаоблэнерго" А.В. Чурляев
A43: составляется самим предприятием с соблюдением всех пунктов настоящей таблицы.

Sheet 20
B1: АО "Вологдаоблэнерго" | J1: код 900151 | N1: ПС ВОЛОГДА-ЮЖНАЯ РУ-10 кВ
B2: наименование предприятия | N2: наименование источника питания
N3: _________________________________
B4: ул. Горького, 99 | I4: Таблица № 1 | O4: РП 27
B5: адрес
A6: почасовых записей показаний электрических счетчиков
A7: в режимный день 21 ДЕКАБРЯ 2022 г.
A8: 30 | B8: 49
A9: часы суток | B9: Активная энергия | J9: Реактивная энергия
B10: ЯЧ. № 408 - "ГОРОД -1" | F10: ЯЧ.№ 105 - "РП 27" | J10: ЯЧ. № 408 - "ГОРОД -1" | N10: ЯЧ.№ 105 - "РП 27"
B11: Расчет. Коэф. | E11: 12000 | F11: Расчет. Коэф. | I11: 12000 | J11: Расчет. Коэф. | M11: =E11 -> 12000 | N11: Расчет. Коэф. | Q11: =I11 -> 12000
B12: показания счетчика | C12: разность | E12: расход эл.энергии за час | F12: показания счетчика | G12: разность | I12: расход эл.энергии за час | J12: показания счетчика | K12: разность | M12: расход эл.энергии за час | N12: показания счетчика | O12: разность | Q12: расход эл.энергии за час
A13: 1 | B13: 2 | C13: 3 | E13: 4 | F13: 5 | G13: 6 | I13: 7 | J13: 8 | K13: 9 | M13: 10 | N13: 11 | O13: 12 | Q13: 13
A14: 0
A15: 1 | E15: 0 | I15: 0 | M15: 0 | Q15: 0
A16: 2 | E16: 0 | I16: 0 | M16: 0 | Q16: 0
A17: 3 | E17: 0 | I17: 0 | M17: 0 | Q17: 0
A18: 4 | E18: 0 | I18: 0 | M18: 0 | Q18: 0
A19: 5 | E19: 0 | I19: 0 | M19: 0 | Q19: 0
A20: 6 | E20: 0 | I20: 0 | M20: 0 | Q20: 0
A21: 7 | E21: 0 | I21: 0 | M21: 0 | Q21: 0
A22: 8 | E22: 0 | I22: 0 | M22: 0 | Q22: 0
A23: 9 | E23: 0 | I23: 0 | M23: 0 | Q23: 0
A24: 10 | E24: 0 | I24: 0 | M24: 0 | Q24: 0
A25: 11 | E25: 0 | I25: 0 | M25: 0 | Q25: 0
A26: 12 | E26: 0 | I26: 0 | M26: 0 | Q26: 0
... A38: 24 | E38: 0 | I38: 0 | M38: 0 | Q38: 0
A39: Итого | E39: =SUM(E15:E38) -> 0 | I39: =SUM(I15:I38) -> 0 | M39: =SUM(M15:M38) -> 0 | Q39: =SUM(Q15:Q38) -> 0
A40: 1. При наличии на предприятии отклонений от нормальных режимов электропотребления (временное изменение схем питания, остановка на ремонт, резкое снижение
A41: эл.потребления и т.д.) последние необходимо перечислить.
A42: Главный инженер АО "Вологдаоблэнерго" А.В. Чурляев
A43: составляется самим предприятием с соблюдением всех пунктов настоящей таблицы.

Sheet 21
B1: АО "Вологдаоблэнерго" | J1: код 900151 | N1: ПС ВОЛОГДА-ЮЖНАЯ РУ-10 кВ
B2: наименование предприятия | N2: наименование источника питания
N3: яч. 406 ф "РОДИОНЦЕВО",
B4: ул. Горького, 99 | I4: Таблица № 1 | N4: КТП-906, ПКУ- ЛЭП-43
B5: адрес
A6: почасовых записей показаний электрических счетчиков
A7: в режимный день 21 ДЕКАБРЯ 2022 г.
A8: 362 | B8: 985
A9: часы суток | B9: Активная энергия | J9: Реактивная энергия
B10: яч. 406 ф "РОДИОНЦЕВО" - ПКУ | F10: КТП-906 | J10: яч. 406 ф "РОДИОНЦЕВО" - ПКУ | N10: КТП-906
B11: Расчет. Коэф. | E11: 2000 | F11: Расчет. Коэф. | I11: 80 | J11: Расчет. Коэф. | M11: =E11 -> 2000 | N11: Расчет. Коэф. | Q11: =I11 -> 80
B12: показания счетчика | C12: разность | E12: расход эл.энергии за час | F12: показания счетчика | G12: разность | I12: расход эл.энергии за час | J12: показания счетчика | K12: разность | M12: расход эл.энергии за час | N12: показания счетчика | O12: разность | Q12: расход эл.энергии за час
A13: 1 | B13: 2 | C13: 3 | E13: 4 | F13: 5 | G13: 6 | I13: 7 | J13: 8 | K13: 9 | M13: 10 | N13: 11 | O13: 12 | Q13: 13
A14: 0
A15: 1 | E15: 19.4 | I15: 38.04 | M15: 0 | Q15: 3.76
A16: 2 | E16: 19.6 | I16: 38 | M16: 0 | Q16: 3.8
A17: 3 | E17: 19.4 | I17: 38.24 | M17: 0 | Q17: 4.16
A18: 4 | E18: 20 | I18: 37.24 | M18: 0 | Q18: 3.84
A19: 5 | E19: 20 | I19: 37.08 | M19: 0 | Q19: 3.16
A20: 6 | E20: 20 | I20: 38.72 | M20: 0 | Q20: 3.36
A21: 7 | E21: 22.4 | I21: 40.68 | M21: 0 | Q21: 3.84
A22: 8 | E22: 21.6 | I22: 44.12 | M22: 0 | Q22: 3.88
A23: 9 | E23: 25 | I23: 44.68 | M23: 0 | Q23: 4.28
A24: 10 | E24: 23.8 | I24: 44.56 | M24: 0 | Q24: 4.6
A25: 11 | E25: 24.8 | I25: 41.64 | M25: 0 | Q25: 3.64
A26: 12 | E26: 23.8 | I26: 42.4 | M26: 0.2 | Q26: 4
... A38: 24 | E38: 22.8 | I38: 45.96 | M38: 0 | Q38: 3.76
A39: Итого | E39: =SUM(E15:E38) -> 533.2 | I39: =SUM(I15:I38) -> 1050.92 | M39: =SUM(M15:M38) -> 0.2 | Q39: =SUM(Q15:Q38) -> 95.16
A40: 1. При наличии на предприятии отклонений от нормальных режимов электропотребления (временное изменение схем питания, остановка на ремонт, резкое снижение
A41: эл.потребления и т.д.) последние необходимо перечислить.
A42: Главный инженер АО "Вологдаоблэнерго" А.В. Чурляев
A43: составляется самим предприятием с соблюдением всех пунктов настоящей таблицы.

Sheet 21_1
B1: АО "Вологдаоблэнерго" | J1: код 900151 | N1: ПС ВОЛОГДА-ЮЖНАЯ РУ- 6 кВ
B2: наименование предприятия | N2: наименование источника питания
N3: _________________________________
B4: ул. Горького, 99 | I4: Таблица № 1 | O4: ТП 461
B5: адрес
A6: почасовых записей показаний электрических счетчиков
A7: в режимный день 21 ДЕКАБРЯ 2022 г.
A8: 594
A9: часы суток | B9: Активная энергия | J9: Реактивная энергия
B10: ЯЧ.№203 - "ГОРОД 20" | J10: ЯЧ.№203 - "ГОРОД 20"
B11: Расчет. Коэф. | E11: 7200 | F11: Расчет. Коэф. | I11: 0 | J11: Расчет. Коэф. | M11: =E11 -> 7200 | N11: Расчет. Коэф. | Q11: =I11 -> 0
B12: показания счетчика | C12: разность | E12: расход эл.энергии за час | F12: показания счетчика | G12: разность | I12: расход эл.энергии за час | J12: показания счетчика | K12: разность | M12: расход эл.энергии за час | N12: показания счетчика | O12: разность | Q12: расход эл.энергии за час
A13: 1 | B13: 2 | C13: 3 | E13: 4 | F13: 5 | G13: 6 | I13: 7 | J13: 8 | K13: 9 | M13: 10 | N13: 11 | O13: 12 | Q13: 13
A14: 0
A15: 1 | E15: 239 | M15: 46
A16: 2 | E16: 207 | M16: 47
A17: 3 | E17: 192 | M17: 41
A18: 4 | E18: 207 | M18: 43
A19: 5 | E19: 219 | M19: 39
A20: 6 | E20: 283 | M20: 50
A21: 7 | E21: 328 | M21: 52
A22: 8 | E22: 373 | M22: 58
A23: 9 | E23: 414 | M23: 60
A24: 10 | E24: 433 | M24: 64
A25: 11 | E25: 445 | M25: 62
A26: 12 | E26: 413 | M26: 56
... A38: 24 | E38: 265 | M38: 34
A39: Итого | E39: =SUM(E15:E38) -> 8042 | M39: =SUM(M15:M38) -> 1219
A40: 1. При наличии на предприятии отклонений от нормальных режимов электропотребления (временное изменение схем питания, остановка на ремонт, резкое снижение
A41: эл.потребления и т.д.) последние необходимо перечислить.
A42: Главный инженер АО "Вологдаоблэнерго" А.В. Чурляев
A43: составляется самим предприятием с соблюдением всех пунктов настоящей таблицы.

Sheet 21_2
B1: АО "Вологдаоблэнерго" | J1: код 900151 | N1: ПС ВОЛОГДА-ЮЖНАЯ РУ-10 кВ
B2: наименование предприятия | N2: наименование источника питания
N3: яч. 104 ф 6 кВ Керамик-1
B4: ул. Горького, 99 | I4: Таблица № 1
B5: адрес
A6: почасовых записей показаний электрических счетчиков
A7: в режимный день 21 ДЕКАБРЯ 2022 г.
A9: часы суток | B9: Активная энергия | J9: Реактивная энергия
B10: яч. 104 ф 6 кВ Керамик-1 ТП-841Т-1 | F10: яч. 104 ф 6 кВ Керамик-1 ТП-417 | J10: яч. 104 ф 6 кВ Керамик-1 ТП-841Т-1 | N10: яч. 104 ф 6 кВ Керамик-1 ТП-417
B11: Расчет. Коэф. | F11: Расчет. Коэф. | I11: 200 | J11: Расчет. Коэф. | N11: Расчет. Коэф. | Q11: 200
B12: показания счетчика | C12: разность | E12: расход эл.энергии за час | F12: показания счетчика | G12: разность | I12: расход эл.энергии за час | J12: показания счетчика | K12: разность | M12: расход эл.энергии за час | N12: показания счетчика | O12: разность | Q12: расход эл.энергии за час
A13: 1 | B13: 2 | C13: 3 | E13: 4 | F13: 5 | G13: 6 | I13: 7 | J13: 8 | K13: 9 | M13: 10 | N13: 11 | O13: 12 | Q13: 13
A14: 0
A15: 1 | E15: 40.5 | I15: 1.72 | M15: 0 | Q15: 0
A16: 2 | E16: 36.6 | I16: 1.64 | M16: 0 | Q16: 0
A17: 3 | E17: 32.7 | I17: 1.68 | M17: 0 | Q17: 0
A18: 4 | E18: 30.3 | I18: 1.76 | M18: 0 | Q18: 0
A19: 5 | E19: 30 | I19: 1.68 | M19: 0 | Q19: 0
A20: 6 | E20: 33.6 | I20: 1.76 | M20: 0 | Q20: 0
A21: 7 | E21: 44.85 | I21: 1.64 | M21: 0 | Q21: 0
A22: 8 | E22: 41.1 | I22: 1.8 | M22: 0 | Q22: 0
A23: 9 | E23: 44.55 | I23: 1.68 | M23: 0 | Q23: 0
A24: 10 | E24: 43.95 | I24: 1.72 | M24: 0 | Q24: 0
A25: 11 | E25: 48.75 | I25: 1.36 | M25: 0 | Q25: 0
A26: 12 | E26: 48.75 | I26: 1.32 | M26: 0 | Q26: 0
... A38: 24 | E38: 45 | I38: 4.12 | M38: 0 | Q38: 0
A39: Итого | E39: =SUM(E15:E38) -> 1132.2 | I39: =SUM(I15:I38) -> 56.32 | M39: =SUM(M15:M38) -> 0 | Q39: =SUM(Q15:Q38) -> 0
A40: 1. При наличии на предприятии отклонений от нормальных режимов электропотребления (временное изменение схем питания, остановка на ремонт, резкое снижение
A41: эл.потребления и т.д.) последние необходимо перечислить.
A42: Главный инженер АО "Вологдаоблэнерго" А.В. Чурляев
A43: составляется самим предприятием с соблюдением всех пунктов настоящей таблицы.

Sheet 21_3
B1: АО "Вологдаоблэнерго" | J1: код 900151 | N1: ПС ВОЛОГДА-ЮЖНАЯ РУ-10 кВ
B2: наименование предприятия | N2: наименование источника питания
N3: яч, 104 ф 6 кВ Керамик-1
B4: ул, Горького, 99 | I4: Таблица № 1
B5: адрес
A6: почасовых записей показаний электрических счетчиков
A7: в режимный день 21 ДЕКАБРЯ 2022 г,
A9: часы суток | B9: Активная энергия | J9: Реактивная энергия
B10: яч, 104 ф 6 кВ Керамик-1 КТП-1004 | J10: яч, 104 ф 6 кВ Керамик-1 КТП-1004
B11: Расчет, Коэф, | F11: Расчет, Коэф, | J11: Расчет, Коэф, | N11: Расчет, Коэф,
B12: показания счетчика | C12: разность | E12: расход эл,энергии за час | F12: показания счетчика | G12: разность | I12: расход эл,энергии за час | J12: показания счетчика | K12: разность | M12: расход эл,энергии за час | N12: показания счетчика | O12: разность | Q12: расход эл,энергии за час
A13: 1 | B13: 2 | C13: 3 | E13: 4 | F13: 5 | G13: 6 | I13: 7 | J13: 8 | K13: 9 | M13: 10 | N13: 11 | O13: 12 | Q13: 13
A14: 0
A15: 1 | E15: 27 | M15: 0.3
A16: 2 | E16: 24.4 | M16: 0.1
A17: 3 | E17: 21.8 | M17: 0.1
A18: 4 | E18: 20.2 | M18: 0.1
A19: 5 | E19: 20 | M19: 0.1
A20: 6 | E20: 22.4 | M20: 0
A21: 7 | E21: 29.9 | M21: 0.8
A22: 8 | E22: 27.4 | M22: 3.1
A23: 9 | E23: 29.7 | M23: 2.4
A24: 10 | E24: 29.3 | M24: 1.3
A25: 11 | E25: 32.5 | M25: 1.2
A26: 12 | E26: 32.5 | M26: 1.8
... A38: 24 | E38: 30 | M38: 0.3
A39: Итого | E39: =SUM(E15:E38) -> 754.8 | I39: =SUM(I15:I38) -> 0 | M39: =SUM(M15:M38) -> 36.1 | Q39: =SUM(Q15:Q38) -> 0
A40: 1, При наличии на предприятии отклонений от нормальных режимов электропотребления (временное изменение схем питания, остановка на ремонт, резкое снижение
A41: эл,потребления и т,д,) последние необходимо перечислить,
A42: Главный инженер АО "Вологдаоблэнерго" А,В, Чурляев
A43: составляется самим предприятием с соблюдением всех пунктов настоящей таблицы,

Sheet 21_4
B1: АО "Вологдаоблэнерго" | J1: код 900151 | N1: ПС ВОЛОГДА-ЮЖНАЯ РУ-10 кВ
B2: наименование предприятия | N2: наименование источника питания
N3: яч. 207 ф 10 кВ Керамик 2
B4: ул. Горького, 99 | I4: Таблица № 1
B5: адрес
A6: почасовых записей показаний электрических счетчиков
A7: в режимный день 21 ДЕКАБРЯ 2022 г.
A9: часы суток | B9: Активная энергия | J9: Реактивная энергия
B10: яч. 207 ф 10 кВ Керамик 2 ТП841 Т-2 | J10: яч. 207 ф 10 кВ Керамик 2 ТП841 Т-2
B11: Расчет. Коэф. | F11: Расчет. Коэф. | J11: Расчет. Коэф. | N11: Расчет. Коэф.
B12: показания счетчика | C12: разность | E12: расход эл.энергии за час | F12: показания счетчика | G12: разность | I12: расход эл.энергии за час | J12: показания счетчика | K12: разность | M12: расход эл.энергии за час | N12: показания счетчика | O12: разность | Q12: расход эл.энергии за час
A13: 1 | B13: 2 | C13: 3 | E13: 4 | F13: 5 | G13: 6 | I13: 7 | J13: 8 | K13: 9 | M13: 10 | N13: 11 | O13: 12 | Q13: 13
A14: 0
A15: 1 | E15: 48.75 | M15: 0
A16: 2 | E16: 40.95 | M16: 0
A17: 3 | E17: 37.65 | M17: 0
A18: 4 | E18: 34.05 | M18: 0
A19: 5 | E19: 33.6 | M19: 0
A20: 6 | E20: 41.85 | M20: 0
A21: 7 | E21: 58.05 | M21: 0
A22: 8 | E22: 61.05 | M22: 0
A23: 9 | E23: 56.55 | M23: 0
A24: 10 | E24: 56.85 | M24: 0
A25: 11 | E25: 60.45 | M25: 0
A26: 12 | E26: 62.85 | M26: 0
... A38: 24 | E38: 58.95 | M38: 0
A39: Итого | E39: =SUM(E15:E38) -> 1537.05 | I39: =SUM(I15:I38) -> 0 | M39: =SUM(M15:M38) -> 0 | Q39: =SUM(Q15:Q38) -> 0
A40: 1. При наличии на предприятии отклонений от нормальных режимов электропотребления (временное изменение схем питания, остановка на ремонт, резкое снижение
A41: эл.потребления и т.д.) последние необходимо перечислить.
A42: Главный инженер АО "Вологдаоблэнерго" А.В. Чурляев
A43: составляется самим предприятием с соблюдением всех пунктов настоящей таблицы.

Sheet 21_5
B1: АО "Вологдаоблэнерго" | J1: код 900151 | K1: ПС "Вологда-Южная"РУ 6кВ - транзит через "БМЗ"
B2: наименование предприятия | N2: наименование источника питания
N3: ф 6 кВ БМЗ-1, БМЗ-2
B4: ул. Горького, 99 | I4: Таблица № 1
B5: адрес
A6: почасовых записей показаний электрических счетчиков
A7: в режимный день 21 ДЕКАБРЯ 2022 г.
A9: часы суток | B9: Активная энергия | J9: Реактивная энергия
B10: яч. 106 ф 6 кВ БМЗ-1 РТП 25 Т1 | F10: яч. 204 ф 6 кВ БМЗ-2 РТП 25 Т2 | J10: яч. 204 ф 6 кВ БМЗ-2 РТП 25 Т1 | N10: яч. 204 ф 6 кВ БМЗ-2 РТП 25 Т2
B11: Расчет. Коэф. | F11: Расчет. Коэф. | J11: Расчет. Коэф. | N11: Расчет. Коэф.
B12: показания счетчика | C12: разность | E12: расход эл.энергии за час | F12: показания счетчика | G12: разность | I12: расход эл.энергии за час | J12: показания счетчика | K12: разность | M12: расход эл.энергии за час | N12: показания счетчика | O12: разность | Q12: расход эл.энергии за час
A13: 1 | B13: 2 | C13: 3 | E13: 4 | F13: 5 | G13: 6 | I13: 7 | J13: 8 | K13: 9 | M13: 10 | N13: 11 | O13: 12 | Q13: 13
A14: 0
A15: 1 | E15: 89.16 | I15: 86.28 | M15: 24.84 | Q15: 36.6
A16: 2 | E16: 79.08 | I16: 83.1 | M16: 24.36 | Q16: 35.16
A17: 3 | E17: 74.28 | I17: 79.2 | M17: 23.16 | Q17: 35.58
A18: 4 | E18: 74.76 | I18: 78.24 | M18: 24.12 | Q18: 35.1
A19: 5 | E19: 73.2 | I19: 79.02 | M19: 24.72 | Q19: 35.64
A20: 6 | E20: 82.08 | I20: 85.98 | M20: 27.12 | Q20: 34.44
A21: 7 | E21: 92.16 | I21: 124.68 | M21: 26.28 | Q21: 36.48
A22: 8 | E22: 112.08 | I22: 146.1 | M22: 27.48 | Q22: 39.36
A23: 9 | E23: 137.4 | I23: 165.42 | M23: 34.08 | Q23: 41.94
A24: 10 | E24: 142.2 | I24: 158.22 | M24: 35.64 | Q24: 43.2
A25: 11 | E25: 148.44 | I25: 159.18 | M25: 34.56 | Q25: 41.58
A26: 12 | E26: 151.56 | I26: 159.54 | M26: 35.64 | Q26: 41.64
... A38: 24 | E38: 104.88 | I38: 98.04 | M38: 20.52 | Q38: 32.64
A39: Итого | E39: =SUM(E15:E38) -> 3037.44 | I39: =SUM(I15:I38) -> 3029.52 | M39: =SUM(M15:M38) -> 695.52 | Q39: =SUM(Q15:Q38) -> 925.92
A40: 1. При наличии на предприятии отклонений от нормальных режимов электропотребления (временное изменение схем питания, остановка на ремонт, резкое снижение
A41: эл.потребления и т.д.) последние необходимо перечислить.
A42: Главный инженер АО "Вологдаоблэнерго" А.В. Чурляев
A43: составляется самим предприятием с соблюдением всех пунктов настоящей таблицы.

Sheet 21_5.1
B1: АО "Вологдаоблэнерго" | J1: код 900151 | K1: ПС "Вологда-Южная"РУ 6кВ - транзит через "БМЗ"
B2: наименование предприятия | N2: наименование источника питания
N3: ф 6 кВ БМЗ-1, БМЗ-2
B4: ул. Горького, 99 | I4: Таблица № 1
B5: адрес
A6: почасовых записей показаний электрических счетчиков
A7: в режимный день 21 ДЕКАБРЯ 2022 г.
A9: часы суток | B9: Активная энергия | J9: Реактивная энергия
B10: яч. 204 ф 6 кВ БМЗ КТП-1038 Т1 | F10: яч. 106 ф 6 кВ БМЗ-1 КТП-1038 Т2 | J10: яч. 204 ф 6 кВ БМЗ КТП-1038 Т1 | N10: яч. 106 ф 6 кВ БМЗ-1 КТП-1038 Т2
B11: Расчет. Коэф. | F11: Расчет. Коэф. | J11: Расчет. Коэф. | N11: Расчет. Коэф.
B12: показания счетчика | C12: разность | E12: расход эл.энергии за час | F12: показания счетчика | G12: разность | I12: расход эл.энергии за час | J12: показания счетчика | K12: разность | M12: расход эл.энергии за час | N12: показания счетчика | O12: разность | Q12: расход эл.энергии за час
A13: 1 | B13: 2 | C13: 3 | E13: 4 | F13: 5 | G13: 6 | I13: 7 | J13: 8 | K13: 9 | M13: 10 | N13: 11 | O13: 12 | Q13: 13
A14: 0
A15: 1 | E15: 20.9 | I15: 54.8 | M15: 2.5 | Q15: 0
A16: 2 | E16: 18.5 | I16: 47 | M16: 1.6 | Q16: 0
A17: 3 | E17: 17.2 | I17: 44.6 | M17: 2.5 | Q17: 0.1
A18: 4 | E18: 16.3 | I18: 42.9 | M18: 2.1 | Q18: 0
A19: 5 | E19: 17.5 | I19: 46.4 | M19: 1.1 | Q19: 0
A20: 6 | E20: 19.5 | I20: 55.1 | M20: 1.5 | Q20: 0
A21: 7 | E21: 25.6 | I21: 69.3 | M21: 0.7 | Q21: 0
A22: 8 | E22: 28.7 | I22: 68.3 | M22: 2.9 | Q22: 0
A23: 9 | E23: 42.8 | I23: 66 | M23: 16.1 | Q23: 0
A24: 10 | E24: 43.2 | I24: 73.8 | M24: 15.7 | Q24: 0
A25: 11 | E25: 33.9 | I25: 79.9 | M25: 10.1 | Q25: 0
A26: 12 | E26: 32.6 | I26: 76.4 | M26: 5.7 | Q26: 0
... A38: 24 | E38: 28.2 | I38: 66.9 | M38: 3.9 | Q38: 0.2
A39: Итого | E39: =SUM(E15:E38) -> 824.8 | I39: =SUM(I15:I38) -> 1851.9 | M39: =SUM(M15:M38) -> 149 | Q39: =SUM(Q15:Q38) -> 2.4
A40: 1. При наличии на предприятии отклонений от нормальных режимов электропотребления (временное изменение схем питания, остановка на ремонт, резкое снижение
A41: эл.потребления и т.д.) последние необходимо перечислить.
A42: Главный инженер АО "Вологдаоблэнерго" А.В. Чурляев
A43: составляется самим предприятием с соблюдением всех пунктов настоящей таблицы.

Sheet 22
B1: АО "Вологдаоблэнерго" | J1: код 900151 | M1: ПС ВОЛОГДА - ТЯГОВАЯ 110/27,5/6 кВ
B2: наименование предприятия | N2: наименование источника питания
N3: _________________________________
B4: ул. Горького, 99 | I4: Таблица № 1 | O4: ТП 450
A6: почасовых записей показаний электрических счетчиков
A7: в режимный день 21 ДЕКАБРЯ 2022 г.
A8: 636
A9: часы суток | B9: Активная энергия | J9: Реактивная энергия
B10: ЯЧ. 1 - ТП 450 | J10: ЯЧ. 1 - ТП 450
B11: Расчет. Коэф. | E11: 7200 | F11: Расчет. Коэф. | I11: =Q11 -> 0 | J11: Расчет. Коэф. | M11: =E11 -> 7200 | N11: Расчет. Коэф. | Q11: 0
B12: показания счетчика | C12: разность | E12: расход эл.энергии за час | F12: показания счетчика | G12: разность | I12: расход эл.энергии за час | J12: показания счетчика | K12: разность | M12: расход эл.энергии за час | N12: показания счетчика | O12: разность | Q12: расход эл.энергии за час
A13: 1 | B13: 2 | C13: 3 | E13: 4 | F13: 5 | G13: 6 | I13: 7 | J13: 8 | K13: 9 | M13: 10 | N13: 11 | O13: 12 | Q13: 13
A14: 0
A15: 1 | E15: 0 | M15: 0
A16: 2 | E16: 0 | M16: 0
A17: 3 | E17: 0 | M17: 0
A18: 4 | E18: 0 | M18: 0
A19: 5 | E19: 0 | M19: 0
A20: 6 | E20: 0 | M20: 0
A21: 7 | E21: 0 | M21: 0
A22: 8 | E22: 0 | M22: 0
A23: 9 | E23: 0 | M23: 0
A24: 10 | E24: 0 | M24: 0
A25: 11 | E25: 0 | M25: 0
A26: 12 | E26: 0 | M26: 0
... A38: 24 | E38: 0 | M38: 0
A39: Итого | E39: =SUM(E15:E38) -> 0 | M39: =SUM(M15:M38) -> 0
A40: 1. При наличии на предприятии отклонений от нормальных режимов электропотребления (временное изменение схем питания, остановка на ремонт, резкое снижение
A41: эл.потребления и т.д.) последние необходимо перечислить.
A42: Главный инженер АО "Вологдаоблэнерго" А.В. Чурляев
A43: составляется самим предприятием с соблюдением всех пунктов настоящей таблицы.

Sheet 23
B1: АО "Вологдаоблэнерго" | I1: код 900151 | K1: ТГК -2 "ВТЭЦ" РП 6 кВ танзит через ТП 10 СЖД ОАО РЖД
B2: наименование предприятия | N2: наименование источника питания
N3: _________________________________
B4: ул. Горького, 99 | I4: Таблица № 1 | O4: ТП 238; ТП 651
A6: почасовых записей показаний электрических счетчиков
A7: в режимный день 21 ДЕКАБРЯ 2022 г.
A8: 640 | B8: 641
A9: часы суток | B9: Активная энергия | J9: Реактивная энергия
B10: ЯЧ.5 - ТП 238 | F10: ЯЧ.7 - ТП 651 | J10: ЯЧ.5 - ТП 238 | N10: ЯЧ.7 - ТП 651
B11: Расчет. Коэф. | E11: 1800 | F11: Расчет. Коэф. | I11: 1800 | J11: Расчет. Коэф. | M11: =E11 -> 1800 | N11: Расчет. Коэф. | Q11: =I11 -> 1800
B12: показания счетчика | C12: разность | E12: расход эл.энергии за час | F12: показания счетчика | G12: разность | I12: расход эл.энергии за час | J12: показания счетчика | K12: разность | M12: расход эл.энергии за час | N12: показания счетчика | O12: разность | Q12: расход эл.энергии за час
A13: 1 | B13: 2 | C13: 3 | E13: 4 | F13: 5 | G13: 6 | I13: 7 | J13: 8 | K13: 9 | M13: 10 | N13: 11 | O13: 12 | Q13: 13
A14: 0
A15: 1 | E15: 104.22 | I15: 265.68 | M15: 34.02 | Q15: 91.08
A16: 2 | E16: 96.3 | I16: 240.84 | M16: 31.68 | Q16: 91.98
A17: 3 | E17: 92.16 | I17: 223.92 | M17: 31.86 | Q17: 88.74
A18: 4 | E18: 112.32 | I18: 217.08 | M18: 32.58 | Q18: 86.22
A19: 5 | E19: 156.78 | I19: 237.6 | M19: 36.18 | Q19: 86.58
A20: 6 | E20: 175.5 | I20: 262.62 | M20: 34.2 | Q20: 85.86
A21: 7 | E21: 205.2 | I21: 320.22 | M21: 36.72 | Q21: 89.28
A22: 8 | E22: 278.28 | I22: 368.28 | M22: 59.94 | Q22: 99
A23: 9 | E23: 323.64 | I23: 391.14 | M23: 86.4 | Q23: 104.04
A24: 10 | E24: 321.12 | I24: 418.14 | M24: 89.28 | Q24: 102.42
A25: 11 | E25: 314.28 | I25: 405.36 | M25: 89.1 | Q25: 100.08
A26: 12 | E26: 303.3 | I26: 386.28 | M26: 86.76 | Q26: 96.12
... A38: 24 | E38: 120.6 | I38: 297.72 | M38: 33.84 | Q38: 76.14
A39: Итого | E39: =SUM(E15:E38) -> 4845.78 | I39: =SUM(I15:I38) -> 9057.6 | M39: =SUM(M15:M38) -> 1229.04 | Q39: =SUM(Q15:Q38) -> 2275.02
A40: 1. При наличии на предприятии отклонений от нормальных режимов электропотребления (временное изменение схем питания, остановка на ремонт, резкое снижение
A41: эл.потребления и т.д.) последние необходимо перечислить.
A42: Главный инженер АО "Вологдаоблэнерго" А.В. Чурляев
A43: составляется самим предприятием с соблюдением всех пунктов настоящей таблицы.

Sheet 24
B1: АО "Вологдаоблэнерго" | G1: код 900151 | I1: ГПП ВОЛОГДА -ТЯГОВАЯ СЖД 110 /27,5/6 кВ транзит через ТП 34 СЖД ОАО РЖД
B2: наименование предприятия | N2: наименование источника питания
N3: _________________________________
B4: ул. Горького, 99 | I4: Таблица № 1 | O4: ТП 660; ТП 662
A6: почасовых записей показаний электрических счетчиков
A7: в режимный день 21 ДЕКАБРЯ 2022 г.
A8: 637 | B8: 639
A9: часы суток | B9: Активная энергия | J9: Реактивная энергия
B10: ЯЧ.2 - ТП 660 | F10: ЯЧ.6 - ТП 662 | J10: ЯЧ.2 - ТП 660 | N10: ЯЧ.6 - ТП 662
B11: Расчет. Коэф. | E11: 2400 | F11: Расчет. Коэф. | I11: 2400 | J11: Расчет. Коэф. | M11: =E11 -> 2400 | N11: Расчет. Коэф. | Q11: =I11 -> 2400
B12: показания счетчика | C12: разность | E12: расход эл.энергии за час | F12: показания счетчика | G12: разность | I12: расход эл.энергии за час | J12: показания счетчика | K12: разность | M12: расход эл.энергии за час | N12: показания счетчика | O12: разность | Q12: расход эл.энергии за час
A13: 1 | B13: 2 | C13: 3 | E13: 4 | F13: 5 | G13: 6 | I13: 7 | J13: 8 | K13: 9 | M13: 10 | N13: 11 | O13: 12 | Q13: 13
A14: 0
A15: 1 | E15: 374.64 | I15: 456 | M15: 121.68 | Q15: 82.32
A16: 2 | E16: 349.92 | I16: 414.48 | M16: 119.28 | Q16: 77.76
A17: 3 | E17: 325.92 | I17: 402.48 | M17: 114 | Q17: 79.44
A18: 4 | E18: 321.12 | I18: 393.36 | M18: 114.48 | Q18: 78.48
A19: 5 | E19: 328.8 | I19: 390.48 | M19: 108.24 | Q19: 73.68
A20: 6 | E20: 351.84 | I20: 423.36 | M20: 111.12 | Q20: 78
A21: 7 | E21: 432.24 | I21: 524.16 | M21: 109.92 | Q21: 88.32
A22: 8 | E22: 459.6 | I22: 598.56 | M22: 110.64 | Q22: 110.16
A23: 9 | E23: 442.56 | I23: 602.88 | M23: 101.52 | Q23: 119.28
A24: 10 | E24: 484.56 | I24: 615.84 | M24: 107.76 | Q24: 105.84
A25: 11 | E25: 496.8 | I25: 639.6 | M25: 102 | Q25: 107.76
A26: 12 | E26: 500.64 | I26: 660.96 | M26: 108.96 | Q26: 113.04
... A38: 24 | E38: 415.44 | I38: 526.8 | M38: 100.08 | Q38: 88.8
A39: Итого | E39: =SUM(E15:E38) -> 11478.72 | I39: =SUM(I15:I38) -> 14554.32 | M39: =SUM(M15:M38) -> 2681.28 | Q39: =SUM(Q15:Q38) -> 2453.04
A40: 1. При наличии на предприятии отклонений от нормальных режимов электропотребления (временное изменение схем питания, остановка на ремонт, резкое снижение
A41: эл.потребления и т.д.) последние необходимо перечислить.
A42: Главный инженер АО "Вологдаоблэнерго" А.В. Чурляев
A43: составляется самим предприятием с соблюдением всех пунктов настоящей таблицы.

Sheet 25
B1: АО "Вологдаоблэнерго" | J1: код 900151 | N1: ТГК-2 ВТЭЦ РП 6 кВ
B2: наименование предприятия | N2: наименование источника питания
N3: _________________________________
B4: ул. Горького, 99 | I4: Таблица № 1 | O4: РТП 3
B5: адрес
A6: почасовых записей показаний электрических счетчиков
A7: в режимный день 21 ДЕКАБРЯ 2022 г.
A8: 381 | B8: 384
A9: часы суток | B9: Активная энергия | J9: Реактивная энергия
B10: ЯЧ.10 - РП 3 ввод № 1 | F10: ЯЧ. 115 - РП 3 ввод № 2 | J10: ЯЧ.10 - РП 3 ввод № 1 | N10: ЯЧ. 115 - РП 3 ввод № 2
B11: Расчет. Коэф. | E11: 7200 | F11: Расчет. Коэф. | I11: 3600 | J11: Расчет. Коэф. | M11: =E11 -> 7200 | N11: Расчет. Коэф. | Q11: =I11 -> 3600
B12: показания счетчика | C12: разность | E12: расход эл.энергии за час | F12: показания счетчика | G12: разность | I12: расход эл.энергии за час | J12: показания счетчика | K12: разность | M12: расход эл.энергии за час | N12: показания счетчика | O12: разность | Q12: расход эл.энергии за час
A13: 1 | B13: 2 | C13: 3 | E13: 4 | F13: 5 | G13: 6 | I13: 7 | J13: 8 | K13: 9 | M13: 10 | N13: 11 | O13: 12 | Q13: 13
A14: 0
A15: 1 | E15: 1470 | I15: 362 | M15: 630 | Q15: 72
A16: 2 | E16: 1427 | I16: 353 | M16: 610 | Q16: 74
A17: 3 | E17: 1479 | I17: 346 | M17: 612 | Q17: 68
A18: 4 | E18: 1432 | I18: 348 | M18: 604 | Q18: 67
A19: 5 | E19: 1411 | I19: 354 | M19: 602 | Q19: 75
A20: 6 | E20: 1435 | I20: 352 | M20: 595 | Q20: 65
A21: 7 | E21: 1652 | I21: 405 | M21: 634 | Q21: 71
A22: 8 | E22: 2069 | I22: 497 | M22: 783 | Q22: 72
A23: 9 | E23: 2403 | I23: 592 | M23: 896 | Q23: 100
A24: 10 | E24: 2457 | I24: 625 | M24: 913 | Q24: 135
A25: 11 | E25: 2544 | I25: 566 | M25: 929 | Q25: 109
A26: 12 | E26: 2497 | I26: 577 | M26: 906 | Q26: 109
... A38: 24 | E38: 1884 | I38: 355 | M38: 796 | Q38: 60
A39: Итого | E39: =SUM(E15:E38) -> 48604 | I39: =SUM(I15:I38) -> 11301 | M39: =SUM(M15:M38) -> 19088 | Q39: =SUM(Q15:Q38) -> 2262
A40: 1. При наличии на предприятии отклонений от нормальных режимов электропотребления (временное изменение схем питания, остановка на ремонт, резкое снижение
A41: эл.потребления и т.д.) последние необходимо перечислить.
A42: Главный инженер АО "Вологдаоблэнерго" А.В. Чурляев
A43: составляется самим предприятием с соблюдением всех пунктов настоящей таблицы.

Sheet 26
B1: АО "Вологдаоблэнерго" | J1: код 900151 | N1: ТГК-2 ВТЭЦ РП 6 кВ
B2: наименование предприятия | N2: наименование источника питания
N3: _________________________________
B4: ул. Горького, 99 | I4: Таблица № 1 | O4: РП 23
B5: адрес
A6: почасовых записей показаний электрических счетчиков
A7: в режимный день 21 ДЕКАБРЯ 2022 г.
A8: 385 | B8: 383
A9: часы суток | B9: Активная энергия | J9: Реактивная энергия
B10: ЯЧ. 114 - РП 23 ввод № 1 | F10: ЯЧ. 107 - РП 23 ввод № 2 | J10: ЯЧ. 114 - РП 23 ввод № 1 | N10: ЯЧ. 107 - РП 23 ввод № 2
B11: Расчет. Коэф. | E11: 3600 | F11: Расчет. Коэф. | I11: 3600 | J11: Расчет. Коэф. | M11: =E11 -> 3600 | N11: Расчет. Коэф. | Q11: =I11 -> 3600
B12: показания счетчика | C12: разность | E12: расход эл.энергии за час | F12: показания счетчика | G12: разность | I12: расход эл.энергии за час | J12: показания счетчика | K12: разность | M12: расход эл.энергии за час | N12: показания счетчика | O12: разность | Q12: расход эл.энергии за час
A13: 1 | B13: 2 | C13: 3 | E13: 4 | F13: 5 | G13: 6 | I13: 7 | J13: 8 | K13: 9 | M13: 10 | N13: 11 | O13: 12 | Q13: 13
A14: 0
A15: 1 | E15: 1014 | I15: 157 | M15: 680 | Q15: 0
A16: 2 | E16: 1002 | I16: 153 | M16: 669 | Q16: 0
A17: 3 | E17: 960 | I17: 154 | M17: 629 | Q17: 0
A18: 4 | E18: 966 | I18: 155 | M18: 638 | Q18: 0
A19: 5 | E19: 988 | I19: 160 | M19: 649 | Q19: 0
A20: 6 | E20: 968 | I20: 161 | M20: 629 | Q20: 0
A21: 7 | E21: 1005 | I21: 173 | M21: 637 | Q21: 0
A22: 8 | E22: 1055 | I22: 184 | M22: 652 | Q22: 0
A23: 9 | E23: 1236 | I23: 207 | M23: 744 | Q23: 6
A24: 10 | E24: 1248 | I24: 230 | M24: 776 | Q24: 29
A25: 11 | E25: 1216 | I25: 212 | M25: 752 | Q25: 17
A26: 12 | E26: 1269 | I26: 218 | M26: 767 | Q26: 19
... A38: 24 | E38: 898 | I38: 130 | M38: 534 | Q38: 0
A39: Итого | E39: =SUM(E15:E38) -> 25576 | I39: =SUM(I15:I38) -> 4245 | M39: =SUM(M15:M38) -> 16021 | Q39: =SUM(Q15:Q38) -> 82
A40: 1. При наличии на предприятии отклонений от нормальных режимов электропотребления (временное изменение схем питания, остановка на ремонт, резкое снижение
A41: эл.потребления и т.д.) последние необходимо перечислить.
A42: Главный инженер АО "Вологдаоблэнерго" А.В. Чурляев
A43: составляется самим предприятием с соблюдением всех пунктов настоящей таблицы.

Sheet 27
B1: АО "Вологдаоблэнерго" | J1: код 900151 | N1: ТГК-2 ВТЭЦ РП 6 кВ
B2: наименование предприятия | N2: наименование источника питания
N3: _________________________________
B4: ул. Горького, 99 | I4: Таблица № 1 | O4: ТП 217
B5: адрес
A6: почасовых записей показаний электрических счетчиков
A7: в режимный день 21 ДЕКАБРЯ 2022 г.
A8: 375
A9: часы суток | B9: Активная энергия | J9: Реактивная энергия
B10: ЯЧ. 3 - ТП 217 | J10: ЯЧ. 3 - ТП 217
B11: Расчет. Коэф. | E11: 3600 | F11: Расчет. Коэф. | I11: 0 | J11: Расчет. Коэф. | M11: =E11 -> 3600 | N11: Расчет. Коэф. | Q11: =I11 -> 0
B12: показания счетчика | C12: разность | E12: расход эл.энергии за час | F12: показания счетчика | G12: разность | I12: расход эл.энергии за час | J12: показания счетчика | K12: разность | M12: расход эл.энергии за час | N12: показания счетчика | O12: разность | Q12: расход эл.энергии за час
A13: 1 | B13: 2 | C13: 3 | E13: 4 | F13: 5 | G13: 6 | I13: 7 | J13: 8 | K13: 9 | M13: 10 | N13: 11 | O13: 12 | Q13: 13
A14: 0
A15: 1 | E15: 351 | M15: 80
A16: 2 | E16: 321 | M16: 70
A17: 3 | E17: 308 | M17: 71
A18: 4 | E18: 297 | M18: 67
A19: 5 | E19: 293 | M19: 67
A20: 6 | E20: 316 | M20: 66
A21: 7 | E21: 381 | M21: 69
A22: 8 | E22: 423 | M22: 77
A23: 9 | E23: 446 | M23: 75
A24: 10 | E24: 449 | M24: 74
A25: 11 | E25: 481 | M25: 81
A26: 12 | E26: 506 | M26: 90
... A38: 24 | E38: 383 | M38: 55
A39: Итого | E39: =SUM(E15:E38) -> 10903 | M39: =SUM(M15:M38) -> 1813
A40: 1. При наличии на предприятии отклонений от нормальных режимов электропотребления (временное изменение схем питания, остановка на ремонт, резкое снижение
A41: эл.потребления и т.д.) последние необходимо перечислить.
A42: Главный инженер АО "Вологдаоблэнерго" А.В. Чурляев
A43: составляется самим предприятием с соблюдением всех пунктов настоящей таблицы.

Sheet 28
B1: АО "Вологдаоблэнерго" | J1: код 900151 | N1: ТГК-2 ВТЭЦ РП 6 кВ
B2: наименование предприятия | N2: наименование источника питания
N3: _________________________________
B4: ул. Горького, 99 | I4: Таблица № 1 | O4: РП 8
B5: адрес
A6: почасовых записей показаний электрических счетчиков
A7: в режимный день 21 ДЕКАБРЯ 2022 г.
A8: 378 | B8: 382
A9: часы суток | B9: Активная энергия | J9: Реактивная энергия
B10: ЯЧ. 5 - РП 8 ввод № 1 | F10: ЯЧ. 12 - РП 8 ввод № 2 | J10: ЯЧ. 5 - РП 8 ввод № 1 | N10: ЯЧ. 12 - РП 8 ввод № 2
B11: Расчет. Коэф. | E11: 3600 | F11: Расчет. Коэф. | I11: 3600 | J11: Расчет. Коэф. | M11: =E11 -> 3600 | N11: Расчет. Коэф. | Q11: =I11 -> 3600
B12: показания счетчика | C12: разность | E12: расход эл.энергии за час | F12: показания счетчика | G12: разность | I12: расход эл.энергии за час | J12: показания счетчика | K12: разность | M12: расход эл.энергии за час | N12: показания счетчика | O12: разность | Q12: расход эл.энергии за час
A13: 1 | B13: 2 | C13: 3 | E13: 4 | F13: 5 | G13: 6 | I13: 7 | J13: 8 | K13: 9 | M13: 10 | N13: 11 | O13: 12 | Q13: 13
A14: 0
A15: 1 | E15: 798 | I15: 756 | M15: 167 | Q15: 192
A16: 2 | E16: 730 | I16: 701 | M16: 167 | Q16: 187
A17: 3 | E17: 702 | I17: 654 | M17: 165 | Q17: 179
A18: 4 | E18: 691 | I18: 649 | M18: 167 | Q18: 179
A19: 5 | E19: 718 | I19: 646 | M19: 160 | Q19: 178
A20: 6 | E20: 817 | I20: 692 | M20: 162 | Q20: 177
A21: 7 | E21: 971 | I21: 870 | M21: 167 | Q21: 184
A22: 8 | E22: 1190 | I22: 1149 | M22: 169 | Q22: 201
A23: 9 | E23: 1411 | I23: 1394 | M23: 177 | Q23: 227
A24: 10 | E24: 1488 | I24: 1477 | M24: 176 | Q24: 232
A25: 11 | E25: 1532 | I25: 1510 | M25: 182 | Q25: 229
A26: 12 | E26: 1531 | I26: 1510 | M26: 189 | Q26: 233
... A38: 24 | E38: 918 | I38: 882 | M38: 128 | Q38: 157
A39: Итого | E39: =SUM(E15:E38) -> 29170 | I39: =SUM(I15:I38) -> 28421 | M39: =SUM(M15:M38) -> 4129 | Q39: =SUM(Q15:Q38) -> 4985
A40: 1. При наличии на предприятии отклонений от нормальных режимов электропотребления (временное изменение схем питания, остановка на ремонт, резкое снижение
A41: эл.потребления и т.д.) последние необходимо перечислить.
A42: Главный инженер АО "Вологдаоблэнерго" А.В. Чурляев
A43: составляется самим предприятием с соблюдением всех пунктов настоящей таблицы.

Sheet 29
B1: АО "Вологдаоблэнерго" | J1: код 900151 | N1: ТГК-2 ВТЭЦ РП 6 кВ
B2: наименование предприятия | N2: наименование источника питания
N3: _________________________________
B4: ул. Горького, 99 | I4: Таблица № 1 | O4: РП 20
B5: адрес
A6: почасовых записей показаний электрических счетчиков
A7: в режимный день 21 ДЕКАБРЯ 2022 г.
A8: 380 | B8: 379
A9: часы суток | B9: Активная энергия | J9: Реактивная энергия
B10: ЯЧ. 4- РП 20 ввод № 1 | F10: ЯЧ. 7 - РП 20 яч.7 | J10: ЯЧ. 4- РП 20 ввод № 1 | N10: ЯЧ. 7 - РП 20 яч.7
B11: Расчет. Коэф. | E11: 3600 | F11: Расчет. Коэф. | I11: 3600 | J11: Расчет. Коэф. | M11: =E11 -> 3600 | N11: Расчет. Коэф. | Q11: =I11 -> 3600
B12: показания счетчика | C12: разность | E12: расход эл.энергии за час | F12: показания счетчика | G12: разность | I12: расход эл.энергии за час | J12: показания счетчика | K12: разность | M12: расход эл.энергии за час | N12: показания счетчика | O12: разность | Q12: расход эл.энергии за час
A13: 1 | B13: 2 | C13: 3 | E13: 4 | F13: 5 | G13: 6 | I13: 7 | J13: 8 | K13: 9 | M13: 10 | N13: 11 | O13: 12 | Q13: 13
A14: 0
A15: 1 | E15: 170 | I15: 68 | M15: 13 | Q15: 25
A16: 2 | E16: 151 | I16: 65 | M16: 13 | Q16: 25
A17: 3 | E17: 144 | I17: 65 | M17: 11 | Q17: 26
A18: 4 | E18: 141 | I18: 65 | M18: 13 | Q18: 24
A19: 5 | E19: 154 | I19: 82 | M19: 16 | Q19: 27
A20: 6 | E20: 205 | I20: 123 | M20: 21 | Q20: 28
A21: 7 | E21: 251 | I21: 174 | M21: 24 | Q21: 46
A22: 8 | E22: 290 | I22: 234 | M22: 27 | Q22: 60
A23: 9 | E23: 347 | I23: 282 | M23: 34 | Q23: 70
A24: 10 | E24: 373 | I24: 325 | M24: 33 | Q24: 68
A25: 11 | E25: 376 | I25: 322 | M25: 38 | Q25: 67
A26: 12 | E26: 361 | I26: 327 | M26: 41 | Q26: 73
... A38: 24 | E38: 182 | I38: 67 | M38: 7 | Q38: 20
A39: Итого | E39: =SUM(E15:E38) -> 6637 | I39: =SUM(I15:I38) -> 4373 | M39: =SUM(M15:M38) -> 581 | Q39: =SUM(Q15:Q38) -> 1070
A40: 1. При наличии на предприятии отклонений от нормальных режимов электропотребления (временное изменение схем питания, остановка на ремонт, резкое снижение
A41: эл.потребления и т.д.) последние необходимо перечислить.
A42: Главный инженер АО "Вологдаоблэнерго" А.В. Чурляев
A43: составляется самим предприятием с соблюдением всех пунктов настоящей таблицы.

Sheet 30
B1: АО "Вологдаоблэнерго" | J1: код 900151 | N1: ПС "ЦЕНТРАЛЬНАЯ" 110/6 кВ
B2: наименование предприятия | N2: наименование источника питания
N3: _________________________________ | O3: РУ-6 кВ
B4: ул. Горького, 99 | I4: Таблица № 1 | O4: ТП 54
B5: адрес
A6: почасовых записей показаний электрических счетчиков
A7: в режимный день 21 ДЕКАБРЯ 2022 г.
A8: 1520 | B8: 1526
A9: часы суток | B9: Активная энергия | J9: Реактивная энергия
B10: ЯЧ.4 - ТП 54 -Ι ввод № 1 | F10: ЯЧ. 30 - ТП 54 - ΙΙ ввод № 2 | J10: ЯЧ.4 - ТП 54 -Ι ввод № 1 | N10: ЯЧ. 30 - ТП 54 - ΙΙ ввод № 2
B11: Расчет. Коэф. | E11: 2400 | F11: Расчет. Коэф. | I11: 4800 | J11: Расчет. Коэф. | M11: =E11 -> 2400 | N11: Расчет. Коэф. | Q11: =I11 -> 4800
B12: показания счетчика | C12: разность | E12: расход эл.энергии за час | F12: показания счетчика | G12: разность | I12: расход эл.энергии за час | J12: показания счетчика | K12: разность | M12: расход эл.энергии за час | N12: показания счетчика | O12: разность | Q12: расход эл.энергии за час
A13: 1 | B13: 2 | C13: 3 | E13: 4 | F13: 5 | G13: 6 | I13: 7 | J13: 8 | K13: 9 | M13: 10 | N13: 11 | O13: 12 | Q13: 13
A14: 0
A15: 1 | E15: 204 | I15: 344 | M15: 59 | Q15: 129
A16: 2 | E16: 204 | I16: 323 | M16: 58 | Q16: 129
A17: 3 | E17: 200 | I17: 318 | M17: 59 | Q17: 129
A18: 4 | E18: 200 | I18: 313 | M18: 58 | Q18: 128
A19: 5 | E19: 207 | I19: 326 | M19: 57 | Q19: 127
A20: 6 | E20: 229 | I20: 342 | M20: 57 | Q20: 129
A21: 7 | E21: 273 | I21: 384 | M21: 61 | Q21: 130
A22: 8 | E22: 386 | I22: 451 | M22: 64 | Q22: 139
A23: 9 | E23: 555 | I23: 579 | M23: 67 | Q23: 152
A24: 10 | E24: 617 | I24: 630 | M24: 60 | Q24: 168
A25: 11 | E25: 609 | I25: 636 | M25: 63 | Q25: 174
A26: 12 | E26: 585 | I26: 625 | M26: 63 | Q26: 172
... A38: 24 | E38: 212 | I38: 362 | M38: 43 | Q38: 110
A39: Итого | E39: =SUM(E15:E38) -> 9111 | I39: =SUM(I15:I38) -> 11782 | M39: =SUM(M15:M38) -> 1408 | Q39: =SUM(Q15:Q38) -> 3435
A40: 1. При наличии на предприятии отклонений от нормальных режимов электропотребления (временное изменение схем питания, остановка на ремонт, резкое снижение
A41: эл.потребления и т.д.) последние необходимо перечислить.
A42: Главный инженер АО "Вологдаоблэнерго" А.В. Чурляев
A43: составляется самим предприятием с соблюдением всех пунктов настоящей таблицы.

Sheet 31
B1: АО "Вологдаоблэнерго" | J1: код 900151 | N1: ПС "ЦЕНТРАЛЬНАЯ" 110/6 кВ
B2: наименование предприятия | N2: наименование источника питания
N3: _________________________________ | O3: РУ-6 кВ
B4: ул. Горького, 99 | I4: Таблица № 1 | O4: РП 13
B5: адрес
A6: почасовых записей показаний электрических счетчиков
A7: в режимный день 21 ДЕКАБРЯ 2022 г.
A8: 1522 | B8: 1523
A9: часы суток | B9: Активная энергия | J9: Реактивная энергия
B10: ЯЧ. 14 - РП 13- Ι | F10: ЯЧ. 22 - РП 13- ΙΙ | J10: ЯЧ. 14 - РП 13- Ι | N10: ЯЧ. 22 - РП 13- ΙΙ
B11: Расчет. Коэф. | E11: 7200 | F11: Расчет. Коэф. | I11: 7200 | J11: Расчет. Коэф. | M11: =E11 -> 7200 | N11: Расчет. Коэф. | Q11: =I11 -> 7200
B12: показания счетчика | C12: разность | E12: расход эл.энергии за час | F12: показания счетчика | G12: разность | I12: расход эл.энергии за час | J12: показания счетчика | K12: разность | M12: расход эл.энергии за час | N12: показания счетчика | O12: разность | Q12: расход эл.энергии за час
A13: 1 | B13: 2 | C13: 3 | E13: 4 | F13: 5 | G13: 6 | I13: 7 | J13: 8 | K13: 9 | M13: 10 | N13: 11 | O13: 12 | Q13: 13
A14: 0
A15: 1 | E15: 1028 | I15: 1050 | M15: 199 | Q15: 237
A16: 2 | E16: 990 | I16: 949 | M16: 196 | Q16: 176
A17: 3 | E17: 967 | I17: 979 | M17: 198 | Q17: 224
A18: 4 | E18: 951 | I18: 946 | M18: 196 | Q18: 183
A19: 5 | E19: 968 | I19: 989 | M19: 189 | Q19: 198
A20: 6 | E20: 1022 | I20: 1058 | M20: 188 | Q20: 192
A21: 7 | E21: 1185 | I21: 1201 | M21: 208 | Q21: 171
A22: 8 | E22: 1515 | I22: 1536 | M22: 217 | Q22: 206
A23: 9 | E23: 1885 | I23: 1885 | M23: 228 | Q23: 171
A24: 10 | E24: 2086 | I24: 2213 | M24: 232 | Q24: 216
A25: 11 | E25: 2143 | I25: 2221 | M25: 229 | Q25: 182
A26: 12 | E26: 2153 | I26: 2328 | M26: 218 | Q26: 214
... A38: 24 | E38: 1105 | I38: 1076 | M38: 143 | Q38: 118
A39: Итого | E39: =SUM(E15:E38) -> 38237 | I39: =SUM(I15:I38) -> 39547 | M39: =SUM(M15:M38) -> 4850 | Q39: =SUM(Q15:Q38) -> 4597
A40: 1. При наличии на предприятии отклонений от нормальных режимов электропотребления (временное изменение схем питания, остановка на ремонт, резкое снижение
A41: эл.потребления и т.д.) последние необходимо перечислить.
A42: Главный инженер АО "Вологдаоблэнерго" А.В. Чурляев
A43: составляется самим предприятием с соблюдением всех пунктов настоящей таблицы.

Sheet 32
B1: АО "Вологдаоблэнерго" | J1: код 900151 | N1: ПС "ЦЕНТРАЛЬНАЯ" 110/6 кВ
B2: наименование предприятия | N2: наименование источника питания
N3: _________________________________ | O3: РУ-6 кВ
B4: ул. Горького, 99 | I4: Таблица № 1 | O4: РП 4
B5: адрес
A6: почасовых записей показаний электрических счетчиков
A7: в режимный день 21 ДЕКАБРЯ 2022 г.
A8: 1521 | B8: 1524
A9: часы суток | B9: Активная энергия | J9: Реактивная энергия
B10: ЯЧ.12 - РП 4 -Ι | F10: ЯЧ. 24 - РП 4 -ΙΙ | J10: ЯЧ.12 - РП 4 -Ι | N10: ЯЧ. 24 - РП 4 -ΙΙ
B11: Расчет. Коэф. | E11: 4800 | F11: Расчет. Коэф. | I11: 4800 | J11: Расчет. Коэф. | M11: =E11 -> 4800 | N11: Расчет. Коэф. | Q11: =I11 -> 4800
B12: показания счетчика | C12: разность | E12: расход эл.энергии за час | F12: показания счетчика | G12: разность | I12: расход эл.энергии за час | J12: показания счетчика | K12: разность | M12: расход эл.энергии за час | N12: показания счетчика | O12: разность | Q12: расход эл.энергии за час
A13: 1 | B13: 2 | C13: 3 | E13: 4 | F13: 5 | G13: 6 | I13: 7 | J13: 8 | K13: 9 | M13: 10 | N13: 11 | O13: 12 | Q13: 13
A14: 0
A15: 1 | E15: 677 | I15: 530 | M15: 119 | Q15: 75
A16: 2 | E16: 649 | I16: 503 | M16: 121 | Q16: 75
A17: 3 | E17: 638 | I17: 489 | M17: 116 | Q17: 73
A18: 4 | E18: 628 | I18: 512 | M18: 115 | Q18: 77
A19: 5 | E19: 641 | I19: 536 | M19: 112 | Q19: 75
A20: 6 | E20: 696 | I20: 589 | M20: 112 | Q20: 81
A21: 7 | E21: 876 | I21: 676 | M21: 127 | Q21: 95
A22: 8 | E22: 1114 | I22: 828 | M22: 150 | Q22: 98
A23: 9 | E23: 1504 | I23: 1094 | M23: 194 | Q23: 104
A24: 10 | E24: 1627 | I24: 1246 | M24: 198 | Q24: 107
A25: 11 | E25: 1707 | I25: 1399 | M25: 207 | Q25: 111
A26: 12 | E26: 1740 | I26: 1404 | M26: 210 | Q26: 123
... A38: 24 | E38: 737 | I38: 604 | M38: 85 | Q38: 61
A39: Итого | E39: =SUM(E15:E38) -> 27592 | I39: =SUM(I15:I38) -> 22994 | M39: =SUM(M15:M38) -> 3616 | Q39: =SUM(Q15:Q38) -> 2267
A40: 1. При наличии на предприятии отклонений от нормальных режимов электропотребления (временное изменение схем питания, остановка на ремонт, резкое снижение
A41: эл.потребления и т.д.) последние необходимо перечислить.
A42: Главный инженер АО "Вологдаоблэнерго" А.В. Чурляев
A43: составляется самим предприятием с соблюдением всех пунктов настоящей таблицы.

Sheet 33
B1: АО "Вологдаоблэнерго" | J1: код 900151 | N1: ПС "ЦЕНТРАЛЬНАЯ" 110/6 кВ
B2: наименование предприятия | N2: наименование источника питания
N3: _________________________________ | O3: РУ-6 кВ
B4: ул. Горького, 99 | I4: Таблица № 1 | O4: РП 33
B5: адрес
A6: почасовых записей показаний электрических счетчиков
A7: в режимный день 21 ДЕКАБРЯ 2022 г.
A8: 1518 | B8: 1519
A9: часы суток | B9: Активная энергия | J9: Реактивная энергия
B10: ЯЧ. 2 - РП 33 ф.10 | F10: ЯЧ. 3 - РП-33 ф.9 | J10: ЯЧ. 2- РП 33 ф.10 | N10: ЯЧ. 3 - РП-33 ф.9
B11: Расчет. Коэф. | E11: 7200 | F11: Расчет. Коэф. | J11: Расчет. Коэф. | M11: =E11 -> 7200 | N11: Расчет. Коэф.
B12: показания счетчика | C12: разность | E12: расход эл.энергии за час | F12: показания счетчика | G12: разность | I12: расход эл.энергии за час | J12: показания счетчика | K12: разность | M12: расход эл.энергии за час | N12: показания счетчика | O12: разность | Q12: расход эл.энергии за час
A13: 1 | B13: 2 | C13: 3 | E13: 4 | F13: 5 | G13: 6 | I13: 7 | J13: 8 | K13: 9 | M13: 10 | N13: 11 | O13: 12 | Q13: 13
A14: 0
A15: 1 | E15: 0 | I15: 324 | M15: 0 | Q15: 36
A16: 2 | E16: 0 | I16: 310 | M16: 0 | Q16: 38
A17: 3 | E17: 0 | I17: 292 | M17: 0 | Q17: 35
A18: 4 | E18: 0 | I18: 280 | M18: 0 | Q18: 38
A19: 5 | E19: 0 | I19: 299 | M19: 0 | Q19: 33
A20: 6 | E20: 0 | I20: 319 | M20: 0 | Q20: 35
A21: 7 | E21: 0 | I21: 352 | M21: 0 | Q21: 35
A22: 8 | E22: 0 | I22: 434 | M22: 0 | Q22: 35
A23: 9 | E23: 0 | I23: 520 | M23: 0 | Q23: 45
A24: 10 | E24: 0 | I24: 542 | M24: 0 | Q24: 46
A25: 11 | E25: 0 | I25: 583 | M25: 0 | Q25: 52
A26: 12 | E26: 0 | I26: 618 | M26: 0 | Q26: 56
... A38: 24 | E38: 0 | I38: 343 | M38: 0 | Q38: 22
A39: Итого | E39: =SUM(E15:E38) -> 0 | I39: =SUM(I15:I38) -> 11466 | M39: =SUM(M15:M38) -> 0 | Q39: =SUM(Q15:Q38) -> 983
A40: 1. При наличии на предприятии отклонений от нормальных режимов электропотребления (временное изменение схем питания, остановка на ремонт, резкое снижение
A41: эл.потребления и т.д.) последние необходимо перечислить.
A42: Главный инженер АО "Вологдаоблэнерго" А.В. Чурляев
A43: составляется самим предприятием с соблюдением всех пунктов настоящей таблицы.

Sheet 34
B1: АО "Вологдаоблэнерго" | J1: код 900151 | N1: ПС "ЦЕНТРАЛЬНАЯ" 110/10/6 кВ
B2: наименование предприятия | N2: наименование источника питания
N3: _________________________________ | O3: РУ-6 кВ
B4: ул. Горького, 99 | I4: Таблица № 1 | O4: ТП 11 | Q4: РП-8
B5: адрес
A6: почасовых записей показаний электрических счетчиков
A7: в режимный день 21 ДЕКАБРЯ 2022 г.
A8: 1525
A9: часы суток | B9: Активная энергия | J9: Реактивная энергия
B10: ЯЧ.28 - ТП 11 -ΙΙ | F10: ЯЧ.20 - РП-8 ф11 | J10: ЯЧ.28 - ТП 11 -ΙΙ | N10: ЯЧ.20 - РП-8 ф11
B11: Расчет. Коэф. | E11: 7200 | F11: Расчет. Коэф. | I11: 0 | J11: Расчет. Коэф. | M11: =E11 -> 7200 | N11: Расчет. Коэф. | Q11: =I11 -> 0
B12: показания счетчика | C12: разность | E12: расход эл.энергии за час | F12: показания счетчика | G12: разность | I12: расход эл.энергии за час | J12: показания счетчика | K12: разность | M12: расход эл.энергии за час | N12: показания счетчика | O12: разность | Q12: расход эл.энергии за час
A13: 1 | B13: 2 | C13: 3 | E13: 4 | F13: 5 | G13: 6 | I13: 7 | J13: 8 | K13: 9 | M13: 10 | N13: 11 | O13: 12 | Q13: 13
A14: 0
A15: 1 | E15: 155 | I15: 911 | M15: 16 | Q15: 294
A16: 2 | E16: 156 | I16: 809 | M16: 17 | Q16: 266
A17: 3 | E17: 153 | I17: 772 | M17: 17 | Q17: 258
A18: 4 | E18: 155 | I18: 782 | M18: 17 | Q18: 273
A19: 5 | E19: 153 | I19: 730 | M19: 16 | Q19: 220
A20: 6 | E20: 178 | I20: 727 | M20: 17 | Q20: 211
A21: 7 | E21: 232 | I21: 903 | M21: 21 | Q21: 243
A22: 8 | E22: 366 | I22: 1240 | M22: 34 | Q22: 310
A23: 9 | E23: 556 | I23: 1518 | M23: 61 | Q23: 353
A24: 10 | E24: 602 | I24: 1581 | M24: 67 | Q24: 345
A25: 11 | E25: 581 | I25: 1646 | M25: 65 | Q25: 357
A26: 12 | E26: 576 | I26: 1645 | M26: 68 | Q26: 374
... A38: 24 | E38: 162 | I38: 836 | M38: 10 | Q38: 159
A39: Итого | E39: =SUM(E15:E38) -> 8683 | I39: =SUM(I15:I38) -> 29396 | M39: =SUM(M15:M38) -> 910 | Q39: =SUM(Q15:Q38) -> 6906
A40: 1. При наличии на предприятии отклонений от нормальных режимов электропотребления (временное изменение схем питания, остановка на ремонт, резкое снижение
A41: эл.потребления и т.д.) последние необходимо перечислить.
A42: Главный инженер АО "Вологдаоблэнерго" А.В. Чурляев
A43: составляется самим предприятием с соблюдением всех пунктов настоящей таблицы.

Sheet 34_1
B1: АО "Вологдаоблэнерго" | J1: код 900151 | N1: ПС "ЦЕНТРАЛЬНАЯ" 110/10 кВ
B2: наименование предприятия | N2: наименование источника питания
N3: _________________________________ | O3: РУ-10 кВ
B4: ул. Горького, 99 | I4: Таблица № 1 | O4: РП-21
B5: адрес
A6: почасовых записей показаний электрических счетчиков
A7: в режимный день 21 ДЕКАБРЯ 2022 г.
A8: 911 | B8: 910
A9: часы суток | B9: Активная энергия | J9: Реактивная энергия
B10: ЯЧ.22 - РП 21- Ι | F10: ЯЧ.7 - РП 21- ΙI | J10: ЯЧ.22 - РП 21- Ι | N10: ЯЧ.7 - РП 21- ΙI
B11: Расчет. Коэф. | E11: 7200 | F11: Расчет. Коэф. | I11: 0 | J11: Расчет. Коэф. | M11: =E11 -> 7200 | N11: Расчет. Коэф. | Q11: =I11 -> 0
B12: показания счетчика | C12: разность | E12: расход эл.энергии за час | F12: показания счетчика | G12: разность | I12: расход эл.энергии за час | J12: показания счетчика | K12: разность | M12: расход эл.энергии за час | N12: показания счетчика | O12: разность | Q12: расход эл.энергии за час
A13: 1 | B13: 2 | C13: 3 | E13: 4 | F13: 5 | G13: 6 | I13: 7 | J13: 8 | K13: 9 | M13: 10 | N13: 11 | O13: 12 | Q13: 13
A14: 0
A15: 1 | E15: 338 | I15: 500 | M15: 2 | Q15: 58
A16: 2 | E16: 323 | I16: 466 | M16: 0 | Q16: 48
A17: 3 | E17: 319 | I17: 462 | M17: 0 | Q17: 53
A18: 4 | E18: 323 | I18: 462 | M18: 0 | Q18: 50
A19: 5 | E19: 328 | I19: 489 | M19: 0 | Q19: 27
A20: 6 | E20: 346 | I20: 493 | M20: 0 | Q20: 32
A21: 7 | E21: 419 | I21: 609 | M21: 1 | Q21: 48
A22: 8 | E22: 540 | I22: 774 | M22: 23 | Q22: 56
A23: 9 | E23: 773 | I23: 1105 | M23: 56 | Q23: 85
A24: 10 | E24: 910 | I24: 1393 | M24: 79 | Q24: 108
A25: 11 | E25: 980 | I25: 1531 | M25: 86 | Q25: 115
A26: 12 | E26: 976 | I26: 1584 | M26: 71 | Q26: 120
... A38: 24 | E38: 373 | I38: 529 | M38: 0 | Q38: 19
A39: Итого | E39: =SUM(E15:E38) -> 15586 | I39: =SUM(I15:I38) -> 23900 | M39: =SUM(M15:M38) -> 901 | Q39: =SUM(Q15:Q38) -> 1817
A40: 1. При наличии на предприятии отклонений от нормальных режимов электропотребления (временное изменение схем питания, остановка на ремонт, резкое снижение
A41: эл.потребления и т.д.) последние необходимо перечислить.
A42: Главный инженер АО "Вологдаоблэнерго" А.В. Чурляев
A43: составляется самим предприятием с соблюдением всех пунктов настоящей таблицы.

Sheet 35
B1: АО "Вологдаоблэнерго" | J1: код 900151 | N1: ПС "ГОРОДСКАЯ" 35/6 кВ
B2: наименование предприятия | N2: наименование источника питания
N3: _________________________________
B4: ул. Горького, 99 | I4: Таблица № 1 | O4: Т-1, Т-3 (ЗРУ 6 кВ)
B5: адрес
A6: почасовых записей показаний электрических счетчиков
A7: в режимный день 21 ДЕКАБРЯ 2022 г.
A8: 300 | B8: 304
A9: часы суток | B9: Активная энергия | J9: Реактивная энергия
B10: Т-1 - ЗРУ Ф.1 ввод № 1 | F10: Т-3 - ЗРУ Ф.20 ввод № 2 . | J10: Т-1 - ЗРУ Ф.1 ввод № 1 | N10: Т-3 - ЗРУ Ф.20 ввод № 2 .
B11: Расчет. Коэф. | E11: 18000 | F11: Расчет. Коэф. | I11: 18000 | J11: Расчет. Коэф. | M11: =E11 -> 18000 | N11: Расчет. Коэф. | Q11: =I11 -> 18000
B12: показания счетчика | C12: разность | E12: расход эл.энергии за час | F12: показания счетчика | G12: разность | I12: расход эл.энергии за час | J12: показания счетчика | K12: разность | M12: расход эл.энергии за час | N12: показания счетчика | O12: разность | Q12: расход эл.энергии за час
A13: 1 | B13: 2 | C13: 3 | E13: 4 | F13: 5 | G13: 6 | I13: 7 | J13: 8 | K13: 9 | M13: 10 | N13: 11 | O13: 12 | Q13: 13
A14: 0
A15: 1 | E15: 2044.8 | I15: 2824.2 | M15: 561.6 | Q15: 900
A16: 2 | E16: 1980 | I16: 2691 | M16: 536.4 | Q16: 909
A17: 3 | E17: 1945.8 | I17: 2629.8 | M17: 529.2 | Q17: 901.8
A18: 4 | E18: 1913.4 | I18: 2574 | M18: 520.2 | Q18: 916.2
A19: 5 | E19: 1942.2 | I19: 2577.6 | M19: 509.4 | Q19: 885.6
A20: 6 | E20: 2061 | I20: 2766.6 | M20: 511.2 | Q20: 858.6
A21: 7 | E21: 2377.8 | I21: 3195 | M21: 518.4 | Q21: 860.4
A22: 8 | E22: 2894.4 | I22: 3619.8 | M22: 529.2 | Q22: 885.6
A23: 9 | E23: 3484.8 | I23: 4195.8 | M23: 626.4 | Q23: 918
A24: 10 | E24: 3691.8 | I24: 4323.6 | M24: 666 | Q24: 912.6
A25: 11 | E25: 3681 | I25: 4505.4 | M25: 660.6 | Q25: 914.4
A26: 12 | E26: 3645 | I26: 4518 | M26: 669.6 | Q26: 907.2
... A38: 24 | E38: 2251.8 | I38: 3060 | M38: 523.8 | Q38: 700.2
A39: Итого | E39: =SUM(E15:E38) -> 69586.2 | I39: =SUM(I15:I38) -> 90970.2 | M39: =SUM(M15:M38) -> 14002.2 | Q39: =SUM(Q15:Q38) -> 21124.8
A40: 1. При наличии на предприятии отклонений от нормальных режимов электропотребления (временное изменение схем питания, остановка на ремонт, резкое снижение
A41: эл.потребления и т.д.) последние необходимо перечислить.
A42: Главный инженер АО "Вологдаоблэнерго" А.В. Чурляев
A43: составляется самим предприятием с соблюдением всех пунктов настоящей таблицы.

Sheet 36
B1: АО "Вологдаоблэнерго" | J1: код 900151 | N1: ПС "ГОРОДСКАЯ" 35/6 кВ
B2: наименование предприятия | N2: наименование источника питания
N3: _________________________________
B4: ул. Горького, 99 | I4: Таблица № 1 | O4: Т-2 (РП 9)
B5: адрес
A6: почасовых записей показаний электрических счетчиков
A7: в режимный день 21 ДЕКАБРЯ 2022 г.
A8: 297
A9: часы суток | B9: Активная энергия | J9: Реактивная энергия
B10: Т-2 - РП 9 ф. 11 | J10: Т-2 - РП 9 ф. 11
B11: Расчет. Коэф. | E11: 7200 | F11: Расчет. Коэф. | I11: 0 | J11: Расчет. Коэф. | M11: =E11 -> 7200 | N11: Расчет. Коэф. | Q11: 0
B12: показания счетчика | C12: разность | E12: расход эл.энергии за час | F12: показания счетчика | G12: разность | I12: расход эл.энергии за час | J12: показания счетчика | K12: разность | M12: расход эл.энергии за час | N12: показания счетчика | O12: разность | Q12: расход эл.энергии за час
A13: 1 | B13: 2 | C13: 3 | E13: 4 | F13: 5 | G13: 6 | I13: 7 | J13: 8 | K13: 9 | M13: 10 | N13: 11 | O13: 12 | Q13: 13
A14: 0
A15: 1 | E15: 1402.56 | M15: 396
A16: 2 | E16: 1313.28 | M16: 387.36
A17: 3 | E17: 1265.76 | M17: 385.2
A18: 4 | E18: 1248.48 | M18: 389.52
A19: 5 | E19: 1272.96 | M19: 375.12
A20: 6 | E20: 1392.48 | M20: 381.6
A21: 7 | E21: 1593.36 | M21: 390.96
A22: 8 | E22: 1895.04 | M22: 409.68
A23: 9 | E23: 2149.2 | M23: 447.12
A24: 10 | E24: 2299.68 | M24: 489.6
A25: 11 | E25: 2381.04 | M25: 513.36
A26: 12 | E26: 2381.04 | M26: 495.36
... A38: 24 | E38: 1585.44 | M38: 327.6
A39: Итого | E39: =SUM(E15:E38) -> 46884.96 | I39: =SUM(I15:I38) -> 0 | M39: =SUM(M15:M38) -> 10411.2 | Q39: =SUM(Q15:Q38) -> 0
A40: 1. При наличии на предприятии отклонений от нормальных режимов электропотребления (временное изменение схем питания, остановка на ремонт, резкое снижение
A41: эл.потребления и т.д.) последние необходимо перечислить.
A42: Главный инженер АО "Вологдаоблэнерго" А.В. Чурляев
A43: составляется самим предприятием с соблюдением всех пунктов настоящей таблицы.

Sheet 37
B1: АО "Вологдаоблэнерго" | J1: код 900151 | N1: ПС "ВОСТОЧНАЯ" 110/35/10 кВ
B2: наименование предприятия | N2: наименование источника питания
N3: _________________________________
B4: ул. Горького, 99 | I4: Таблица № 1 | O4: РП 39
B5: адрес
A6: почасовых записей показаний электрических счетчиков
A7: в режимный день 21 ДЕКАБРЯ 2022 г.
A8: 1633 | B8: 1634
A9: часы суток | B9: Активная энергия | J9: Реактивная энергия
B10: ЯЧ.№2 - "РП 39-1" | F10: ЯЧ.№ 21 - "РП 39-2" | J10: ЯЧ.№2 - "РП 39-1" | N10: ЯЧ.№ 21 - "РП 39-2"
B11: Расчет. Коэф. | E11: 8000 | F11: Расчет. Коэф. | I11: 6000 | J11: Расчет. Коэф. | M11: =E11 -> 8000 | N11: Расчет. Коэф. | Q11: =I11 -> 6000
B12: показания счетчика | C12: разность | E12: расход эл.энергии за час | F12: показания счетчика | G12: разность | I12: расход эл.энергии за час | J12: показания счетчика | K12: разность | M12: расход эл.энергии за час | N12: показания счетчика | O12: разность | Q12: расход эл.энергии за час
A13: 1 | B13: 2 | C13: 3 | E13: 4 | F13: 5 | G13: 6 | I13: 7 | J13: 8 | K13: 9 | M13: 10 | N13: 11 | O13: 12 | Q13: 13
A14: 0
A15: 1 | E15: 888 | I15: 618 | M15: 37 | Q15: 113
A16: 2 | E16: 789 | I16: 432 | M16: 18 | Q16: 61
A17: 3 | E17: 749 | I17: 383 | M17: 10 | Q17: 42
A18: 4 | E18: 766 | I18: 359 | M18: 11 | Q18: 37
A19: 5 | E19: 773 | I19: 362 | M19: 10 | Q19: 28
A20: 6 | E20: 857 | I20: 416 | M20: 20 | Q20: 22
A21: 7 | E21: 1048 | I21: 635 | M21: 32 | Q21: 63
A22: 8 | E22: 1112 | I22: 582 | M22: 23 | Q22: 48
A23: 9 | E23: 1182 | I23: 608 | M23: 51 | Q23: 44
A24: 10 | E24: 1135 | I24: 626 | M24: 33 | Q24: 40
A25: 11 | E25: 1194 | I25: 715 | M25: 60 | Q25: 65
A26: 12 | E26: 1154 | I26: 645 | M26: 32 | Q26: 36
... A38: 24 | E38: 980 | I38: 661 | M38: 34 | Q38: 58
A39: Итого | E39: =SUM(E15:E38) -> 25381 | I39: =SUM(I15:I38) -> 16187 | M39: =SUM(M15:M38) -> 899 | Q39: =SUM(Q15:Q38) -> 1460
A40: 1. При наличии на предприятии отклонений от нормальных режимов электропотребления (временное изменение схем питания, остановка на ремонт, резкое снижение
A41: эл.потребления и т.д.) последние необходимо перечислить.
A42: Главный инженер АО "Вологдаоблэнерго" А.В. Чурляев
A43: составляется самим предприятием с соблюдением всех пунктов настоящей таблицы.

Sheet 38
B1: АО "Вологдаоблэнерго" | J1: код 900151 | N1: ПС "ВОСТОЧНАЯ" 110/35/10 кВ
B2: наименование предприятия | N2: наименование источника питания
N3: _________________________________
B4: ул. Горького, 99 | I4: Таблица № 1 | O4: РП 30
B5: адрес
A6: почасовых записей показаний электрических счетчиков
A7: в режимный день 21 ДЕКАБРЯ 2022 г.
A8: 1637 | B8: 1638
A9: часы суток | B9: Активная энергия | J9: Реактивная энергия
B10: ЯЧ.№15 - "РМЗ-1" | F10: ЯЧ.№32 - "РМЗ-2" | J10: ЯЧ.№15 - "РМЗ-1" | N10: ЯЧ.№32 - "РМЗ-2"
B11: Расчет. Коэф. | E11: 8000 | F11: Расчет. Коэф. | I11: 8000 | J11: Расчет. Коэф. | M11: =E11 -> 8000 | N11: Расчет. Коэф. | Q11: =I11 -> 8000
B12: показания счетчика | C12: разность | E12: расход эл.энергии за час | F12: показания счетчика | G12: разность | I12: расход эл.энергии за час | J12: показания счетчика | K12: разность | M12: расход эл.энергии за час | N12: показания счетчика | O12: разность | Q12: расход эл.энергии за час
A13: 1 | B13: 2 | C13: 3 | E13: 4 | F13: 5 | G13: 6 | I13: 7 | J13: 8 | K13: 9 | M13: 10 | N13: 11 | O13: 12 | Q13: 13
A14: 0
A15: 1 | E15: 1619 | I15: 0 | M15: 317 | Q15: 0
A16: 2 | E16: 1570 | I16: 0 | M16: 333 | Q16: 0
A17: 3 | E17: 1525 | I17: 0 | M17: 323 | Q17: 0
A18: 4 | E18: 1508 | I18: 0 | M18: 323 | Q18: 0
A19: 5 | E19: 1501 | I19: 0 | M19: 313 | Q19: 0
A20: 6 | E20: 1510 | I20: 0 | M20: 296 | Q20: 0
A21: 7 | E21: 1612 | I21: 0 | M21: 312 | Q21: 0
A22: 8 | E22: 1876 | I22: 0 | M22: 363 | Q22: 0
A23: 9 | E23: 2195 | I23: 0 | M23: 520 | Q23: 0
A24: 10 | E24: 2464 | I24: 0 | M24: 361 | Q24: 0
A25: 11 | E25: 2480 | I25: 0 | M25: 733 | Q25: 0
A26: 12 | E26: 2602 | I26: 0 | M26: 852 | Q26: 0
... A38: 24 | E38: 1710 | I38: 0 | M38: 252 | Q38: 0
A39: Итого | E39: =SUM(E15:E38) -> 49344 | I39: =SUM(I15:I38) -> 0 | M39: =SUM(M15:M38) -> 11633 | Q39: =SUM(Q15:Q38) -> 0
A40: 1. При наличии на предприятии отклонений от нормальных режимов электропотребления (временное изменение схем питания, остановка на ремонт, резкое снижение
A41: эл.потребления и т.д.) последние необходимо перечислить.
A42: Главный инженер АО "Вологдаоблэнерго" А.В. Чурляев
A43: составляется самим предприятием с соблюдением всех пунктов настоящей таблицы.

Sheet 39
B1: АО "Вологдаоблэнерго" | J1: код 900151 | N1: ПС "ВОСТОЧНАЯ" 110/35/10 кВ
B2: наименование предприятия | N2: наименование источника питания
N3: _________________________________
B4: ул. Горького, 99 | I4: Таблица № 1 | O4: РП 31
B5: адрес
A6: почасовых записей показаний электрических счетчиков
A7: в режимный день 21 ДЕКАБРЯ 2022 г.
A8: 1635 | B8: 1636
A9: часы суток | B9: Активная энергия | J9: Реактивная энергия
B10: ЯЧ. № 11- "ГОРОД-1" | F10: ЯЧ. № 28- "ГОРОД-2" | J10: ЯЧ. № 11- "ГОРОД-1" | N10: ЯЧ. № 28- "ГОРОД-2"
B11: Расчет. Коэф. | E11: 12000 | F11: Расчет. Коэф. | I11: 12000 | J11: Расчет. Коэф. | M11: =E11 -> 12000 | N11: Расчет. Коэф. | Q11: =I11 -> 12000
B12: показания счетчика | C12: разность | E12: расход эл.энергии за час | F12: показания счетчика | G12: разность | I12: расход эл.энергии за час | J12: показания счетчика | K12: разность | M12: расход эл.энергии за час | N12: показания счетчика | O12: разность | Q12: расход эл.энергии за час
A13: 1 | B13: 2 | C13: 3 | E13: 4 | F13: 5 | G13: 6 | I13: 7 | J13: 8 | K13: 9 | M13: 10 | N13: 11 | O13: 12 | Q13: 13
A14: 0
A15: 1 | E15: 2160 | I15: 3039 | M15: 366 | Q15: 642
A16: 2 | E16: 2026 | I16: 2866 | M16: 358 | Q16: 631
A17: 3 | E17: 1920 | I17: 2753 | M17: 342 | Q17: 613
A18: 4 | E18: 1889 | I18: 2721 | M18: 350 | Q18: 613
A19: 5 | E19: 1898 | I19: 2756 | M19: 324 | Q19: 600
A20: 6 | E20: 2134 | I20: 3091 | M20: 341 | Q20: 609
A21: 7 | E21: 2556 | I21: 3597 | M21: 356 | Q21: 651
A22: 8 | E22: 2814 | I22: 4050 | M22: 413 | Q22: 822
A23: 9 | E23: 3076 | I23: 4401 | M23: 406 | Q23: 963
A24: 10 | E24: 3246 | I24: 4410 | M24: 403 | Q24: 948
A25: 11 | E25: 3276 | I25: 4547 | M25: 431 | Q25: 951
A26: 12 | E26: 3350 | I26: 4456 | M26: 445 | Q26: 896
... A38: 24 | E38: 2406 | I38: 3331 | M38: 276 | Q38: 504
A39: Итого | E39: =SUM(E15:E38) -> 69979 | I39: =SUM(I15:I38) -> 96644 | M39: =SUM(M15:M38) -> 9369 | Q39: =SUM(Q15:Q38) -> 18062
A40: 1. При наличии на предприятии отклонений от нормальных режимов электропотребления (временное изменение схем питания, остановка на ремонт, резкое снижение
A41: эл.потребления и т.д.) последние необходимо перечислить.
A42: Главный инженер АО "Вологдаоблэнерго" А.В. Чурляев
A43: составляется самим предприятием с соблюдением всех пунктов настоящей таблицы.

Sheet 39_1
B1: АО "Вологдаоблэнерго" | J1: код 900151 | N1: ПС "ВОСТОЧНАЯ" 110/35/10 кВ
B2: наименование предприятия | N2: наименование источника питания
N3: _________________________________
B4: ул. Горького, 99 | I4: Таблица № 1 | O4: ТП-561-2
B5: адрес
A6: почасовых записей показаний электрических счетчиков
A7: в режимный день 21 ДЕКАБРЯ 2022 г.
A8: 1737
A9: часы суток | B9: Активная энергия | J9: Реактивная энергия
B10: ЯЧ. № 5- "ГОРОД-3" | J10: ЯЧ. № 5- "ГОРОД-3"
B11: Расчет. Коэф. | F11: Расчет. Коэф. | J11: Расчет. Коэф. | N11: Расчет. Коэф.
B12: показания счетчика | C12: разность | E12: расход эл.энергии за час | F12: показания счетчика | G12: разность | I12: расход эл.энергии за час | J12: показания счетчика | K12: разность | M12: расход эл.энергии за час | N12: показания счетчика | O12: разность | Q12: расход эл.энергии за час
A13: 1 | B13: 2 | C13: 3 | E13: 4 | F13: 5 | G13: 6 | I13: 7 | J13: 8 | K13: 9 | M13: 10 | N13: 11 | O13: 12 | Q13: 13
A14: 0
A15: 1 | E15: 385 | M15: 64
A16: 2 | E16: 340 | M16: 67
A17: 3 | E17: 317 | M17: 65
A18: 4 | E18: 310 | M18: 63
A19: 5 | E19: 305 | M19: 61
A20: 6 | E20: 345 | M20: 62
A21: 7 | E21: 497 | M21: 66
A22: 8 | E22: 525 | M22: 78
A23: 9 | E23: 498 | M23: 62
A24: 10 | E24: 507 | M24: 61
A25: 11 | E25: 509 | M25: 60
A26: 12 | E26: 527 | M26: 65
... A38: 24 | E38: 453 | M38: 46
A39: Итого | E39: =SUM(E15:E38) -> 12729 | M39: =SUM(M15:M38) -> 1567
A40: 1. При наличии на предприятии отклонений от нормальных режимов электропотребления (временное изменение схем питания, остановка на ремонт, резкое снижение
A41: эл.потребления и т.д.) последние необходимо перечислить.
A42: Главный инженер АО "Вологдаоблэнерго" А.В. Чурляев
A43: составляется самим предприятием с соблюдением всех пунктов настоящей таблицы.

Sheet 40
B1: АО "Вологдаоблэнерго" | J1: код 900151 | N1: ПС "ЛУГОВАЯ"
B2: наименование предприятия | N2: наименование источника питания
N3: _________________________________
B4: ул. Горького, 99 | I4: Таблица № 1 | O4: РП 19
B5: адрес
A6: почасовых записей показаний электрических счетчиков
A7: в режимный день 21 ДЕКАБРЯ 2022 г.
A8: 1516 | B8: 1514
A9: часы суток | B9: Активная энергия | J9: Реактивная энергия
B10: ЯЧ. 23 - ф "ГОРОД-2 | F10: ЯЧ. 2 - ф "ГОРОД-3" | J10: ЯЧ. 23 - ф "ГОРОД-2 | N10: ЯЧ. 2 - ф "ГОРОД-3"
B11: Расчет. Коэф. | E11: 12000 | F11: Расчет. Коэф. | I11: 12000 | J11: Расчет. Коэф. | M11: =E11 -> 12000 | N11: Расчет. Коэф. | Q11: =I11 -> 12000
B12: показания счетчика | C12: разность | E12: расход эл.энергии за час | F12: показания счетчика | G12: разность | I12: расход эл.энергии за час | J12: показания счетчика | K12: разность | M12: расход эл.энергии за час | N12: показания счетчика | O12: разность | Q12: расход эл.энергии за час
A13: 1 | B13: 2 | C13: 3 | E13: 4 | F13: 5 | G13: 6 | I13: 7 | J13: 8 | K13: 9 | M13: 10 | N13: 11 | O13: 12 | Q13: 13
A14: 0
A15: 1 | E15: 2118 | I15: 2196 | M15: 321 | Q15: 152
A16: 2 | E16: 1941 | I16: 2020 | M16: 310 | Q16: 141
A17: 3 | E17: 1850 | I17: 1948 | M17: 294 | Q17: 138
A18: 4 | E18: 1800 | I18: 1946 | M18: 295 | Q18: 132
A19: 5 | E19: 1831 | I19: 1970 | M19: 271 | Q19: 124
A20: 6 | E20: 2068 | I20: 2281 | M20: 280 | Q20: 135
A21: 7 | E21: 2454 | I21: 2628 | M21: 294 | Q21: 155
A22: 8 | E22: 2750 | I22: 2797 | M22: 334 | Q22: 156
A23: 9 | E23: 3047 | I23: 3052 | M23: 451 | Q23: 200
A24: 10 | E24: 3145 | I24: 3108 | M24: 486 | Q24: 191
A25: 11 | E25: 3296 | I25: 3097 | M25: 486 | Q25: 192
A26: 12 | E26: 3205 | I26: 3070 | M26: 451 | Q26: 217
... A38: 24 | E38: 2366 | I38: 2451 | M38: 255 | Q38: 22
A39: Итого | E39: =SUM(E15:E38) -> 69304 | I39: =SUM(I15:I38) -> 69079 | M39: =SUM(M15:M38) -> 8993 | Q39: =SUM(Q15:Q38) -> 4059
A40: 1. При наличии на предприятии отклонений от нормальных режимов электропотребления (временное изменение схем питания, остановка на ремонт, резкое снижение
A41: эл.потребления и т.д.) последние необходимо перечислить.
A42: Главный инженер АО "Вологдаоблэнерго" А.В. Чурляев
A43: составляется самим предприятием с соблюдением всех пунктов настоящей таблицы.

Sheet 40 _1
B1: АО "Вологдаоблэнерго" | J1: код 900151 | N1: ПС "ЛУГОВАЯ"
B2: наименование предприятия | N2: наименование источника питания
N3: _________________________________
B4: ул. Горького, 99 | I4: Таблица № 1 | O4: ТП-1080
B5: адрес
A6: почасовых записей показаний электрических счетчиков
A7: в режимный день 21 ДЕКАБРЯ 2022 г.
A8: 1516 | B8: 1514
A9: часы суток | B9: Активная энергия | J9: Реактивная энергия
B10: ЯЧ. 0 - ф "ГОРОД-5 | F10: ЯЧ. 27 - ф ГОРОД-6 | J10: ЯЧ. 0 - ф "ГОРОД-5 | N10: ЯЧ. 27 - ф ГОРОД-6
B11: Расчет. Коэф. | E11: 12000 | F11: Расчет. Коэф. | I11: 12000 | J11: Расчет. Коэф. | M11: =E11 -> 12000 | N11: Расчет. Коэф. | Q11: =I11 -> 12000
B12: показания счетчика | C12: разность | E12: расход эл.энергии за час | F12: показания счетчика | G12: разность | I12: расход эл.энергии за час | J12: показания счетчика | K12: разность | M12: расход эл.энергии за час | N12: показания счетчика | O12: разность | Q12: расход эл.энергии за час
A13: 1 | B13: 2 | C13: 3 | E13: 4 | F13: 5 | G13: 6 | I13: 7 | J13: 8 | K13: 9 | M13: 10 | N13: 11 | O13: 12 | Q13: 13
A14: 0
A15: 1 | E15: 0 | I15: 59 | M15: 0 | Q15: 1
A16: 2 | E16: 0 | I16: 53 | M16: 0 | Q16: 0
A17: 3 | E17: 0 | I17: 52 | M17: 0 | Q17: 0
A18: 4 | E18: 0 | I18: 50 | M18: 0 | Q18: 0
A19: 5 | E19: 0 | I19: 47 | M19: 0 | Q19: 0
A20: 6 | E20: 0 | I20: 49 | M20: 0 | Q20: 0
A21: 7 | E21: 0 | I21: 59 | M21: 0 | Q21: 0
A22: 8 | E22: 0 | I22: 62 | M22: 0 | Q22: 1
A23: 9 | E23: 0 | I23: 64 | M23: 0 | Q23: 0
A24: 10 | E24: 0 | I24: 63 | M24: 0 | Q24: 0
A25: 11 | E25: 0 | I25: 64 | M25: 0 | Q25: 0
A26: 12 | E26: 0 | I26: 62 | M26: 0 | Q26: 0
... A38: 24 | E38: 0 | I38: 66 | M38: 0 | Q38: 0
A39: Итого | E39: =SUM(E15:E38) -> 0 | I39: =SUM(I15:I38) -> 1590 | M39: =SUM(M15:M38) -> 0 | Q39: =SUM(Q15:Q38) -> 4
A40: 1. При наличии на предприятии отклонений от нормальных режимов электропотребления (временное изменение схем питания, остановка на ремонт, резкое снижение
A41: эл.потребления и т.д.) последние необходимо перечислить.
A42: Главный инженер АО "Вологдаоблэнерго" А.В. Чурляев
A43: составляется самим предприятием с соблюдением всех пунктов настоящей таблицы.

Sheet 41
B1: АО "Вологдаоблэнерго" | J1: код 900151 | N1: ПС "ЛУГОВАЯ"
B2: наименование предприятия | N2: наименование источника питания
N3: _________________________________
B4: ул. Горького, 99 | I4: Таблица № 1 | O4: РП 38
B5: адрес
A6: почасовых записей показаний электрических счетчиков
A7: в режимный день 21 ДЕКАБРЯ 2022 г.
A8: 1515 | B8: 1517
A9: часы суток | B9: Активная энергия | J9: Реактивная энергия
B10: ЯЧ.10 - ф "ГОРОД-1" | F10: ЯЧ.25 - ф "ГОРОД-4" | J10: ЯЧ.10 - ф "ГОРОД-1" | N10: ЯЧ.25 - ф "ГОРОД-4"
B11: Расчет. Коэф. | E11: 12000 | F11: Расчет. Коэф. | I11: 12000 | J11: Расчет. Коэф. | M11: =E11 -> 12000 | N11: Расчет. Коэф. | Q11: =I11 -> 12000
B12: показания счетчика | C12: разность | E12: расход эл.энергии за час | F12: показания счетчика | G12: разность | I12: расход эл.энергии за час | J12: показания счетчика | K12: разность | M12: расход эл.энергии за час | N12: показания счетчика | O12: разность | Q12: расход эл.энергии за час
A13: 1 | B13: 2 | C13: 3 | E13: 4 | F13: 5 | G13: 6 | I13: 7 | J13: 8 | K13: 9 | M13: 10 | N13: 11 | O13: 12 | Q13: 13
A14: 0
A15: 1 | E15: 897 | I15: 1116 | M15: 1 | Q15: 134
A16: 2 | E16: 825 | I16: 1018 | M16: 0 | Q16: 119
A17: 3 | E17: 795 | I17: 992 | M17: 0 | Q17: 124
A18: 4 | E18: 776 | I18: 968 | M18: 1 | Q18: 120
A19: 5 | E19: 792 | I19: 959 | M19: 0 | Q19: 116
A20: 6 | E20: 877 | I20: 1020 | M20: 0 | Q20: 125
A21: 7 | E21: 1005 | I21: 1223 | M21: 1 | Q21: 131
A22: 8 | E22: 1156 | I22: 1367 | M22: 17 | Q22: 129
A23: 9 | E23: 1306 | I23: 1483 | M23: 72 | Q23: 123
A24: 10 | E24: 1400 | I24: 1498 | M24: 61 | Q24: 113
A25: 11 | E25: 1424 | I25: 1548 | M25: 72 | Q25: 122
A26: 12 | E26: 1431 | I26: 1572 | M26: 60 | Q26: 130
... A38: 24 | E38: 994 | I38: 1242 | M38: 0 | Q38: 102
A39: Итого | E39: =SUM(E15:E38) -> 29899 | I39: =SUM(I15:I38) -> 34960 | M39: =SUM(M15:M38) -> 621 | Q39: =SUM(Q15:Q38) -> 3149
A40: 1. При наличии на предприятии отклонений от нормальных режимов электропотребления (временное изменение схем питания, остановка на ремонт, резкое снижение
A41: эл.потребления и т.д.) последние необходимо перечислить.
A42: Главный инженер АО "Вологдаоблэнерго" А.В. Чурляев
A43: составляется самим предприятием с соблюдением всех пунктов настоящей таблицы.

Sheet 41_1
B1: АО "Вологдаоблэнерго" | J1: код 900151 | N1: ПС "ЛУГОВАЯ"
B2: наименование предприятия | N2: наименование источника питания
N3: _________________________________ | O3: ВЛ 10 кВ ф Родина
B4: ул. Горького, 99 | I4: Таблица № 1 | O4: КТП-663
B5: адрес
A6: почасовых записей показаний электрических счетчиков
A7: в режимный день 21 ДЕКАБРЯ 2022 г.
A8: 336
A9: часы суток | B9: Активная энергия | J9: Реактивная энергия
B10: ф.Родина - КТП-663 | J10: ф.Родина - КТП-663
B11: Расчет. Коэф. | E11: 40 | F11: Расчет. Коэф. | J11: Расчет. Коэф. | M11: 40 | N11: Расчет. Коэф.
B12: показания счетчика | C12: разность | E12: расход эл.энергии за час | F12: показания счетчика | G12: разность | I12: расход эл.энергии за час | J12: показания счетчика | K12: разность | M12: расход эл.энергии за час | N12: показания счетчика | O12: разность | Q12: расход эл.энергии за час
A13: 1 | B13: 2 | C13: 3 | E13: 4 | F13: 5 | G13: 6 | I13: 7 | J13: 8 | K13: 9 | M13: 10 | N13: 11 | O13: 12 | Q13: 13
A14: 0
A15: 1 | E15: 24.6 | M15: 4.26
A16: 2 | E16: 24.66 | M16: 4.08
A17: 3 | E17: 25.4 | M17: 3.96
A18: 4 | E18: 27.5 | M18: 4.38
A19: 5 | E19: 27.36 | M19: 4.54
A20: 6 | E20: 27.7 | M20: 4.26
A21: 7 | E21: 29.68 | M21: 4.5
A22: 8 | E22: 29.58 | M22: 5.72
A23: 9 | E23: 39.42 | M23: 7.86
A24: 10 | E24: 42.42 | M24: 8.18
A25: 11 | E25: 42.82 | M25: 8.52
A26: 12 | E26: 45.6 | M26: 9.32
... A38: 24 | E38: 25.46 | M38: 3.66
A39: Итого | E39: =SUM(E15:E38) -> 874.58 | M39: =SUM(M15:M38) -> 155.86
A40: 1. При наличии на предприятии отклонений от нормальных режимов электропотребления (временное изменение схем питания, остановка на ремонт, резкое снижение
A41: эл.потребления и т.д.) последние необходимо перечислить.
A42: Главный инженер АО "Вологдаоблэнерго" А.В. Чурляев
A43: составляется самим предприятием с соблюдением всех пунктов настоящей таблицы.

Sheet 42
B1: АО "Вологдаоблэнерго" | J1: код 900151 | N1: РП "ГОРКА"
B2: наименование предприятия | N2: наименование источника питания
N3: _________________________________
B4: ул. Горького, 99 | I4: Таблица № 1 | O4: ВЛ - 10кВ № 37
B5: адрес
A6: почасовых записей показаний электрических счетчиков
A7: в режимный день 21 ДЕКАБРЯ 2022 г.
A8: 1528 | B8: 1527
A9: часы суток | B9: Активная энергия | J9: Реактивная энергия
B10: ЯЧ. 4 - ф,"ЛОСТА-1" | F10: ЯЧ. 8 - ф."ЛОСТА-2" | J10: ЯЧ. 4 - ф,"ЛОСТА-1" | N10: ЯЧ. 8 - ф."ЛОСТА-2"
B11: Расчет. Коэф. | E11: 2000 | F11: Расчет. Коэф. | I11: 2000 | J11: Расчет. Коэф. | M11: =E11 -> 2000 | N11: Расчет. Коэф. | Q11: =I11 -> 2000
B12: показания счетчика | C12: разность | E12: расход эл.энергии за час | F12: показания счетчика | G12: разность | I12: расход эл.энергии за час | J12: показания счетчика | K12: разность | M12: расход эл.энергии за час | N12: показания счетчика | O12: разность | Q12: расход эл.энергии за час
A13: 1 | B13: 2 | C13: 3 | E13: 4 | F13: 5 | G13: 6 | I13: 7 | J13: 8 | K13: 9 | M13: 10 | N13: 11 | O13: 12 | Q13: 13
A14: 0
A15: 1 | E15: 78 | I15: 284 | M15: 25 | Q15: 115
A16: 2 | E16: 74 | I16: 261 | M16: 25 | Q16: 109
A17: 3 | E17: 75 | I17: 254 | M17: 24 | Q17: 112
A18: 4 | E18: 70 | I18: 243 | M18: 24 | Q18: 109
A19: 5 | E19: 75 | I19: 241 | M19: 24 | Q19: 106
A20: 6 | E20: 75 | I20: 266 | M20: 23 | Q20: 108
A21: 7 | E21: 84 | I21: 349 | M21: 23 | Q21: 107
A22: 8 | E22: 166 | I22: 406 | M22: 71 | Q22: 113
A23: 9 | E23: 294 | I23: 420 | M23: 144 | Q23: 124
A24: 10 | E24: 302 | I24: 415 | M24: 159 | Q24: 132
A25: 11 | E25: 298 | I25: 400 | M25: 150 | Q25: 130
A26: 12 | E26: 313 | I26: 391 | M26: 161 | Q26: 128
... A38: 24 | E38: 245 | I38: 315 | M38: 112 | Q38: 100
A39: Итого | E39: =SUM(E15:E38) -> 5352 | I39: =SUM(I15:I38) -> 9050 | M39: =SUM(M15:M38) -> 2447 | Q39: =SUM(Q15:Q38) -> 2823
A40: 1. При наличии на предприятии отклонений от нормальных режимов электропотребления (временное изменение схем питания, остановка на ремонт, резкое снижение
A41: эл.потребления и т.д.) последние необходимо перечислить.
A42: Главный инженер АО "Вологдаоблэнерго" А.В. Чурляев
A43: составляется самим предприятием с соблюдением всех пунктов настоящей таблицы.

Sheet 43
B1: АО "Вологдаоблэнерго" | J1: код 900151 | N1: ГПП 2 ЗАО ВПЗ
B2: наименование предприятия | N2: наименование источника питания
N3: _________________________________
B4: ул. Горького, 99 | I4: Таблица № 1 | N4: ПКУ | O4: ВЛ 10 кВ № 8
B5: адрес
A6: почасовых записей показаний электрических счетчиков
A7: в режимный день 21 ДЕКАБРЯ 2022 г.
A8: 618
A9: часы суток | B9: Активная энергия | J9: Реактивная энергия
B10: ЯЧ. 53 - ВЛ № 8 | J10: ЯЧ. 53 - ВЛ № 8
B11: Расчет. Коэф. | E11: 3000 | F11: Расчет. Коэф. | I11: 0 | J11: Расчет. Коэф. | M11: =E11 -> 3000 | N11: Расчет. Коэф. | Q11: =I11 -> 0
B12: показания счетчика | C12: разность | E12: расход эл.энергии за час | F12: показания счетчика | G12: разность | I12: расход эл.энергии за час | J12: показания счетчика | K12: разность | M12: расход эл.энергии за час | N12: показания счетчика | O12: разность | Q12: расход эл.энергии за час
A13: 1 | B13: 2 | C13: 3 | E13: 4 | F13: 5 | G13: 6 | I13: 7 | J13: 8 | K13: 9 | M13: 10 | N13: 11 | O13: 12 | Q13: 13
A14: 0
A15: 1 | E15: 514 | M15: 211
A16: 2 | E16: 500 | M16: 207
A17: 3 | E17: 505 | M17: 209
A18: 4 | E18: 512 | M18: 211
A19: 5 | E19: 505 | M19: 207
A20: 6 | E20: 495 | M20: 205
A21: 7 | E21: 513 | M21: 211
A22: 8 | E22: 594 | M22: 234
A23: 9 | E23: 855 | M23: 388
A24: 10 | E24: 895 | M24: 435
A25: 11 | E25: 961 | M25: 484
A26: 12 | E26: 931 | M26: 464
... A38: 24 | E38: 491 | M38: 183
A39: Итого | E39: =SUM(E15:E38) -> 16023 | M39: =SUM(M15:M38) -> 6793
A40: 1. При наличии на предприятии отклонений от нормальных режимов электропотребления (временное изменение схем питания, остановка на ремонт, резкое снижение
A41: эл.потребления и т.д.) последние необходимо перечислить.
A42: Главный инженер АО "Вологдаоблэнерго" А.В. Чурляев
A43: составляется самим предприятием с соблюдением всех пунктов настоящей таблицы.

Sheet 44
B1: АО "Вологдаоблэнерго" | J1: код 900151 | N1: ГПП 2 220/10 кВ "ЗАО ВПЗ"
B2: наименование предприятия | N2: наименование источника питания
N3: _________________________________
B4: ул. Горького, 99 | I4: Таблица № 1 | O4: ТП 535; ТП 536
B5: адрес
A6: почасовых записей показаний электрических счетчиков
A7: в режимный день 21 ДЕКАБРЯ 2022 г.
A8: 616 | B8: 617
A9: часы суток | B9: Активная энергия | J9: Реактивная энергия
B10: ЯЧ. 6 - ТП 535 | F10: ЯЧ. 24 - ТП 536 | J10: ЯЧ. 6 - ТП 535 | N10: ЯЧ. 24 - ТП 536
B11: Расчет. Коэф. | E11: 6000 | F11: Расчет. Коэф. | I11: 6000 | J11: Расчет. Коэф. | M11: =E11 -> 6000 | N11: Расчет. Коэф. | Q11: =I11 -> 6000
B12: показания счетчика | C12: разность | E12: расход эл.энергии за час | F12: показания счетчика | G12: разность | I12: расход эл.энергии за час | J12: показания счетчика | K12: разность | M12: расход эл.энергии за час | N12: показания счетчика | O12: разность | Q12: расход эл.энергии за час
A13: 1 | B13: 2 | C13: 3 | E13: 4 | F13: 5 | G13: 6 | I13: 7 | J13: 8 | K13: 9 | M13: 10 | N13: 11 | O13: 12 | Q13: 13
A14: 0
A15: 1 | E15: 936 | I15: 785 | M15: 175 | Q15: 85
A16: 2 | E16: 877 | I16: 716 | M16: 171 | Q16: 77
A17: 3 | E17: 858 | I17: 683 | M17: 167 | Q17: 76
A18: 4 | E18: 852 | I18: 725 | M18: 168 | Q18: 79
A19: 5 | E19: 921 | I19: 703 | M19: 165 | Q19: 74
A20: 6 | E20: 1023 | I20: 780 | M20: 170 | Q20: 76
A21: 7 | E21: 1158 | I21: 957 | M21: 198 | Q21: 88
A22: 8 | E22: 1307 | I22: 1108 | M22: 209 | Q22: 126
A23: 9 | E23: 1466 | I23: 1330 | M23: 237 | Q23: 206
A24: 10 | E24: 1490 | I24: 1441 | M24: 243 | Q24: 227
A25: 11 | E25: 1463 | I25: 1454 | M25: 248 | Q25: 233
A26: 12 | E26: 1453 | I26: 1428 | M26: 254 | Q26: 213
... A38: 24 | E38: 1051 | I38: 873 | M38: 165 | Q38: 85
A39: Итого | E39: =SUM(E15:E38) -> 30796 | I39: =SUM(I15:I38) -> 27547 | M39: =SUM(M15:M38) -> 5099 | Q39: =SUM(Q15:Q38) -> 3452
A40: 1. При наличии на предприятии отклонений от нормальных режимов электропотребления (временное изменение схем питания, остановка на ремонт, резкое снижение
A41: эл.потребления и т.д.) последние необходимо перечислить.
A42: Главный инженер АО "Вологдаоблэнерго" А.В. Чурляев
A43: составляется самим предприятием с соблюдением всех пунктов настоящей таблицы.

Sheet 45
B1: АО "Вологдаоблэнерго" | J1: код 900151 | N1: ГПП 1 110/10 кВ "ЗАО ВПЗ"
B2: наименование предприятия | N2: наименование источника питания
N3: _________________________________
B4: ул. Горького, 99 | I4: Таблица № 1 | O4: РП42
B5: адрес
A6: почасовых записей показаний электрических счетчиков
A7: в режимный день 21 ДЕКАБРЯ 2022 г.
A8: 606 | B8: 607
A9: часы суток | B9: Активная энергия | J9: Реактивная энергия
B10: ЯЧ. 10 - РП42 ф.1 | F10: ЯЧ. 34 - РП42 ф.6 | J10: ЯЧ. 10 - РП42 ф.1 | N10: ЯЧ. 34 - РП42 ф.6
B11: Расчет. Коэф. | E11: 8000 | F11: Расчет. Коэф. | I11: 8000 | J11: Расчет. Коэф. | M11: =E11 -> 8000 | N11: Расчет. Коэф. | Q11: =I11 -> 8000
B12: показания счетчика | C12: разность | E12: расход эл.энергии за час | F12: показания счетчика | G12: разность | I12: расход эл.энергии за час | J12: показания счетчика | K12: разность | M12: расход эл.энергии за час | N12: показания счетчика | O12: разность | Q12: расход эл.энергии за час
A13: 1 | B13: 2 | C13: 3 | E13: 4 | F13: 5 | G13: 6 | I13: 7 | J13: 8 | K13: 9 | M13: 10 | N13: 11 | O13: 12 | Q13: 13
A14: 0
A15: 1 | E15: 896 | I15: 893 | M15: 92 | Q15: 31
A16: 2 | E16: 813 | I16: 812 | M16: 87 | Q16: 29
A17: 3 | E17: 771 | I17: 769 | M17: 82 | Q17: 24
A18: 4 | E18: 750 | I18: 749 | M18: 80 | Q18: 12
A19: 5 | E19: 767 | I19: 749 | M19: 77 | Q19: 20
A20: 6 | E20: 890 | I20: 801 | M20: 82 | Q20: 20
A21: 7 | E21: 1071 | I21: 962 | M21: 98 | Q21: 30
A22: 8 | E22: 1215 | I22: 1144 | M22: 106 | Q22: 81
A23: 9 | E23: 1453 | I23: 1321 | M23: 127 | Q23: 96
A24: 10 | E24: 1649 | I24: 1444 | M24: 126 | Q24: 95
A25: 11 | E25: 1671 | I25: 1492 | M25: 127 | Q25: 98
A26: 12 | E26: 1661 | I26: 1497 | M26: 125 | Q26: 101
... A38: 24 | E38: 1040 | I38: 1006 | M38: 68 | Q38: 26
A39: Итого | E39: =SUM(E15:E38) -> 32409 | I39: =SUM(I15:I38) -> 30448 | M39: =SUM(M15:M38) -> 2540 | Q39: =SUM(Q15:Q38) -> 1692
A40: 1. При наличии на предприятии отклонений от нормальных режимов электропотребления (временное изменение схем питания, остановка на ремонт, резкое снижение
A41: эл.потребления и т.д.) последние необходимо перечислить.
A42: Главный инженер АО "Вологдаоблэнерго" А.В. Чурляев
A43: составляется самим предприятием с соблюдением всех пунктов настоящей таблицы.

Sheet свод.табл.3 г.Вологда
G1: код 900151
B2: Таблица № 3
A4: сводных данных режимного дня 21 ДЕКАБРЯ 2022 г..
A6: о потреблении электрической энергии по АО "Вологдаоблэнерго"
A8: г. ВОЛОГДА
A10: часы суток | B10: Активная энергия | E10: Реактивная энергия
B11: Суммарный расход эл.энергии по всем вводам | C11: Суммарный расход эл.энергии всеми сторонними потребителями | D11: Расход эл.энергии предприятием (2-3) | E11: Суммарный расход эл.энергии по всем вводам | F11: Суммарный расход эл.энергии всеми сторонними потребителями | G11: Расход эл.энергии предприятием (5-6)
A12: 1 | B12: 2 | C12: 3 | D12: 4 | E12: 5 | F12: 6 | G12: 7
A13: 1 | B13: =SUM('1:45'!E15,'1:45'!I15) -> 70052.03 | D13: =B13 -> 70052.03 | E13: =SUM('1:45'!M15,'1:45'!Q15) -> 13574.41 | G13: =E13 -> 13574.41
A14: 2 | B14: =SUM('1:45'!E16,'1:45'!I16) -> 65862.07 | D14: =B14 -> 65862.07 | E14: =SUM('1:45'!M16,'1:45'!Q16) -> 13190.86 | G14: =E14 -> 13190.86
A15: 3 | B15: =SUM('1:45'!E17,'1:45'!I17) -> 64155.55 | D15: =B15 -> 64155.55 | E15: =SUM('1:45'!M17,'1:45'!Q17) -> 13081.59 | G15: =E15 -> 13081.59
A16: 4 | B16: =SUM('1:45'!E18,'1:45'!I18) -> 63403.1 | D16: =B16 -> 63403.1 | E16: =SUM('1:45'!M18,'1:45'!Q18) -> 13043.09 | G16: =E16 -> 13043.09
A17: 5 | B17: =SUM('1:45'!E19,'1:45'!I19) -> 64202.08 | D17: =B17 -> 64202.08 | E17: =SUM('1:45'!M19,'1:45'!Q19) -> 12560.31 | G17: =E17 -> 12560.31
A18: 6 | B18: =SUM('1:45'!E20,'1:45'!I20) -> 69649.74 | D18: =B18 -> 69649.74 | E18: =SUM('1:45'!M20,'1:45'!Q20) -> 12742.95 | G18: =E18 -> 12742.95
A19: 7 | B19: =SUM('1:45'!E21,'1:45'!I21) -> 81942.45 | D19: =B19 -> 81942.45 | E19: =SUM('1:45'!M21,'1:45'!Q21) -> 13447.15 | G19: =E19 -> 13447.15
A20: 8 | B20: =SUM('1:45'!E22,'1:45'!I22) -> 94890.09 | D20: =B20 -> 94890.09 | E20: =SUM('1:45'!M22,'1:45'!Q22) -> 15227.22 | G20: =E20 -> 15227.22
A21: 9 | B21: =SUM('1:45'!E23,'1:45'!I23) -> 108493.65 | D21: =B21 -> 108493.65 | E21: =SUM('1:45'!M23,'1:45'!Q23) -> 17905.41 | G21: =E21 -> 17905.41
A22: 10 | B22: =SUM('1:45'!E24,J11) -> 60592.62 | D22: =B22 -> 60592.62 | E22: =SUM('1:45'!M24,'1:45'!Q24) -> 18539.99 | G22: =E22 -> 18539.99
A23: 11 | B23: =SUM('1:45'!E25,'1:45'!I25) -> 116822.22 | D23: =B23 -> 116822.22 | E23: =SUM('1:45'!M25,'1:45'!Q25) -> 19073.49 | G23: =E23 -> 19073.49
A24: 12 | B24: =SUM('1:45'!E26,'1:45'!I26) -> 117203.25 | D24: =B24 -> 117203.25 | E24: =SUM('1:45'!M26,'1:45'!Q26) -> 19448.14 | G24: =E24 -> 19448.14
A25: 13 | B25: =SUM('1:45'!E27,'1:45'!I27) -> 115791.62 | D25: =B25 -> 115791.62 | E25: =SUM('1:45'!M27,'1:45'!Q27) -> 18748.09 | G25: =E25 -> 18748.09
A26: 14 | B26: =SUM('1:45'!E28,'1:45'!I28) -> 114989.42 | D26: =B26 -> 114989.42 | E26: =SUM('1:45'!M28,'1:45'!Q28) -> 18847.37 | G26: =E26 -> 18847.37
A27: 15 | B27: =SUM('1:45'!E29,'1:45'!I29) -> 115043.35 | D27: =B27 -> 115043.35 | E27: =SUM('1:45'!M29,'1:45'!Q29) -> 18787.34 | G27: =E27 -> 18787.34
A28: 16 | B28: =SUM('1:45'!E30,'1:45'!I30) -> 116618.39 | D28: =B28 -> 116618.39 | E28: =SUM('1:45'!M30,'1:45'!Q30) -> 18450.14 | G28: =E28 -> 18450.14
A29: 17 | B29: =SUM('1:45'!E31,'1:45'!I31) -> 118264.7 | D29: =B29 -> 118264.7 | E29: =SUM('1:45'!M31,'1:45'!Q31) -> 17532.47 | G29: =E29 -> 17532.47
A30: 18 | B30: =SUM('1:45'!E32,'1:45'!I32) -> 116179.42 | D30: =B30 -> 116179.42 | E30: =SUM('1:45'!M32,'1:45'!Q32) -> 16606.88 | G30: =E30 -> 16606.88
A31: 19 | B31: =SUM('1:45'!E33,'1:45'!I33) -> 115267.15 | D31: =B31 -> 115267.15 | E31: =SUM('1:45'!M33,'1:45'!Q33) -> 15967.14 | G31: =E31 -> 15967.14
A32: 20 | B32: =SUM('1:45'!E34,'1:45'!I34) -> 111952.53 | D32: =B32 -> 111952.53 | E32: =SUM('1:45'!M34,'1:45'!Q34) -> 15242.02 | G32: =E32 -> 15242.02
A33: 21 | B33: =SUM('1:45'!E35,'1:45'!I35) -> 106595.43 | D33: =B33 -> 106595.43 | E33: =SUM('1:45'!M35,'1:45'!Q35) -> 14687.04 | G33: =E33 -> 14687.04
A34: 22 | B34: =SUM('1:45'!E36,'1:45'!I36) -> 99982.08 | D34: =B34 -> 99982.08 | E34: =SUM('1:45'!M36,'1:45'!Q36) -> 14473.21 | G34: =E34 -> 14473.21
... A36: 24 | B36: =SUM('1:45'!E38,'1:45'!I38) -> 77474.98 | D36: =B36 -> 77474.98 | E36: =SUM('1:45'!M38,'1:45'!Q38) -> 11307.72 | G36: =E36 -> 11307.72
A37: Итого
A41: И.о.главного инженера АО "Вологдаоблэнерго" О.В.Уткин
A42: Главный инженер АО "Вологдаоблэнерго" А.В. Чурляев
D48: =MAX(D13:D37) -> 118264.7 | G48: =MAX(G13:G37) -> 19448.14

Sheet 46
B1: АО "Вологдаоблэнерго" | J1: код 900151 | N1: ПС 110 кВ "Кубенское"
B2: наименование предприятия | N2: наименование источника питания
B3: уч-к "Кубенское" | N3: _________________________________
B4: ул. Горького, 99 | I4: Таблица № 1 | O4: ф.СПТУ, ф. Кубенское ПКУ
B5: адрес
A6: почасовых записей показаний электрических счетчиков
A7: в режимный день 21 ДЕКАБРЯ 2022 г.
A8: 1640 | B8: 411
A9: часы суток | B9: Активная энергия | J9: Реактивная энергия
B10: яч..8 - ф.СПТУ | F10: яч.9 - ф.Кубенское ПКУ | J10: яч..8 - ф.СПТУ | N10: яч.9 - ф.Кубенское ПКУ
B11: Расчет. Коэф. | E11: 3000 | F11: Расчет. Коэф. | I11: 1500 | J11: Расчет. Коэф. | M11: 3000 | N11: Расчет. Коэф. | Q11: 1500
B12: показания счетчика | C12: разность | E12: расход эл.энергии за час | F12: показания счетчика | G12: разность | I12: расход эл.энергии за час | J12: показания счетчика | K12: разность | M12: расход эл.энергии за час | N12: показания счетчика | O12: разность | Q12: расход эл.энергии за час
A13: 1 | B13: 2 | C13: 3 | E13: 4 | F13: 5 | G13: 6 | I13: 7 | J13: 8 | K13: 9 | M13: 10 | N13: 11 | O13: 12 | Q13: 13
A14: 0
A15: 1 | E15: 248 | I15: 253.8 | M15: 113 | Q15: 95.1
A16: 2 | E16: 237 | I16: 256.65 | M16: 110 | Q16: 95.55
A17: 3 | E17: 231 | I17: 242.55 | M17: 108 | Q17: 94.5
A18: 4 | E18: 230 | I18: 241.05 | M18: 107 | Q18: 94.05
A19: 5 | E19: 221 | I19: 243.75 | M19: 100 | Q19: 91.95
A20: 6 | E20: 263 | I20: 259.35 | M20: 103 | Q20: 92.85
A21: 7 | E21: 339 | I21: 289.35 | M21: 107 | Q21: 93.75
A22: 8 | E22: 363 | I22: 324.9 | M22: 103 | Q22: 89.85
A23: 9 | E23: 406 | I23: 359.85 | M23: 99 | Q23: 134.25
A24: 10 | E24: 413 | I24: 364.35 | M24: 99 | Q24: 123.6
A25: 11 | E25: 404 | I25: 359.7 | M25: 96 | Q25: 124.35
A26: 12 | E26: 388 | I26: 344.1 | M26: 97 | Q26: 132.15
... A38: 24 | E38: 263 | I38: 252.6 | M38: 101 | Q38: 84.6
A39: Итого | E39: =SUM(E15:E38) -> 7851 | I39: =SUM(I15:I38) -> 7579.95 | M39: =SUM(M15:M38) -> 2503 | Q39: =SUM(Q15:Q38) -> 2673.3
A40: 1. При наличии на предприятии отклонений от нормальных режимов электропотребления (временное изменение схем питания, остановка на ремонт, резкое снижение
A41: эл.потребления и т.д.) последние необходимо перечислить.
A42: Главный инженер АО "Вологдаоблэнерго" А.В. Чурляев
A43: составляется самим предприятием с соблюдением всех пунктов настоящей таблицы.

Sheet 47
B1: АО "Вологдаоблэнерго" | J1: код 900151 | N1: ПС "Молочное" 35/10 кВ
B2: наименование предприятия | N2: наименование источника питания
B3: уч-к п. Молочное | N3: _________________________________
B4: ул. Горького, 99 | I4: Таблица № 1
B5: адрес
A6: почасовых записей показаний электрических счетчиков
A7: в режимный деннь 17 ИЮНЯ 2020 г.
A8: 1450 | B8: 1449
A9: часы суток | B9: Активная энергия | J9: Реактивная энергия
B10: яч.17 - ф.Молочное-1 | F10: яч.12 - ф.Молочное-2 | J10: яч.17 - ф.Молочное-1 | N10: яч.12 - ф.Молочное-2
B11: Расчет. Коэф. | E11: 3000 | F11: Расчет. Коэф. | I11: 3000 | J11: Расчет. Коэф. | M11: 3000 | N11: Расчет. Коэф. | Q11: 3000
B12: показания счетчика | C12: разность | E12: расход эл.энергии за час | F12: показания счетчика | G12: разность | I12: расход эл.энергии за час | J12: показания счетчика | K12: разность | M12: расход эл.энергии за час | N12: показания счетчика | O12: разность | Q12: расход эл.энергии за час
A13: 1 | B13: 2 | C13: 3 | E13: 4 | F13: 5 | G13: 6 | I13: 7 | J13: 8 | K13: 9 | M13: 10 | N13: 11 | O13: 12 | Q13: 13
A14: 0
A15: 1 | E15: 692 | I15: 77 | M15: 190 | Q15: 41
A16: 2 | E16: 646 | I16: 59 | M16: 186 | Q16: 36
A17: 3 | E17: 631 | I17: 48 | M17: 179 | Q17: 16
A18: 4 | E18: 642 | I18: 70 | M18: 182 | Q18: 41
A19: 5 | E19: 654 | I19: 64 | M19: 171 | Q19: 32
A20: 6 | E20: 725 | I20: 73 | M20: 184 | Q20: 34
A21: 7 | E21: 873 | I21: 54 | M21: 186 | Q21: 19
A22: 8 | E22: 1048 | I22: 80 | M22: 198 | Q22: 36
A23: 9 | E23: 1134 | I23: 73 | M23: 224 | Q23: 41
A24: 10 | E24: 1232 | I24: 80 | M24: 243 | Q24: 43
A25: 11 | E25: 1218 | I25: 73 | M25: 238 | Q25: 19
A26: 12 | E26: 1172 | I26: 84 | M26: 230 | Q26: 42
... A38: 24 | E38: 791 | I38: 69 | M38: 205 | Q38: 35
A39: Итого | E39: =SUM(E15:E38) -> 23940 | I39: =SUM(I15:I38) -> 1658 | M39: =SUM(M15:M38) -> 5155 | Q39: =SUM(Q15:Q38) -> 760
A40: 1. При наличии на предприятии отклонений от нормальных режимов электропотребления (временное изменение схем питания, остановка на ремонт, резкое снижение
A41: эл.потребления и т.д.) последние необходимо перечислить.
A42: Главный инженер АО "Вологдаоблэнерго" А.В. Чурляев
A43: составляется самим предприятием с соблюдением всех пунктов настоящей таблицы.

Sheet 48
B1: АО "Вологдаоблэнерго" | J1: код 900151 | N1: ПС "Молочное" 35/10 кВ
B2: наименование предприятия | N2: наименование источника питания
B3: уч-к п. Молочное | N3: _________________________________
B4: ул. Горького, 99 | I4: Таблица № 1
B5: адрес
A6: почасовых записей показаний электрических счетчиков
A7: в режимный день 21 ДЕКАБРЯ 2022 г.
A8: 1451 | B8: 1448
A9: часы суток | B9: Активная энергия | J9: Реактивная энергия
B10: яч 18 - ф.Молочное-3 | F10: яч 10. - ф.Очистные | J10: яч. 18 - ф.Молочное-3 | N10: яч 10 - ф.Очистные
B11: Расчет. Коэф. | E11: 3000 | F11: Расчет. Коэф. | I11: 2000 | J11: Расчет. Коэф. | M11: 3000 | N11: Расчет. Коэф. | Q11: 2000
B12: показания счетчика | C12: разность | E12: расход эл.энергии за час | F12: показания счетчика | G12: разность | I12: расход эл.энергии за час | J12: показания счетчика | K12: разность | M12: расход эл.энергии за час | N12: показания счетчика | O12: разность | Q12: расход эл.энергии за час
A13: 1 | B13: 2 | C13: 3 | E13: 4 | F13: 5 | G13: 6 | I13: 7 | J13: 8 | K13: 9 | M13: 10 | N13: 11 | O13: 12 | Q13: 13
A14: 0
A15: 1 | E15: 372 | I15: 263 | M15: 70 | Q15: 81
A16: 2 | E16: 350 | I16: 244 | M16: 64 | Q16: 64
A17: 3 | E17: 338 | I17: 239 | M17: 63 | Q17: 50
A18: 4 | E18: 336 | I18: 259 | M18: 62 | Q18: 58
A19: 5 | E19: 351 | I19: 250 | M19: 63 | Q19: 58
A20: 6 | E20: 413 | I20: 271 | M20: 67 | Q20: 61
A21: 7 | E21: 454 | I21: 274 | M21: 76 | Q21: 62
A22: 8 | E22: 495 | I22: 286 | M22: 80 | Q22: 65
A23: 9 | E23: 642 | I23: 320 | M23: 113 | Q23: 82
A24: 10 | E24: 683 | I24: 315 | M24: 135 | Q24: 78
A25: 11 | E25: 685 | I25: 334 | M25: 138 | Q25: 80
A26: 12 | E26: 658 | I26: 335 | M26: 132 | Q26: 73
... A38: 24 | E38: 405 | I38: 253 | M38: 68 | Q38: 60
A39: Итого | E39: =SUM(E15:E38) -> 12181 | I39: =SUM(I15:I38) -> 7036 | M39: =SUM(M15:M38) -> 2203 | Q39: =SUM(Q15:Q38) -> 1679
A40: 1. При наличии на предприятии отклонений от нормальных режимов электропотребления (временное изменение схем питания, остановка на ремонт, резкое снижение
A41: эл.потребления и т.д.) последние необходимо перечислить.
A42: Главный инженер АО "Вологдаоблэнерго" А.В. Чурляев
A43: составляется самим предприятием с соблюдением всех пунктов настоящей таблицы.

Sheet 48_1
B1: АО "Вологдаоблэнерго" | J1: код 900151 | N1: ПС "Молочное" 35/10 кВ
B2: наименование предприятия | N2: наименование источника питания
B3: уч-к п. Молочное | N3: _________________ф. Ивлево, ф. Майский ________________
B4: ул. Горького, 99 | I4: Таблица № 1
B5: адрес
A6: почасовых записей показаний электрических счетчиков
A7: в режимный день 21 ДЕКАБРЯ 2022 г.
A8: 624 | B8: 633
A9: часы суток | B9: Активная энергия | J9: Реактивная энергия
B10: ф. Ивлево, ф. Майский - ТП-28 Т1 | F10: ф. Ивлево, ф. Майский - ТП28 Т2 | J10: ф. Ивлево, ф. Майский - ТП-28 Т1 | N10: ф. Ивлево, ф. Майский - ТП28 Т2
B11: Расчет. Коэф. | E11: 120 | F11: Расчет. Коэф. | I11: 120 | J11: Расчет. Коэф. | M11: 120 | N11: Расчет. Коэф. | Q11: 120
B12: показания счетчика | C12: разность | E12: расход эл.энергии за час | F12: показания счетчика | G12: разность | I12: расход эл.энергии за час | J12: показания счетчика | K12: разность | M12: расход эл.энергии за час | N12: показания счетчика | O12: разность | Q12: расход эл.энергии за час
A13: 1 | B13: 2 | C13: 3 | E13: 4 | F13: 5 | G13: 6 | I13: 7 | J13: 8 | K13: 9 | M13: 10 | N13: 11 | O13: 12 | Q13: 13
A14: 0
A15: 1 | E15: 94.92 | I15: 0 | M15: 16.2 | Q15: 0
A16: 2 | E16: 89.64 | I16: 0 | M16: 15.54 | Q16: 0
A17: 3 | E17: 88.92 | I17: 0 | M17: 15.18 | Q17: 0
A18: 4 | E18: 87.24 | I18: 0 | M18: 14.88 | Q18: 0
A19: 5 | E19: 88.38 | I19: 0 | M19: 14.1 | Q19: 0
A20: 6 | E20: 91.14 | I20: 0 | M20: 14.94 | Q20: 0
A21: 7 | E21: 102.36 | I21: 0 | M21: 16.14 | Q21: 0
A22: 8 | E22: 113.28 | I22: 0 | M22: 17.7 | Q22: 0
A23: 9 | E23: 114 | I23: 0 | M23: 17.88 | Q23: 0
A24: 10 | E24: 110.28 | I24: 0 | M24: 18.36 | Q24: 0
A25: 11 | E25: 107.04 | I25: 0 | M25: 17.76 | Q25: 0
A26: 12 | E26: 105.18 | I26: 0 | M26: 17.88 | Q26: 0
... A38: 24 | E38: 115.26 | I38: 0 | M38: 18.96 | Q38: 0
A39: Итого | E39: =SUM(E15:E38) -> 2716.2 | I39: =SUM(I15:I38) -> 0 | M39: =SUM(M15:M38) -> 447.48 | Q39: =SUM(Q15:Q38) -> 0
A40: 1. При наличии на предприятии отклонений от нормальных режимов электропотребления (временное изменение схем питания, остановка на ремонт, резкое снижение
A41: эл.потребления и т.д.) последние необходимо перечислить.
A42: Главный инженер АО "Вологдаоблэнерго" А.В. Чурляев
A43: составляется самим предприятием с соблюдением всех пунктов настоящей таблицы.

Sheet 48_2
B1: АО "Вологдаоблэнерго" | J1: код 900151 | N1: ПС "Молочное" 35/10 кВ
B2: наименование предприятия | N2: наименование источника питания
B3: уч-к п. Молочное | N3: __ф. Ивлево, ф. Майский, ф. Искра
B4: ул. Горького, 99 | I4: Таблица № 1
B5: адрес
A6: почасовых записей показаний электрических счетчиков
A7: в режимный день 21 ДЕКАБРЯ 2022 г.
A8: 621
A9: часы суток | B9: Активная энергия | J9: Реактивная энергия
B10: ф. Ивлево, ф. Майский - ТП27 Т1 | F10: ф.Искра - КТП-22 | J10: ф. Ивлево, ф. Майский - ТП27 Т1 | N10: ф.Искра - КТП-22
B11: Расчет. Коэф. | F11: Расчет. Коэф. | J11: Расчет. Коэф. | N11: Расчет. Коэф.
B12: показания счетчика | C12: разность | E12: расход эл.энергии за час | F12: показания счетчика | G12: разность | I12: расход эл.энергии за час | J12: показания счетчика | K12: разность | M12: расход эл.энергии за час | N12: показания счетчика | O12: разность | Q12: расход эл.энергии за час
A13: 1 | B13: 2 | C13: 3 | E13: 4 | F13: 5 | G13: 6 | I13: 7 | J13: 8 | K13: 9 | M13: 10 | N13: 11 | O13: 12 | Q13: 13
A14: 0
A15: 1 | E15: 65.88 | I15: 0 | M15: 13.32 | Q15: 0
A16: 2 | E16: 60.84 | I16: 0 | M16: 12.66 | Q16: 0
A17: 3 | E17: 60.12 | I17: 0 | M17: 12.84 | Q17: 0
A18: 4 | E18: 59.28 | I18: 0 | M18: 12.9 | Q18: 0
A19: 5 | E19: 57.66 | I19: 0 | M19: 11.64 | Q19: 0
A20: 6 | E20: 62.46 | I20: 0 | M20: 11.88 | Q20: 0
A21: 7 | E21: 72.12 | I21: 0 | M21: 12.3 | Q21: 0
A22: 8 | E22: 78.48 | I22: 0 | M22: 13.02 | Q22: 0
A23: 9 | E23: 83.58 | I23: 0 | M23: 12.84 | Q23: 0
A24: 10 | E24: 90.48 | I24: 0 | M24: 13.62 | Q24: 0
A25: 11 | E25: 90.96 | I25: 0 | M25: 13.32 | Q25: 0
A26: 12 | E26: 92.58 | I26: 0 | M26: 14.16 | Q26: 0
... A38: 24 | E38: 67.74 | I38: 0 | M38: 14.1 | Q38: 0
A39: Итого | E39: =SUM(E15:E38) -> 2039.82 | I39: =SUM(I15:I38) -> 0 | M39: =SUM(M15:M38) -> 336.96 | Q39: =SUM(Q15:Q38) -> 0
A40: 1. При наличии на предприятии отклонений от нормальных режимов электропотребления (временное изменение схем питания, остановка на ремонт, резкое снижение
A41: эл.потребления и т.д.) последние необходимо перечислить.
A42: Главный инженер АО "Вологдаоблэнерго" А.В. Чурляев
A43: составляется самим предприятием с соблюдением всех пунктов настоящей таблицы.

Sheet 48_3
B1: АО "Вологдаоблэнерго" | J1: код 900151 | N1: ПС "Молочное" 35/10 кВ
B2: наименование предприятия | N2: наименование источника питания
B3: уч-к п. Молочное | N3: ______ВЛ 10 кВ ф. Красная Звезда ______
B4: ул. Горького, 99 | I4: Таблица № 1
B5: адрес
A6: почасовых записей показаний электрических счетчиков
A7: в режимный день 21 ДЕКАБРЯ 2022 г.
A8: 621
A9: часы суток | B9: Активная энергия | J9: Реактивная энергия
B10: ф. Красная Звезда - КТП-297 | J10: ф. Красная Звезда - КТП-297
B11: Расчет. Коэф. | F11: Расчет. Коэф. | J11: Расчет. Коэф. | N11: Расчет. Коэф.
B12: показания счетчика | C12: разность | E12: расход эл.энергии за час | F12: показания счетчика | G12: разность | I12: расход эл.энергии за час | J12: показания счетчика | K12: разность | M12: расход эл.энергии за час | N12: показания счетчика | O12: разность | Q12: расход эл.энергии за час
A13: 1 | B13: 2 | C13: 3 | E13: 4 | F13: 5 | G13: 6 | I13: 7 | J13: 8 | K13: 9 | M13: 10 | N13: 11 | O13: 12 | Q13: 13
A14: 0
A15: 1 | E15: 93.104 | M15: 1.984
A16: 2 | E16: 94.336 | M16: 2.352
A17: 3 | E17: 94.08 | M17: 2.624
A18: 4 | E18: 94.848 | M18: 3.36
A19: 5 | E19: 96.768 | M19: 2.224
A20: 6 | E20: 99.52 | M20: 2.256
A21: 7 | E21: 113.232 | M21: 1.776
A22: 8 | E22: 107.024 | M22: 2.064
A23: 9 | E23: 105.504 | M23: 2.192
A24: 10 | E24: 104.928 | M24: 2.624
A25: 11 | E25: 106.96 | M25: 2.544
A26: 12 | E26: 104.64 | M26: 3.088
... A38: 24 | E38: 103.808 | M38: 2.384
A39: Итого | E39: =SUM(E15:E38) -> 2426.832 | M39: =SUM(M15:M38) -> 54.096
A40: 1. При наличии на предприятии отклонений от нормальных режимов электропотребления (временное изменение схем питания, остановка на ремонт, резкое снижение
A41: эл.потребления и т.д.) последние необходимо перечислить.
A42: Главный инженер АО "Вологдаоблэнерго" А.В. Чурляев
A43: составляется самим предприятием с соблюдением всех пунктов настоящей таблицы.

Sheet 49
B1: АО "Вологдаоблэнерго" | J1: код 900151 | N1: РТП "КОРНИЛОВО" 35/10 кВ
B2: наименование предприятия | N2: наименование источника питания
B3: уч-к "Устье-Кубенское" | N3: _________________________________
B4: ул. Горького, 99 | I4: Таблица № 1
B5: адрес
A6: почасовых записей показаний электрических счетчиков
A7: в режимный день 21 ДЕКАБРЯ 2022 г.
A8: 1639
A9: часы суток | B9: Активная энергия | J9: Реактивная энергия
B10: ф. "КОММУНАЛЬНЫЙ" | J10: ф. "КОММУНАЛЬНЫЙ"
B11: Расчет. Коэф. | E11: 2000 | F11: Расчет. Коэф. | I11: 0 | J11: Расчет. Коэф. | M11: 2000 | N11: Расчет. Коэф. | Q11: 0
B12: показания счетчика | C12: разность | E12: расход эл.энергии за час | F12: показания счетчика | G12: разность | I12: расход эл.энергии за час | J12: показания счетчика | K12: разность | M12: расход эл.энергии за час | N12: показания счетчика | O12: разность | Q12: расход эл.энергии за час
A13: 1 | B13: 2 | C13: 3 | E13: 4 | F13: 5 | G13: 6 | I13: 7 | J13: 8 | K13: 9 | M13: 10 | N13: 11 | O13: 12 | Q13: 13
A14: 0
A15: 1 | E15: 357 | M15: 125
A16: 2 | E16: 338 | M16: 126
A17: 3 | E17: 329 | M17: 123
A18: 4 | E18: 338 | M18: 123
A19: 5 | E19: 340 | M19: 123
A20: 6 | E20: 342 | M20: 124
A21: 7 | E21: 385 | M21: 124
A22: 8 | E22: 448 | M22: 122
A23: 9 | E23: 500 | M23: 148
A24: 10 | E24: 505 | M24: 146
A25: 11 | E25: 509 | M25: 145
A26: 12 | E26: 506 | M26: 145
... A38: 24 | E38: 383 | M38: 117
A39: Итого | E39: =SUM(E15:E38) -> 10752 | M39: =SUM(M15:M38) -> 3207
A42: Главный инженер АО "Вологдаоблэнерго" А.В. Чурляев

Sheet 50
B1: АО "Вологдаоблэнерго" | J1: код 900151 | N1: РТП "КОРНИЛОВО" 35/10 кВ
B2: наименование предприятия | N2: наименование источника питания
B3: уч-к "Устье-Кубенское" | N3: _________________________________
B4: ул. Горького, 99 | I4: Таблица № 1
B5: адрес
A6: почасовых записей показаний электрических счетчиков
A7: в режимный день 21 ДЕКАБРЯ 2022 г.
A8: 393 | B8: 392
A9: часы суток | B9: Активная энергия | J9: Реактивная энергия
B10: ф. "УСТЬЕ" ПКУ | F10: ф. "СХТ" | J10: ф. "УСТЬЕ" ПКУ | N10: ф. "СХТ"
B11: Расчет. Коэф. | E11: 3000 | F11: Расчет. Коэф. | I11: 2000 | J11: Расчет. Коэф. | M11: =E11 -> 3000 | N11: Расчет. Коэф. | Q11: 2000
B12: показания счетчика | C12: разность | E12: расход эл.энергии за час | F12: показания счетчика | G12: разность | I12: расход эл.энергии за час | J12: показания счетчика | K12: разность | M12: расход эл.энергии за час | N12: показания счетчика | O12: разность | Q12: расход эл.энергии за час
A13: 1 | B13: 2 | C13: 3 | E13: 4 | F13: 5 | G13: 6 | I13: 7 | J13: 8 | K13: 9 | M13: 10 | N13: 11 | O13: 12 | Q13: 13
A14: 0
A15: 1 | E15: 380.4 | I15: 180 | M15: 171.9 | Q15: 73.2
A16: 2 | E16: 368.1 | I16: 168.4 | M16: 171.3 | Q16: 73
A17: 3 | E17: 366.3 | I17: 158.6 | M17: 168 | Q17: 69.6
A18: 4 | E18: 372.3 | I18: 164.2 | M18: 168 | Q18: 71.2
A19: 5 | E19: 367.2 | I19: 163.4 | M19: 162 | Q19: 70.4
A20: 6 | E20: 454.2 | I20: 189.4 | M20: 171 | Q20: 70.8
A21: 7 | E21: 504.9 | I21: 217.2 | M21: 174.6 | Q21: 70.2
A22: 8 | E22: 546 | I22: 253.4 | M22: 171.3 | Q22: 67.2
A23: 9 | E23: 649.5 | I23: 245.2 | M23: 228.9 | Q23: 68.2
A24: 10 | E24: 712.2 | I24: 241 | M24: 252.3 | Q24: 67.2
A25: 11 | E25: 664.8 | I25: 231.6 | M25: 207.9 | Q25: 68.4
A26: 12 | E26: 675 | I26: 236 | M26: 237.9 | Q26: 68
... A38: 24 | E38: 408.9 | I38: 191.2 | M38: 154.8 | Q38: 67.4
A39: Итого | E39: =SUM(E15:E38) -> 12679.2 | I39: =SUM(I15:I38) -> 5372.2 | M39: =SUM(M15:M38) -> 4544.7 | Q39: =SUM(Q15:Q38) -> 1685.6
A40: 1. При наличии на предприятии отклонений от нормальных режимов электропотребления (временное изменение схем питания, остановка на ремонт, резкое снижение
A41: эл.потребления и т.д.) последние необходимо перечислить.
A42: Главный инженер АО "Вологдаоблэнерго" А.В. Чурляев
A43: составляется самим предприятием с соблюдением всех пунктов настоящей таблицы.

Sheet 50-1
B1: АО "Вологдаоблэнерго" | J1: код 900151 | N1: РТП "КОРНИЛОВО" 35/10 кВ
B2: наименование предприятия | N2: наименование источника питания
B3: уч-к "Устье-Кубенское" | N3: _________________________________
B4: ул. Горького, 99 | I4: Таблица № 1
B5: адрес
A6: почасовых записей показаний электрических счетчиков
A7: в режимный день 21 ДЕКАБРЯ 2022 г.
A8: 389 | B8: 388
A9: часы суток | B9: Активная энергия | J9: Реактивная энергия
B10: ф.7 - КТП-21 | F10: ф.7 - КТП-16 | J10: ф.7 - КТП-21 | N10: ф.7 - КТП-16
B11: Расчет. Коэф. | E11: 30 | F11: Расчет. Коэф. | I11: 40 | J11: Расчет. Коэф. | M11: =E11 -> 30 | N11: Расчет. Коэф. | Q11: 40
B12: показания счетчика | C12: разность | E12: расход эл.энергии за час | F12: показания счетчика | G12: разность | I12: расход эл.энергии за час | J12: показания счетчика | K12: разность | M12: расход эл.энергии за час | N12: показания счетчика | O12: разность | Q12: расход эл.энергии за час
A13: 1 | B13: 2 | C13: 3 | E13: 4 | F13: 5 | G13: 6 | I13: 7 | J13: 8 | K13: 9 | M13: 10 | N13: 11 | O13: 12 | Q13: 13
A14: 0
A15: 1 | E15: 28.515 | I15: 7.8 | M15: 9.945 | Q15: 3.04
A16: 2 | E16: 26.1 | I16: 7.88 | M16: 9.345 | Q16: 3.1
A17: 3 | E17: 26.7 | I17: 7.66 | M17: 9.03 | Q17: 3.24
A18: 4 | E18: 26.58 | I18: 8.22 | M18: 9.39 | Q18: 2.86
A19: 5 | E19: 26.205 | I19: 7.94 | M19: 8.97 | Q19: 2.96
A20: 6 | E20: 27.885 | I20: 8.14 | M20: 9.09 | Q20: 2.84
A21: 7 | E21: 31.485 | I21: 9.1 | M21: 9.855 | Q21: 3.34
A22: 8 | E22: 38.88 | I22: 9.7 | M22: 9.24 | Q22: 2.86
A23: 9 | E23: 33.615 | I23: 11.76 | M23: 8.88 | Q23: 3.2
A24: 10 | E24: 31.605 | I24: 8.7 | M24: 10.335 | Q24: 2.66
A25: 11 | E25: 31.485 | I25: 8.18 | M25: 10.455 | Q25: 3.06
A26: 12 | E26: 33.015 | I26: 8.24 | M26: 10.245 | Q26: 3.02
... A38: 24 | E38: 29.01 | I38: 8.58 | M38: 9.24 | Q38: 2.84
A39: Итого | E39: =SUM(E15:E38) -> 782.19 | I39: =SUM(I15:I38) -> 230.22 | M39: =SUM(M15:M38) -> 237.42 | Q39: =SUM(Q15:Q38) -> 76.42
A40: 1. При наличии на предприятии отклонений от нормальных режимов электропотребления (временное изменение схем питания, остановка на ремонт, резкое снижение
A41: эл.потребления и т.д.) последние необходимо перечислить.
A42: Главный инженер АО "Вологдаоблэнерго" А.В. Чурляев
A43: составляется самим предприятием с соблюдением всех пунктов настоящей таблицы.

Sheet 50-2
B1: АО "Вологдаоблэнерго" | J1: код 900151 | N1: РТП "КОРНИЛОВО" 35/10 кВ
B2: наименование предприятия | N2: наименование источника питания
B3: уч-к "Устье-Кубенское" | N3: _________________________________
B4: ул. Горького, 99 | I4: Таблица № 1
B5: адрес
A6: почасовых записей показаний электрических счетчиков
A7: в режимный день 21 ДЕКАБРЯ 2022 г.
A8: 390 | B8: 391
A9: часы суток | B9: Активная энергия | J9: Реактивная энергия
B10: ф.7 - КТП-4 | F10: ф.14 - ТП-24 | J10: ф.7 - КТП-4 | N10: ф.14 - ТП-24
B11: Расчет. Коэф. | E11: 60 | F11: Расчет. Коэф. | I11: 40 | J11: Расчет. Коэф. | M11: =E11 -> 60 | N11: Расчет. Коэф. | Q11: 40
B12: показания счетчика | C12: разность | E12: расход эл.энергии за час | F12: показания счетчика | G12: разность | I12: расход эл.энергии за час | J12: показания счетчика | K12: разность | M12: расход эл.энергии за час | N12: показания счетчика | O12: разность | Q12: расход эл.энергии за час
A13: 1 | B13: 2 | C13: 3 | E13: 4 | F13: 5 | G13: 6 | I13: 7 | J13: 8 | K13: 9 | M13: 10 | N13: 11 | O13: 12 | Q13: 13
A14: 0
A15: 1 | E15: 6.48 | I15: 47.032 | M15: 0 | Q15: 0
A16: 2 | E16: 6.744 | I16: 42.096 | M16: 0 | Q16: 0
A17: 3 | E17: 6.048 | I17: 41.472 | M17: 0 | Q17: 0
A18: 4 | E18: 6.468 | I18: 38.048 | M18: 0 | Q18: 0
A19: 5 | E19: 6.168 | I19: 35.648 | M19: 0 | Q19: 0
A20: 6 | E20: 6.288 | I20: 33.736 | M20: 0 | Q20: 0
A21: 7 | E21: 6.384 | I21: 35.928 | M21: 0 | Q21: 0
A22: 8 | E22: 6.156 | I22: 39.672 | M22: 0 | Q22: 0
A23: 9 | E23: 5.376 | I23: 36.168 | M23: 0 | Q23: 0
A24: 10 | E24: 5.616 | I24: 31.72 | M24: 0 | Q24: 0
A25: 11 | E25: 6.036 | I25: 34.672 | M25: 0 | Q25: 0
A26: 12 | E26: 4.728 | I26: 33.704 | M26: 0 | Q26: 0
... A38: 24 | E38: 6.144 | I38: 45.944 | M38: 0 | Q38: 0
A39: Итого | E39: =SUM(E15:E38) -> 148.152 | I39: =SUM(I15:I38) -> 1006.848 | M39: =SUM(M15:M38) -> 0 | Q39: =SUM(Q15:Q38) -> 0
A40: 1. При наличии на предприятии отклонений от нормальных режимов электропотребления (временное изменение схем питания, остановка на ремонт, резкое снижение
A41: эл.потребления и т.д.) последние необходимо перечислить.
A42: Главный инженер АО "Вологдаоблэнерго" А.В. Чурляев
A43: составляется самим предприятием с соблюдением всех пунктов настоящей таблицы.

Sheet 50-3
B1: АО "Вологдаоблэнерго" | J1: код 900151 | N1: РТП "КОРНИЛОВО" 35/10 кВ
B2: наименование предприятия | N2: наименование источника питания
B3: уч-к "Устье-Кубенское" | N3: _________________________________
B4: ул. Горького, 99 | I4: Таблица № 1
B5: адрес
A6: почасовых записей показаний электрических счетчиков
A7: в режимный день 21 ДЕКАБРЯ 2022 г.
A8: 816 | B8: 907
A9: часы суток | B9: Активная энергия | J9: Реактивная энергия
B10: ф.1 - КТП-36 | F10: ф.7 - КТП25 | J10: ф.1 - КТП-36 | N10: ф.7 - ТП-25
B11: Расчет. Коэф. | E11: 60 | F11: Расчет. Коэф. | I11: 40 | J11: Расчет. Коэф. | M11: =E11 -> 60 | N11: Расчет. Коэф. | Q11: 40
B12: показания счетчика | C12: разность | E12: расход эл.энергии за час | F12: показания счетчика | G12: разность | I12: расход эл.энергии за час | J12: показания счетчика | K12: разность | M12: расход эл.энергии за час | N12: показания счетчика | O12: разность | Q12: расход эл.энергии за час
A13: 1 | B13: 2 | C13: 3 | E13: 4 | F13: 5 | G13: 6 | I13: 7 | J13: 8 | K13: 9 | M13: 10 | N13: 11 | O13: 12 | Q13: 13
A14: 0
A15: 1 | I15: 18.848 | Q15: 0
A16: 2 | I16: 18.776 | Q16: 0
A17: 3 | I17: 19.088 | Q17: 0
A18: 4 | I18: 20.64 | Q18: 0
A19: 5 | I19: 22.896 | Q19: 0
A20: 6 | I20: 26.688 | Q20: 0
A21: 7 | I21: 27.256 | Q21: 0
A22: 8 | I22: 24.624 | Q22: 0
A23: 9 | I23: 18.088 | Q23: 0
A24: 10 | I24: 20.08 | Q24: 0
A25: 11 | I25: 23.992 | Q25: 0
A26: 12 | I26: 22.696 | Q26: 0
... A38: 24 | I38: 19.352 | Q38: 0
A39: Итого | E39: =SUM(E15:E38) -> 0 | I39: =SUM(I15:I38) -> 519.216 | M39: =SUM(M15:M38) -> 0 | Q39: =SUM(Q15:Q38) -> 0
A40: 1. При наличии на предприятии отклонений от нормальных режимов электропотребления (временное изменение схем питания, остановка на ремонт, резкое снижение
A41: эл.потребления и т.д.) последние необходимо перечислить.
A42: Главный инженер АО "Вологдаоблэнерго" А.В. Чурляев
A43: составляется самим предприятием с соблюдением всех пунктов настоящей таблицы.

Sheet 51
B1: АО "Вологдаоблэнерго" | J1: код 900151 | N1: ПС "ШУЙСКОЕ" 35/ 10 кВ
B2: наименование предприятия | N2: наименование источника питания
B3: уч-к "Шуйское" | N3: _________________________________
B4: ул. Горького, 99 | I4: Таблица № 1
B5: адрес
A6: почасовых записей показаний электрических счетчиков
A7: в режимный день 21 ДЕКАБРЯ 2022 г.
A8: 1643
A9: часы суток | B9: Активная энергия | J9: Реактивная энергия
B10: яч.№ 16 - ф. "Биокомплекс" | J10: яч.№ 16 - ф. "Биокомплекс"
B11: Расчет. Коэф. | E11: 1000 | F11: Расчет. Коэф. | I11: 10 | J11: Расчет. Коэф. | M11: =E11 -> 1000 | N11: Расчет. Коэф. | Q11: 10
B12: показания счетчика | C12: разность | E12: расход эл.энергии за час | F12: показания счетчика | G12: разность | I12: расход эл.энергии за час | J12: показания счетчика | K12: разность | M12: расход эл.энергии за час | N12: показания счетчика | O12: разность | Q12: расход эл.энергии за час
A13: 1 | B13: 2 | C13: 3 | E13: 4 | F13: 5 | G13: 6 | I13: 7 | J13: 8 | K13: 9 | M13: 10 | N13: 11 | O13: 12 | Q13: 13
A14: 0
A15: 1 | E15: 2 | M15: 3
A16: 2 | E16: 2 | M16: 2
A17: 3 | E17: 2 | M17: 3
A18: 4 | E18: 2 | M18: 2
A19: 5 | E19: 2 | M19: 3
A20: 6 | E20: 2 | M20: 2
A21: 7 | E21: 2 | M21: 3
A22: 8 | E22: 3 | M22: 2
A23: 9 | E23: 2 | M23: 2
A24: 10 | E24: 2 | M24: 2
A25: 11 | E25: 1 | M25: 3
A26: 12 | E26: 2 | M26: 2
... A38: 24 | E38: 2 | M38: 2
A39: Итого | E39: =SUM(E15:E38) -> 49 | I39: =SUM(I15:I38) -> 0 | M39: =SUM(M15:M38) -> 57
A40: 1. При наличии на предприятии отклонений от нормальных режимов электропотребления (временное изменение схем питания, остановка на ремонт, резкое снижение
A41: эл.потребления и т.д.) последние необходимо перечислить.
A42: Главный инженер АО "Вологдаоблэнерго" А.В. Чурляев
A43: составляется самим предприятием с соблюдением всех пунктов настоящей таблицы.

Sheet 52
B1: АО "Вологдаоблэнерго" | J1: код 900151 | N1: ПС "ШУЙСКОЕ" 35/ 10 кВ
B2: наименование предприятия | N2: наименование источника питания
B3: уч-к "Шуйское" | N3: _________________________________
B4: ул. Горького, 99 | I4: Таблица № 1
B5: адрес
A6: почасовых записей показаний электрических счетчиков
A7: в режимный день 21 ДЕКАБРЯ 2022 г.
A8: 1641 | B8: 1642
A9: часы суток | B9: Активная энергия | J9: Реактивная энергия
B10: яч. №7 - ф."Райцентр" | F10: яч. 14 - ф. "Школа" | J10: яч. №7 - ф."Райцентр" | N10: =F10 -> яч. 14 - ф. "Школа"
B11: Расчет. Коэф. | E11: 1500 | F11: Расчет. Коэф. | I11: 2000 | J11: Расчет. Коэф. | M11: =E11 -> 1500 | N11: Расчет. Коэф. | Q11: 2000
B12: показания счетчика | C12: разность | E12: расход эл.энергии за час | F12: показания счетчика | G12: разность | I12: расход эл.энергии за час | J12: показания счетчика | K12: разность | M12: расход эл.энергии за час | N12: показания счетчика | O12: разность | Q12: расход эл.энергии за час
A13: 1 | B13: 2 | C13: 3 | E13: 4 | F13: 5 | G13: 6 | I13: 7 | J13: 8 | K13: 9 | M13: 10 | N13: 11 | O13: 12 | Q13: 13
A14: 0
A15: 1 | E15: 188 | I15: 338 | M15: 61 | Q15: 118
A16: 2 | E16: 180 | I16: 321 | M16: 61 | Q16: 117
A17: 3 | E17: 173 | I17: 315 | M17: 60 | Q17: 112
A18: 4 | E18: 172 | I18: 312 | M18: 60 | Q18: 115
A19: 5 | E19: 172 | I19: 340 | M19: 59 | Q19: 113
A20: 6 | E20: 183 | I20: 362 | M20: 60 | Q20: 111
A21: 7 | E21: 215 | I21: 412 | M21: 60 | Q21: 113
A22: 8 | E22: 267 | I22: 486 | M22: 58 | Q22: 114
A23: 9 | E23: 273 | I23: 496 | M23: 59 | Q23: 108
A24: 10 | E24: 246 | I24: 474 | M24: 59 | Q24: 98
A25: 11 | E25: 253 | I25: 458 | M25: 68 | Q25: 99
A26: 12 | E26: 245 | I26: 471 | M26: 65 | Q26: 106
... A38: 24 | E38: 198 | I38: 334 | M38: 56 | Q38: 109
A39: Итого | E39: =SUM(E15:E38) -> 5497 | I39: =SUM(I15:I38) -> 10148 | M39: =SUM(M15:M38) -> 1465 | Q39: =SUM(Q15:Q38) -> 2660
A40: 1. При наличии на предприятии отклонений от нормальных режимов электропотребления (временное изменение схем питания, остановка на ремонт, резкое снижение
A41: эл.потребления и т.д.) последние необходимо перечислить.
A42: Главный инженер АО "Вологдаоблэнерго" А.В. Чурляев
A43: составляется самим предприятием с соблюдением всех пунктов настоящей таблицы.

Sheet 54
B1: АО "Вологдаоблэнерго" | J1: код 900151 | N1: ПС "ГДЗ" 110/6 кВ
B2: наименование предприятия | N2: наименование источника питания
B3: уч -к г. Сокол | N3: _________________________________
B4: ул. Горького, 99 | I4: Таблица № 1 | O4: РТП 6
B5: адрес
A6: почасовых записей показаний электрических счетчиков
A7: в режимный день 21 ДЕКАБРЯ 2022 г.
A8: 358 | B8: 360
A9: часы суток | B9: Активная энергия | J9: Реактивная энергия
B10: яч. 7 - ГДЗ-1 -РТП 6 | F10: яч. 18 - ГДЗ-2 - РТП 6 | J10: яч. 7 - ГДЗ-1 -РТП 6 | N10: яч. 18 - ГДЗ-2 - РТП 6
B11: Расчет. Коэф. | E11: 4800 | F11: Расчет. Коэф. | I11: 4800 | J11: Расчет. Коэф. | M11: 4800 | N11: Расчет. Коэф. | Q11: =I11 -> 4800
B12: показания счетчика | C12: разность | E12: расход эл.энергии за час | F12: показания счетчика | G12: разность | I12: расход эл.энергии за час | J12: показания счетчика | K12: разность | M12: расход эл.энергии за час | N12: показания счетчика | O12: разность | Q12: расход эл.энергии за час
A13: 1 | B13: 2 | C13: 3 | E13: 4 | F13: 5 | G13: 6 | I13: 7 | J13: 8 | K13: 9 | M13: 10 | N13: 11 | O13: 12 | Q13: 13
A14: 0
A15: 1 | E15: 577.92 | I15: 379.2 | M15: 249.12 | Q15: 85.92
A16: 2 | E16: 573.6 | I16: 372.48 | M16: 247.68 | Q16: 87.84
A17: 3 | E17: 563.04 | I17: 374.4 | M17: 235.2 | Q17: 88.32
A18: 4 | E18: 551.04 | I18: 360.96 | M18: 240 | Q18: 83.52
A19: 5 | E19: 564 | I19: 367.2 | M19: 223.2 | Q19: 82.08
A20: 6 | E20: 595.68 | I20: 378.72 | M20: 214.56 | Q20: 86.88
A21: 7 | E21: 627.36 | I21: 443.52 | M21: 225.6 | Q21: 89.76
A22: 8 | E22: 656.64 | I22: 513.6 | M22: 221.76 | Q22: 94.56
A23: 9 | E23: 811.2 | I23: 537.6 | M23: 330.72 | Q23: 100.32
A24: 10 | E24: 798.24 | I24: 557.76 | M24: 344.64 | Q24: 103.68
A25: 11 | E25: 742.56 | I25: 562.08 | M25: 306.24 | Q25: 101.28
A26: 12 | E26: 784.8 | I26: 562.56 | M26: 332.16 | Q26: 106.56
... A38: 24 | E38: 561.6 | I38: 425.28 | M38: 222.72 | Q38: 83.04
A39: Итого | E39: =SUM(E15:E38) -> 16740 | I39: =SUM(I15:I38) -> 12242.4 | M39: =SUM(M15:M38) -> 6320.16 | Q39: =SUM(Q15:Q38) -> 2340
A40: 1. При наличии на предприятии отклонений от нормальных режимов электропотребления (временное изменение схем питания, остановка на ремонт, резкое снижение
A41: эл.потребления и т.д.) последние необходимо перечислить.
A42: Главный инженер АО "Вологдаоблэнерго" А.В. Чурляев
A43: составляется самим предприятием с соблюдением всех пунктов настоящей таблицы.

Sheet 55
B1: АО "Вологдаоблэнерго" | J1: код 900151 | N1: ПС "ГДЗ" 110/6 кВ
B2: наименование предприятия | N2: наименование источника питания
B3: уч -к г. Сокол | N3: _________________________________
B4: ул. Горького, 99 | I4: Таблица № 1 | O4: ЛПК-1
B5: адрес
A6: почасовых записей показаний электрических счетчиков
A7: в режимный день 21 ДЕКАБРЯ 2022 г.
A8: 359
A9: часы суток | B9: Активная энергия | J9: Реактивная энергия
B10: яч. 15 - ГДЗ - ЛПК-1 | J10: яч. 15 - ГДЗ - ЛПК-1
B11: Расчет. Коэф. | E11: 7200 | F11: Расчет. Коэф. | J11: Расчет. Коэф. | M11: =E11 -> 7200 | N11: Расчет. Коэф.
B12: показания счетчика | C12: разность | E12: расход эл.энергии за час | F12: показания счетчика | G12: разность | I12: расход эл.энергии за час | J12: показания счетчика | K12: разность | M12: расход эл.энергии за час | N12: показания счетчика | O12: разность | Q12: расход эл.энергии за час
A13: 1 | B13: 2 | C13: 3 | E13: 4 | F13: 5 | G13: 6 | I13: 7 | J13: 8 | K13: 9 | M13: 10 | N13: 11 | O13: 12 | Q13: 13
A14: 0
A15: 1 | E15: 530.64 | M15: 149.04
A16: 2 | E16: 516.24 | M16: 162
A17: 3 | E17: 516.24 | M17: 156.24
A18: 4 | E18: 511.2 | M18: 156.24
A19: 5 | E19: 489.6 | M19: 144.72
A20: 6 | E20: 542.16 | M20: 141.12
A21: 7 | E21: 609.12 | M21: 136.8
A22: 8 | E22: 661.68 | M22: 140.4
A23: 9 | E23: 738.72 | M23: 184.32
A24: 10 | E24: 765.36 | M24: 188.64
A25: 11 | E25: 793.44 | M25: 182.16
A26: 12 | E26: 777.6 | M26: 190.8
... A38: 24 | E38: 548.64 | M38: 128.16
A39: Итого | E39: =SUM(E15:E38) -> 15980.4 | M39: =SUM(M15:M38) -> 3800.16
A40: 1. При наличии на предприятии отклонений от нормальных режимов электропотребления (временное изменение схем питания, остановка на ремонт, резкое снижение
A41: эл.потребления и т.д.) последние необходимо перечислить.
A42: Главный инженер АО "Вологдаоблэнерго" А.В. Чурляев
A43: составляется самим предприятием с соблюдением всех пунктов настоящей таблицы.

Sheet 55-1
B1: АО "Вологдаоблэнерго" | J1: код 900151 | N1: ПС 110/10/10кВ ИП Сокол
B2: наименование предприятия | N2: наименование источника питания
B3: уч -к г. Сокол | N3: _________________________________
B4: ул. Горького, 99 | I4: Таблица № 1
B5: адрес
A6: почасовых записей показаний электрических счетчиков
A7: в режимный день 21 ДЕКАБРЯ 2022 г.
A8: 359
A9: часы суток | B9: Активная энергия | J9: Реактивная энергия
B10: Ввод 1 Очистные 1 | F10: Ввод 2 Очистные 2 | J10: Ввод 1 Очистные 1 | N10: Ввод 2 Очистные 2
B11: Расчет. Коэф. | E11: 66000 | F11: Расчет. Коэф. | I11: 66000 | J11: Расчет. Коэф. | M11: 66000 | N11: Расчет. Коэф. | Q11: 66000
B12: показания счетчика | C12: разность | E12: расход эл.энергии за час | F12: показания счетчика | G12: разность | I12: расход эл.энергии за час | J12: показания счетчика | K12: разность | M12: расход эл.энергии за час | N12: показания счетчика | O12: разность | Q12: расход эл.энергии за час
A13: 1 | B13: 2 | C13: 3 | E13: 4 | F13: 5 | G13: 6 | I13: 7 | J13: 8 | K13: 9 | M13: 10 | N13: 11 | O13: 12 | Q13: 13
A14: 0
A15: 1 | E15: 295.5431 | I15: 252.0271 | M15: 257.1332 | Q15: 201.1188
A16: 2 | E16: 303.9263 | I16: 250.1219 | M16: 256.3711 | Q16: 202.1857
A17: 3 | E17: 299.5061 | I17: 251.4174 | M17: 244.4062 | Q17: 195.1743
A18: 4 | E18: 294.7048 | I18: 251.1126 | M18: 250.6554 | Q18: 198.0703
A19: 5 | E19: 305.4505 | I19: 251.4174 | M19: 251.3413 | Q19: 195.3267
A20: 6 | E20: 300.4206 | I20: 249.2835 | M20: 241.6625 | Q20: 188.2392
A21: 7 | E21: 301.7162 | I21: 251.4175 | M21: 255.3803 | Q21: 197.4606
A22: 8 | E22: 305.6029 | I22: 251.5699 | M22: 237.3947 | Q22: 184.886
A23: 9 | E23: 643.6714 | I23: 354.6061 | M23: 667.7538 | Q23: 185.5718
A24: 10 | E24: 876.4173 | I24: 432.9502 | M24: 999.3443 | Q24: 220.8572
A25: 11 | E25: 698.1617 | I25: 432.7977 | M25: 734.1329 | Q25: 225.5822
A26: 12 | E26: 861.9374 | I26: 429.1397 | M26: 972.747 | Q26: 230.0786
... A38: 24 | E38: 298.2867 | I38: 264.1445 | M38: 206.301 | Q38: 169.1867
A39: Итого | E39: =SUM(E15:E38) -> 11449.44 | I39: =SUM(I15:I38) -> 7956.726 | M39: =SUM(M15:M38) -> 11008.868 | Q39: =SUM(Q15:Q38) -> 4965.7044
A40: 1. При наличии на предприятии отклонений от нормальных режимов электропотребления (временное изменение схем питания, остановка на ремонт, резкое снижение
A41: эл.потребления и т.д.) последние необходимо перечислить.
A42: Главный инженер АО "Вологдаоблэнерго" А.В. Чурляев
A43: составляется самим предприятием с соблюдением всех пунктов настоящей таблицы.

Sheet 56
B1: АО "Вологдаоблэнерго" | J1: код 900151 | M1: ОАО "Сокольский" ЦБК" ТП 35/6 кВ
B2: наименование предприятия | M2: наименование источника питания
B3: уч -к г. Сокол | N3: _________________________________
B4: ул. Горького, 99 | I4: Таблица № 1 | O4: РП 5
B5: адрес
A6: почасовых записей показаний электрических счетчиков
A7: в режимный день 21 ДЕКАБРЯ 2022 г.
A8: 400 | B8: 397
A9: часы суток | B9: Активная энергия | J9: Реактивная энергия
B10: яч.4 - РП 5 яч.1 | F10: яч. 6 - ТП-40 | J10: яч.4 - РП 5 яч.1 | N10: яч. 6 - ТП-40
B11: Расчет. Коэф. | E11: 2400 | F11: Расчет. Коэф. | I11: 7200 | J11: Расчет. Коэф. | M11: =E11 -> 2400 | N11: Расчет. Коэф. | Q11: =I11 -> 7200
B12: показания счетчика | C12: разность | E12: расход эл.энергии за час | F12: показания счетчика | G12: разность | I12: расход эл.энергии за час | J12: показания счетчика | K12: разность | M12: расход эл.энергии за час | N12: показания счетчика | O12: разность | Q12: расход эл.энергии за час
A13: 1 | B13: 2 | C13: 3 | E13: 4 | F13: 5 | G13: 6 | I13: 7 | J13: 8 | K13: 9 | M13: 10 | N13: 11 | O13: 12 | Q13: 13
A14: 0
A15: 1 | E15: 184.56 | I15: 451.44 | M15: 49.44 | Q15: 144
A16: 2 | E16: 160.32 | I16: 418.32 | M16: 37.92 | Q16: 141.84
A17: 3 | E17: 142.32 | I17: 396 | M17: 30 | Q17: 137.52
A18: 4 | E18: 147.84 | I18: 391.68 | M18: 35.52 | Q18: 138.96
A19: 5 | E19: 157.92 | I19: 421.2 | M19: 41.52 | Q19: 136.8
A20: 6 | E20: 155.04 | I20: 460.8 | M20: 30.96 | Q20: 139.68
A21: 7 | E21: 211.44 | I21: 586.8 | M21: 38.88 | Q21: 151.2
A22: 8 | E22: 245.04 | I22: 693.36 | M22: 41.28 | Q22: 160.56
A23: 9 | E23: 285.36 | I23: 772.56 | M23: 54.24 | Q23: 171.36
A24: 10 | E24: 259.2 | I24: 812.16 | M24: 38.88 | Q24: 172.8
A25: 11 | E25: 290.88 | I25: 807.84 | M25: 42.96 | Q25: 174.24
A26: 12 | E26: 287.28 | I26: 768.24 | M26: 57.36 | Q26: 174.96
... A38: 24 | E38: 197.52 | I38: 505.44 | M38: 46.32 | Q38: 143.28
A39: Итого | E39: =SUM(E15:E38) -> 5792.64 | I39: =SUM(I15:I38) -> 15588.72 | M39: =SUM(M15:M38) -> 1091.52 | Q39: =SUM(Q15:Q38) -> 3832.56
A40: 1. При наличии на предприятии отклонений от нормальных режимов электропотребления (временное изменение схем питания, остановка на ремонт, резкое снижение
A41: эл.потребления и т.д.) последние необходимо перечислить.
A42: Главный инженер АО "Вологдаоблэнерго" А.В. Чурляев
A43: составляется самим предприятием с соблюдением всех пунктов настоящей таблицы.

Sheet 57
B1: АО "Вологдаоблэнерго" | J1: код 900151 | M1: ОАО "Сокольский" ЦБК" ГПП 35/6 кВ
B2: наименование предприятия | M2: наименование источника питания
B3: уч -к г. Сокол | N3: _________________________________
B4: ул. Горького, 99 | I4: Таблица № 1
B5: адрес
A6: почасовых записей показаний электрических счетчиков
A7: в режимный день 21 ДЕКАБРЯ 2022 г.
A8: 398 | B8: 399
A9: часы суток | B9: Активная энергия | J9: Реактивная энергия
B10: яч.2 - РТП 2 яч. 15 | F10: яч. 3 - РТП 2 яч. 2 | J10: яч.2 - РТП 2 яч. 15 | N10: яч. 3 - РТП 2 яч. 2
B11: Расчет. Коэф. | E11: 7200 | F11: Расчет. Коэф. | I11: =Q11 -> 7200 | J11: Расчет. Коэф. | M11: =E11 -> 7200 | N11: Расчет. Коэф. | Q11: 7200
B12: показания счетчика | C12: разность | E12: расход эл.энергии за час | F12: показания счетчика | G12: разность | I12: расход эл.энергии за час | J12: показания счетчика | K12: разность | M12: расход эл.энергии за час | N12: показания счетчика | O12: разность | Q12: расход эл.энергии за час
B13: 2 | C13: 3 | E13: 4 | F13: 5 | G13: 6 | I13: 7 | J13: 8 | K13: 9 | M13: 10 | N13: 11 | O13: 12 | Q13: 13
A14: 0
A15: 1 | E15: 701.28 | I15: 1072.8 | M15: 385.92 | Q15: 334.08
A16: 2 | E16: 698.4 | I16: 1002.24 | M16: 387.36 | Q16: 331.92
A17: 3 | E17: 694.8 | I17: 964.8 | M17: 382.32 | Q17: 324
A18: 4 | E18: 694.08 | I18: 962.64 | M18: 385.92 | Q18: 323.28
A19: 5 | E19: 692.64 | I19: 991.44 | M19: 382.32 | Q19: 322.56
A20: 6 | E20: 696.24 | I20: 1068.48 | M20: 383.04 | Q20: 318.24
A21: 7 | E21: 709.92 | I21: 1232.64 | M21: 384.48 | Q21: 320.4
A22: 8 | E22: 759.6 | I22: 1370.88 | M22: 383.04 | Q22: 326.16
A23: 9 | E23: 827.28 | I23: 1612.08 | M23: 377.28 | Q23: 331.2
A24: 10 | E24: 831.6 | I24: 1917.36 | M24: 371.52 | Q24: 372.24
A25: 11 | E25: 828 | I25: 2021.76 | M25: 370.08 | Q25: 419.04
A26: 12 | E26: 819.36 | I26: 1959.12 | M26: 368.64 | Q26: 406.08
... A38: 24 | E38: 687.6 | I38: 1203.12 | M38: 358.56 | Q38: 318.24
A39: Итого | E39: =SUM(E15:E38) -> 18020.88 | I39: =SUM(I15:I38) -> 36969.12 | M39: =SUM(M15:M38) -> 8966.88 | Q39: =SUM(Q15:Q38) -> 8362.08
A40: 1. При наличии на предприятии отклонений от нормальных режимов электропотребления (временное изменение схем питания, остановка на ремонт, резкое снижение
A41: эл.потребления и т.д.) последние необходимо перечислить.
A42: Главный инженер АО "Вологдаоблэнерго" А.В. Чурляев
A43: составляется самим предприятием с соблюдением всех пунктов настоящей таблицы.

Sheet 58
B1: АО "Вологдаоблэнерго" | J1: код 900151 | M1: ПС "Сокол" 220/110/35/10 кВ
B2: наименование предприятия | M2: наименование источника питания
B3: уч -к г. Сокол | N3: ф. Обросово | O3: КТП-90, КТП-91
B4: ул. Горького, 99 | I4: Таблица № 1
B5: адрес
A6: почасовых записей показаний электрических счетчиков
A7: в режимный день 21 ДЕКАБРЯ 2022 г.
A8: 396 | B8: 395
A9: часы суток | B9: Активная энергия | J9: Реактивная энергия
B10: ф. 4 (Обросово) - КТП-90 (дачн. общ.) | F10: ф. 4 (Обросово) - КТП-91 (д. Бережок) | J10: =B10 -> ф. 4 (Обросово) - КТП-90 (дачн. общ.) | N10: =F10 -> ф. 4 (Обросово) - КТП-91 (д. Бережок)
B11: Расчет. Коэф. | E11: 1800 | F11: Расчет. Коэф. | I11: =Q11 -> 900 | J11: Расчет. Коэф. | M11: =E11 -> 1800 | N11: Расчет. Коэф. | Q11: 900
B12: показания счетчика | C12: разность | E12: расход эл.энергии за час | F12: показания счетчика | G12: разность | I12: расход эл.энергии за час | J12: показания счетчика | K12: разность | M12: расход эл.энергии за час | N12: показания счетчика | O12: разность | Q12: расход эл.энергии за час
A13: 1 | B13: 2 | C13: 3 | E13: 4 | F13: 5 | G13: 6 | I13: 7 | J13: 8 | K13: 9 | M13: 10 | N13: 11 | O13: 12 | Q13: 13
A14: 0
A15: 1 | E15: 1.38 | I15: 10.12 | M15: 0 | Q15: 1.49
A16: 2 | E16: 1.68 | I16: 10.05 | M16: 0 | Q16: 1.48
A17: 3 | E17: 1.98 | I17: 8.81 | M17: 0 | Q17: 0.31
A18: 4 | E18: 1.9 | I18: 8.77 | M18: 0 | Q18: 0.26
A19: 5 | E19: 2.08 | I19: 8.78 | M19: 0 | Q19: 0.38
A20: 6 | E20: 1.82 | I20: 10.11 | M20: 0 | Q20: 1.45
A21: 7 | E21: 2 | I21: 11.32 | M21: 0 | Q21: 1.5
A22: 8 | E22: 1.62 | I22: 11.67 | M22: 0 | Q22: 1.38
A23: 9 | E23: 0.76 | I23: 12.37 | M23: 0 | Q23: 0.93
A24: 10 | E24: 0.54 | I24: 8.95 | M24: 0 | Q24: 0.26
A25: 11 | E25: 0.64 | I25: 9.31 | M25: 0 | Q25: 0.26
A26: 12 | E26: 2.6 | I26: 9.17 | M26: 0 | Q26: 0.28
... A38: 24 | E38: 0.4 | I38: 13.64 | M38: 0 | Q38: 1.47
A39: Итого | E39: =SUM(E15:E38) -> 30.98 | I39: =SUM(I15:I38) -> 257.99 | M39: =SUM(M15:M38) -> 0 | Q39: =SUM(Q15:Q38) -> 23.14
A40: 1. При наличии на предприятии отклонений от нормальных режимов электропотребления (временное изменение схем питания, остановка на ремонт, резкое снижение
A41: эл.потребления и т.д.) последние необходимо перечислить.
A42: Главный инженер АО "Вологдаоблэнерго" А.В. Чурляев
A43: составляется самим предприятием с соблюдением всех пунктов настоящей таблицы.

Sheet 58-1
B1: АО "Вологдаоблэнерго" | J1: код 900151 | M1: ПС "Сокол" 220/110/35/10 кВ
B2: наименование предприятия | M2: наименование источника питания
B3: уч -к г. Сокол | N3: ф. Новое | O3: ТП-121
B4: ул. Горького, 99 | I4: Таблица № 1
B5: адрес
A6: почасовых записей показаний электрических счетчиков
A7: в режимный день 21 ДЕКАБРЯ 2022 г.
A8: 396 | B8: 395
A9: часы суток | B9: Активная энергия | J9: Реактивная энергия
B10: ф. Новое - ТП-121 | J10: =B10 -> ф. Новое - ТП-121 | N10: =F10 -> 0
B11: Расчет. Коэф. | F11: Расчет. Коэф. | J11: Расчет. Коэф. | M11: =E11 -> 0 | N11: Расчет. Коэф.
B12: показания счетчика | C12: разность | E12: расход эл.энергии за час | F12: показания счетчика | G12: разность | I12: расход эл.энергии за час | J12: показания счетчика | K12: разность | M12: расход эл.энергии за час | N12: показания счетчика | O12: разность | Q12: расход эл.энергии за час
A13: 1 | B13: 2 | C13: 3 | E13: 4 | F13: 5 | G13: 6 | I13: 7 | J13: 8 | K13: 9 | M13: 10 | N13: 11 | O13: 12 | Q13: 13
A14: 0
A15: 1 | E15: 17.76 | M15: 15.34
A16: 2 | E16: 17.66 | M16: 15.3
A17: 3 | E17: 17.68 | M17: 15.18
A18: 4 | E18: 17.72 | M18: 15.22
A19: 5 | E19: 17.6 | M19: 15.1
A20: 6 | E20: 17.72 | M20: 15.22
A21: 7 | E21: 17.92 | M21: 15.18
A22: 8 | E22: 17.82 | M22: 14.86
A23: 9 | E23: 13.88 | M23: 10.64
A24: 10 | E24: 1.84 | M24: 0
A25: 11 | E25: 1.76 | M25: 0
A26: 12 | E26: 1.84 | M26: 0
... A38: 24 | E38: 17.2 | M38: 14.46
A39: Итого | E39: =SUM(E15:E38) -> 311.58 | I39: =SUM(I15:I38) -> 0 | M39: =SUM(M15:M38) -> 251.06 | Q39: =SUM(Q15:Q38) -> 0
A40: 1. При наличии на предприятии отклонений от нормальных режимов электропотребления (временное изменение схем питания, остановка на ремонт, резкое снижение
A41: эл.потребления и т.д.) последние необходимо перечислить.
A42: Главный инженер АО "Вологдаоблэнерго" А.В. Чурляев
A43: составляется самим предприятием с соблюдением всех пунктов настоящей таблицы.

Sheet 59
B1: АО "Вологдаоблэнерго" | J1: код 900151 | K1: ООО "Сокольский ЦБК" ГПП 110/6 кВ
B2: наименование предприятия | N2: наименование источника питания
B3: уч -к г. Сокол | N3: _________________________________
B4: ул. Горького, 99 | I4: Таблица № 1 | N4: ТП 77
B5: адрес
A6: почасовых записей показаний электрических счетчиков
A7: в режимный день 21 ДЕКАБРЯ 2022 г.
A8: 487
A9: часы суток | B9: Активная энергия | J9: Реактивная энергия
B10: яч. 14 - ТП-77 (Михайлево) | J10: яч. 14 - ТП-77 (Михайлево)
B11: Расчет. Коэф. | E11: 2400 | F11: Расчет. Коэф. | I11: 0 | J11: Расчет. Коэф. | M11: 2400 | N11: Расчет. Коэф. | Q11: 0
B12: показания счетчика | C12: разность | E12: расход эл.энергии за час | F12: показания счетчика | G12: разность | I12: расход эл.энергии за час | J12: показания счетчика | K12: разность | M12: расход эл.энергии за час | N12: показания счетчика | O12: разность | Q12: расход эл.энергии за час
A13: 1 | B13: 2 | C13: 3 | E13: 4 | F13: 5 | G13: 6 | I13: 7 | J13: 8 | K13: 9 | M13: 10 | N13: 11 | O13: 12 | Q13: 13
A14: 0
A15: 1 | E15: 2.52 | M15: 3.96
A16: 2 | E16: 2.4 | M16: 3.9
A17: 3 | E17: 2.4 | M17: 3.78
A18: 4 | E18: 2.4 | M18: 3.84
A19: 5 | E19: 2.4 | M19: 3.66
A20: 6 | E20: 2.34 | M20: 3.6
A21: 7 | E21: 2.7 | M21: 3.84
A22: 8 | E22: 2.46 | M22: 3.36
A23: 9 | E23: 2.94 | M23: 2.64
A24: 10 | E24: 2.16 | M24: 2.4
A25: 11 | E25: 2.22 | M25: 2.76
A26: 12 | E26: 2.46 | M26: 2.7
... A38: 24 | E38: 2.22 | M38: 2.64
A39: Итого | E39: =SUM(E15:E38) -> 59.64 | M39: =SUM(M15:M38) -> 75.72
A40: 1. При наличии на предприятии отклонений от нормальных режимов электропотребления (временное изменение схем питания, остановка на ремонт, резкое снижение
A41: эл.потребления и т.д.) последние необходимо перечислить.
A42: Главный инженер АО "Вологдаоблэнерго" А.В. Чурляев
A43: составляется самим предприятием с соблюдением всех пунктов настоящей таблицы.

Sheet 60
B1: АО "Вологдаоблэнерго" | J1: код 900151 | K1: ООО "Сухонский КБК" ГПП 110/6 кВ
B2: наименование предприятия | N2: наименование источника питания
B3: уч -к г. Сокол | N3: _________________________________
B4: ул. Горького, 99 | I4: Таблица № 1 | O4: РУ-1
B5: адрес
A6: почасовых записей показаний электрических счетчиков
A7: в режимный день 21 ДЕКАБРЯ 2022 г.
A8: 1198 | B8: 1199
A9: часы суток | B9: Активная энергия | J9: Реактивная энергия
B10: РУ-1 яч 1 - ТП 3 | F10: РУ-1 яч 14 - ЛЭП 3 | J10: РУ-1 яч 1 - ТП 3 | N10: РУ-1 яч 14 - ЛЭП 3
B11: Расчет. Коэф. | E11: 4800 | F11: Расчет. Коэф. | I11: 2400 | J11: Расчет. Коэф. | M11: 4800 | N11: Расчет. Коэф. | Q11: 2400
B12: показания счетчика | C12: разность | E12: расход эл.энергии за час | F12: показания счетчика | G12: разность | I12: расход эл.энергии за час | J12: показания счетчика | K12: разность | M12: расход эл.энергии за час | N12: показания счетчика | O12: разность | Q12: расход эл.энергии за час
A13: 1 | B13: 2 | C13: 3 | E13: 4 | F13: 5 | G13: 6 | I13: 7 | J13: 8 | K13: 9 | M13: 10 | N13: 11 | O13: 12 | Q13: 13
A14: 0
A15: 1 | E15: 430.56 | I15: 541.44 | M15: 135.84 | Q15: 314.64
A16: 2 | E16: 391.2 | I16: 628.32 | M16: 132.48 | Q16: 436.56
A17: 3 | E17: 380.16 | I17: 635.76 | M17: 132.48 | Q17: 451.44
A18: 4 | E18: 372 | I18: 603.12 | M18: 135.36 | Q18: 419.04
A19: 5 | E19: 381.6 | I19: 625.92 | M19: 137.28 | Q19: 425.52
A20: 6 | E20: 473.28 | I20: 660.48 | M20: 133.44 | Q20: 423.84
A21: 7 | E21: 559.2 | I21: 716.16 | M21: 139.2 | Q21: 441.12
A22: 8 | E22: 648.48 | I22: 762.24 | M22: 159.36 | Q22: 402.96
A23: 9 | E23: 789.12 | I23: 1472.16 | M23: 248.16 | Q23: 953.76
A24: 10 | E24: 833.28 | I24: 1602.96 | M24: 246.24 | Q24: 972.24
A25: 11 | E25: 766.08 | I25: 1522.56 | M25: 225.6 | Q25: 897.36
A26: 12 | E26: 760.32 | I26: 1666.56 | M26: 229.44 | Q26: 979.44
... A38: 24 | E38: 465.12 | I38: 891.36 | M38: 122.4 | Q38: 512.4
A39: Итого | E39: =SUM(E15:E38) -> 15040.32 | I39: =SUM(I15:I38) -> 25897.44 | M39: =SUM(M15:M38) -> 4020.96 | Q39: =SUM(Q15:Q38) -> 15124.56
A40: 1. При наличии на предприятии отклонений от нормальных режимов электропотребления (временное изменение схем питания, остановка на ремонт, резкое снижение
A41: эл.потребления и т.д.) последние необходимо перечислить.
A42: Главный инженер АО "Вологдаоблэнерго" А.В. Чурляев
A43: составляется самим предприятием с соблюдением всех пунктов настоящей таблицы.

Sheet 61
B1: АО "Вологдаоблэнерго" | J1: код 900151 | K1: ООО "Сухонский КБК" ГПП 110/6 кВ
B2: наименование предприятия | N2: наименование источника питания
B3: уч -к г. Сокол | N3: _________________________________
B4: ул. Горького, 99 | I4: Таблица № 1
B5: адрес
A6: почасовых записей показаний электрических счетчиков
A7: в режимный день 21 ДЕКАБРЯ 2022 г.
A8: 1200 | B8: 1197
A9: часы суток | B9: Активная энергия | J9: Реактивная энергия
B10: РУ-3 яч 4 - ТП 7 | J10: РУ-3 яч 4 - ТП 7
B11: Расчет. Коэф. | E11: 2400 | F11: Расчет. Коэф. | J11: Расчет. Коэф. | M11: 2400 | N11: Расчет. Коэф.
B12: показания счетчика | C12: разность | E12: расход эл.энергии за час | F12: показания счетчика | G12: разность | I12: расход эл.энергии за час | J12: показания счетчика | K12: разность | M12: расход эл.энергии за час | N12: показания счетчика | O12: разность | Q12: расход эл.энергии за час
A13: 1 | B13: 2 | C13: 3 | E13: 4 | F13: 5 | G13: 6 | I13: 7 | J13: 8 | K13: 9 | M13: 10 | N13: 11 | O13: 12 | Q13: 13
A14: 0
A15: 1 | E15: 339.6 | M15: 101.28
A16: 2 | E16: 318.96 | M16: 96.24
A17: 3 | E17: 311.04 | M17: 96.24
A18: 4 | E18: 317.76 | M18: 100.08
A19: 5 | E19: 342.96 | M19: 113.76
A20: 6 | E20: 353.04 | M20: 95.04
A21: 7 | E21: 431.28 | M21: 104.88
A22: 8 | E22: 486.24 | M22: 117.12
A23: 9 | E23: 557.52 | M23: 162.24
A24: 10 | E24: 541.44 | M24: 169.92
A25: 11 | E25: 566.4 | M25: 187.92
A26: 12 | E26: 550.08 | M26: 186.72
... A38: 24 | E38: 398.64 | M38: 126.72
A39: Итого | E39: =SUM(E15:E38) -> 11361.84 | I39: =SUM(I15:I38) -> 0 | M39: =SUM(M15:M38) -> 3532.56 | Q39: =SUM(Q15:Q38) -> 0
A40: 1. При наличии на предприятии отклонений от нормальных режимов электропотребления (временное изменение схем питания, остановка на ремонт, резкое снижение
A41: эл.потребления и т.д.) последние необходимо перечислить.
A42: Главный инженер АО "Вологдаоблэнерго" А.В. Чурляев
A43: составляется самим предприятием с соблюдением всех пунктов настоящей таблицы.

Sheet 62
B1: АО "Вологдаоблэнерго" | J1: код 900151 | K1: ООО "Сухонский КБК" ГПП 110/6 кВ
B2: наименование предприятия | N2: наименование источника питания
B3: уч -к г. Сокол | N3: _________________________________
B4: ул. Горького, 99 | I4: Таблица № 1 | O4: РП-10
B5: адрес
A6: почасовых записей показаний электрических счетчиков
A7: в режимный день 21 ДЕКАБРЯ 2022 г.
A8: 1196
A9: часы суток | B9: Активная энергия | J9: Реактивная энергия
B10: ЗРУ яч. 2 - РП-10 яч.2 | F10: ЗРУ яч. 59 - РП-10 яч.15 | J10: ЗРУ яч. 2 - РП-10 яч.2 | N10: ЗРУ яч. 59 - РП-10 яч.15
B11: Расчет. Коэф. | E11: 2400 | F11: Расчет. Коэф. | I11: 3600 | J11: Расчет. Коэф. | M11: 2400 | N11: Расчет. Коэф. | Q11: 3600
B12: показания счетчика | C12: разность | E12: расход эл.энергии за час | F12: показания счетчика | G12: разность | I12: расход эл.энергии за час | J12: показания счетчика | K12: разность | M12: расход эл.энергии за час | N12: показания счетчика | O12: разность | Q12: расход эл.энергии за час
A13: 1 | B13: 2 | C13: 3 | E13: 4 | F13: 5 | G13: 6 | I13: 7 | J13: 8 | K13: 9 | M13: 10 | N13: 11 | O13: 12 | Q13: 13
A14: 0
A15: 1 | E15: 377.28 | I15: 391.32 | M15: 154.08 | Q15: 120.6
A16: 2 | E16: 363.24 | I16: 368.64 | M16: 150.84 | Q16: 120.24
A17: 3 | E17: 351 | I17: 364.68 | M17: 147.6 | Q17: 121.68
A18: 4 | E18: 355.68 | I18: 362.88 | M18: 149.4 | Q18: 117.72
A19: 5 | E19: 351.36 | I19: 366.48 | M19: 148.32 | Q19: 118.44
A20: 6 | E20: 362.52 | I20: 383.4 | M20: 145.08 | Q20: 121.32
A21: 7 | E21: 441 | I21: 457.92 | M21: 150.12 | Q21: 122.04
A22: 8 | E22: 473.4 | I22: 475.2 | M22: 155.88 | Q22: 122.76
A23: 9 | E23: 656.64 | I23: 478.44 | M23: 387.72 | Q23: 162
A24: 10 | E24: 719.28 | I24: 441 | M24: 428.76 | Q24: 136.44
A25: 11 | E25: 708.12 | I25: 455.4 | M25: 390.96 | Q25: 145.08
A26: 12 | E26: 787.68 | I26: 453.24 | M26: 469.08 | Q26: 164.16
... A38: 24 | E38: 539.28 | I38: 403.92 | M38: 262.44 | Q38: 118.08
A39: Итого | E39: =SUM(E15:E38) -> 13854.96 | I39: =SUM(I15:I38) -> 10594.8 | M39: =SUM(M15:M38) -> 6612.84 | Q39: =SUM(Q15:Q38) -> 3227.4
A40: 1. При наличии на предприятии отклонений от нормальных режимов электропотребления (временное изменение схем питания, остановка на ремонт, резкое снижение
A41: эл.потребления и т.д.) последние необходимо перечислить.
A42: Главный инженер АО "Вологдаоблэнерго" А.В. Чурляев
A43: составляется самим предприятием с соблюдением всех пунктов настоящей таблицы.

Sheet 63
B1: АО "Вологдаоблэнерго" | J1: код 900151 | K1: ООО "Сухонский ЦБК" ГПП 110/6 кВ
B2: наименование предприятия | N2: наименование источника питания
B3: уч -к г. Сокол | N3: РУ - 6 кВ "Механического завода"
B4: ул. Горького, 99 | I4: Таблица № 1
B5: адрес
A6: почасовых записей показаний электрических счетчиков
A7: в режимный день 21 ДЕКАБРЯ 2022 г.
A8: 1201 | B8: 1202
A9: часы суток | B9: Активная энергия | J9: Реактивная энергия
B10: яч 7 - ТП 1 | F10: яч. 4 - ТП 2 | J10: яч 7 - ТП 1 | N10: яч. 4 - ТП 2
B11: Расчет. Коэф. | E11: 600 | F11: Расчет. Коэф. | I11: 600 | J11: Расчет. Коэф. | M11: 600 | N11: Расчет. Коэф. | Q11: 600
B12: показания счетчика | C12: разность | E12: расход эл.энергии за час | F12: показания счетчика | G12: разность | I12: расход эл.энергии за час | J12: показания счетчика | K12: разность | M12: расход эл.энергии за час | N12: показания счетчика | O12: разность | Q12: расход эл.энергии за час
A13: 1 | B13: 2 | C13: 3 | E13: 4 | F13: 5 | G13: 6 | I13: 7 | J13: 8 | K13: 9 | M13: 10 | N13: 11 | O13: 12 | Q13: 13
A14: 0
A15: 1 | E15: 0 | I15: 34.02 | M15: 0 | Q15: 4.26
A16: 2 | E16: 0 | I16: 34.38 | M16: 0 | Q16: 4.02
A17: 3 | E17: 0 | I17: 16.32 | M17: 0 | Q17: 2.94
A18: 4 | E18: 0 | I18: 17.28 | M18: 0 | Q18: 4.26
A19: 5 | E19: 0 | I19: 16.32 | M19: 0 | Q19: 3.54
A20: 6 | E20: 0 | I20: 16.38 | M20: 0 | Q20: 3.36
A21: 7 | E21: 0 | I21: 18.48 | M21: 0 | Q21: 3.24
A22: 8 | E22: 0 | I22: 34.26 | M22: 0 | Q22: 5.04
A23: 9 | E23: 0 | I23: 41.46 | M23: 0 | Q23: 8.04
A24: 10 | E24: 0 | I24: 39.78 | M24: 0 | Q24: 8.7
A25: 11 | E25: 0 | I25: 38.94 | M25: 0 | Q25: 7.74
A26: 12 | E26: 0 | I26: 42.06 | M26: 0 | Q26: 8.52
... A38: 24 | E38: 0 | I38: 26.88 | M38: 0 | Q38: 4.5
A39: Итого | E39: =SUM(E15:E38) -> 0 | I39: =SUM(I15:I38) -> 723.06 | M39: =SUM(M15:M38) -> 0 | Q39: =SUM(Q15:Q38) -> 134.76
A40: 1. При наличии на предприятии отклонений от нормальных режимов электропотребления (временное изменение схем питания, остановка на ремонт, резкое снижение
A41: эл.потребления и т.д.) последние необходимо перечислить.
A42: Главный инженер АО "Вологдаоблэнерго" А.В. Чурляев
A43: составляется самим предприятием с соблюдением всех пунктов настоящей таблицы.

Sheet 64
B1: АО "Вологдаоблэнерго" | J1: код 900151 | K1: ПС "Белозерск" 110/10 кВ
B2: наименование предприятия | N2: наименование источника питания
B3: уч -к г. Белозерск
B4: ул. Горького, 99 | I4: Таблица № 1 | N4: РП 1
B5: адрес
A6: почасовых записей показаний электрических счетчиков
A7: в режимный день 21 ДЕКАБРЯ 2022 г.
A8: 737 | B8: 738
A9: часы суток | B9: Активная энергия | J9: Реактивная энергия
B10: яч. 2 - ВЛ-10кВ.ф Горсеть1 | F10: яч. 3 - ВЛ-10кВ.ф Горсеть2 | J10: =B10 -> яч. 2 - ВЛ-10кВ.ф Горсеть1 | N10: яч. 3 - ВЛ-10кВ.фид. Горсеть2
B11: Расчет. Коэф. | E11: 4000 | F11: Расчет. Коэф. | I11: 2000 | J11: Расчет. Коэф. | M11: =E11 -> 4000 | N11: Расчет. Коэф. | Q11: =I11 -> 2000
B12: показания счетчика | C12: разность | E12: расход эл.энергии за час | F12: показания счетчика | G12: разность | I12: расход эл.энергии за час | J12: показания счетчика | K12: разность | M12: расход эл.энергии за час | N12: показания счетчика | O12: разность | Q12: расход эл.энергии за час
A13: 1 | B13: 2 | C13: 3 | E13: 4 | F13: 5 | G13: 6 | I13: 7 | J13: 8 | K13: 9 | M13: 10 | N13: 11 | O13: 12 | Q13: 13
A14: 0
A15: 1 | E15: 1519 | I15: 942 | M15: 314 | Q15: 226
A16: 2 | E16: 1438 | I16: 927 | M16: 306 | Q16: 226
A17: 3 | E17: 1410 | I17: 909 | M17: 306 | Q17: 221
A18: 4 | E18: 1403 | I18: 923 | M18: 305 | Q18: 221
A19: 5 | E19: 1414 | I19: 921 | M19: 295 | Q19: 219
A20: 6 | E20: 1499 | I20: 961 | M20: 294 | Q20: 215
A21: 7 | E21: 1756 | I21: 1176 | M21: 299 | Q21: 224
A22: 8 | E22: 2076 | I22: 1320 | M22: 312 | Q22: 233
A23: 9 | E23: 2029 | I23: 1464 | M23: 296 | Q23: 294
A24: 10 | E24: 1971 | I24: 1450 | M24: 253 | Q24: 300
A25: 11 | E25: 1984 | I25: 1396 | M25: 256 | Q25: 270
A26: 12 | E26: 2003 | I26: 1424 | M26: 267 | Q26: 269
... A38: 24 | E38: 1741 | I38: 1035 | M38: 297 | Q38: 223
A39: Итого | E39: =SUM(E15:E38) -> 46236 | I39: =SUM(I15:I38) -> 29904 | M39: =SUM(M15:M38) -> 7197 | Q39: =SUM(Q15:Q38) -> 6025
A40: 1. При наличии на предприятии отклонений от нормальных режимов электропотребления (временное изменение схем питания, остановка на ремонт, резкое снижение
A41: эл.потребления и т.д.) последние необходимо перечислить.
A42: Главный инженер АО "Вологдаоблэнерго" А.В. Чурляев
A43: составляется самим предприятием с соблюдением всех пунктов настоящей таблицы.

Sheet 65
B1: АО "Вологдаоблэнерго" | J1: код 900151 | K1: ПС "Белозерск" 110/10 кВ
B2: наименование предприятия | N2: наименование источника питания
B3: уч -к г. Белозерск
B4: ул. Горького, 99 | I4: Таблица № 1
B5: адрес
A6: почасовых записей показаний электрических счетчиков
A7: в режимный день 21 ДЕКАБРЯ 2022 г.
A8: 739 | B8: 736
A9: часы суток | B9: Активная энергия | J9: Реактивная энергия
B10: яч. 4 - ВЛ-10кВ.ф Оптика | F10: яч. 1 - ф. Горсеть-3 | J10: яч. 4 - ВЛ-10кВ.ф Оптика | N10: яч. 1 - ф. Горсеть-3
B11: Расчет. Коэф. | E11: 4000 | F11: Расчет. Коэф. | J11: Расчет. Коэф. | M11: =E11 -> 4000 | N11: Расчет. Коэф.
B12: показания счетчика | C12: разность | E12: расход эл.энергии за час | F12: показания счетчика | G12: разность | I12: расход эл.энергии за час | J12: показания счетчика | K12: разность | M12: расход эл.энергии за час | N12: показания счетчика | O12: разность | Q12: расход эл.энергии за час
A13: 1 | B13: 2 | C13: 3 | E13: 4 | F13: 5 | G13: 6 | I13: 7 | J13: 8 | K13: 9 | M13: 10 | N13: 11 | O13: 12 | Q13: 13
A14: 0
A15: 1 | E15: 284 | I15: 198 | M15: 178 | Q15: 112
A16: 2 | E16: 273 | I16: 190 | M16: 187 | Q16: 112
A17: 3 | E17: 237 | I17: 185 | M17: 161 | Q17: 111
A18: 4 | E18: 204 | I18: 184 | M18: 125 | Q18: 112
A19: 5 | E19: 200 | I19: 189 | M19: 121 | Q19: 112
A20: 6 | E20: 229 | I20: 194 | M20: 121 | Q20: 111
A21: 7 | E21: 273 | I21: 223 | M21: 124 | Q21: 111
A22: 8 | E22: 305 | I22: 251 | M22: 122 | Q22: 114
A23: 9 | E23: 355 | I23: 226 | M23: 129 | Q23: 108
A24: 10 | E24: 376 | I24: 228 | M24: 132 | Q24: 102
A25: 11 | E25: 349 | I25: 226 | M25: 128 | Q25: 105
A26: 12 | E26: 325 | I26: 209 | M26: 121 | Q26: 106
... A38: 24 | E38: 252 | I38: 224 | M38: 115 | Q38: 112
A39: Итого | E39: =SUM(E15:E38) -> 7147 | I39: =SUM(I15:I38) -> 5465 | M39: =SUM(M15:M38) -> 3093 | Q39: =SUM(Q15:Q38) -> 2699
A40: 1. При наличии на предприятии отклонений от нормальных режимов электропотребления (временное изменение схем питания, остановка на ремонт, резкое снижение
A41: эл.потребления и т.д.) последние необходимо перечислить.
A42: Главный инженер АО "Вологдаоблэнерго" А.В. Чурляев
A43: составляется самим предприятием с соблюдением всех пунктов настоящей таблицы.

Sheet 66
B1: АО "Вологдаоблэнерго" | J1: код 900151 | K1: ПС "Белозерск" 110/10 кВ
B2: наименование предприятия | N2: наименование источника питания
B3: уч -к г. Белозерск
B4: ул. Горького, 99 | I4: Таблица № 1
B5: адрес
A6: почасовых записей показаний электрических счетчиков
A7: в режимный день 21 ДЕКАБРЯ 2022 г.
A8: 1192 | B8: 1193
A9: часы суток | B9: Активная энергия | J9: Реактивная энергия
B10: ВЛ-10кВ.фид. Аэропорт КТП-46 | F10: ВЛ-10кВ.фид. Аэропорт КТП-47 | J10: =B10 -> ВЛ-10кВ.фид. Аэропорт КТП-46 | N10: =F10 -> ВЛ-10кВ.фид. Аэропорт КТП-47
B11: Расчет. Коэф. | E11: 60 | F11: Расчет. Коэф. | I11: 60 | J11: Расчет. Коэф. | M11: =E11 -> 60 | N11: Расчет. Коэф. | Q11: =I11 -> 60
B12: показания счетчика | C12: разность | E12: расход эл.энергии за час | F12: показания счетчика | G12: разность | I12: расход эл.энергии за час | J12: показания счетчика | K12: разность | M12: расход эл.энергии за час | N12: показания счетчика | O12: разность | Q12: расход эл.энергии за час
A13: 1 | B13: 2 | C13: 3 | E13: 4 | F13: 5 | G13: 6 | I13: 7 | J13: 8 | K13: 9 | M13: 10 | N13: 11 | O13: 12 | Q13: 13
A14: 0
A15: 1 | E15: 15.12 | I15: 46.95 | M15: 0 | Q15: 1.17
A16: 2 | E16: 12.48 | I16: 42.21 | M16: 0 | Q16: 0.66
A17: 3 | E17: 10.92 | I17: 41.07 | M17: 0 | Q17: 1.35
A18: 4 | E18: 10.26 | I18: 41.34 | M18: 0 | Q18: 1.11
A19: 5 | E19: 10.02 | I19: 45.45 | M19: 0 | Q19: 1.32
A20: 6 | E20: 11.64 | I20: 43.59 | M20: 0 | Q20: 0.99
A21: 7 | E21: 19.08 | I21: 55.8 | M21: 0 | Q21: 0.75
A22: 8 | E22: 24.9 | I22: 59.91 | M22: 0 | Q22: 1.26
A23: 9 | E23: 19.68 | I23: 47.82 | M23: 0 | Q23: 1.38
A24: 10 | E24: 18.54 | I24: 45.09 | M24: 0 | Q24: 1.11
A25: 11 | E25: 22.38 | I25: 42.75 | M25: 0 | Q25: 1.95
A26: 12 | E26: 20.64 | I26: 39.12 | M26: 0 | Q26: 1.92
... A38: 24 | E38: 18.84 | I38: 56.85 | M38: 0 | Q38: 2.01
A39: Итого | E39: =SUM(E15:E38) -> 460.08 | I39: =SUM(I15:I38) -> 1198.53 | M39: =SUM(M15:M38) -> 0 | Q39: =SUM(Q15:Q38) -> 40.53
A40: 1. При наличии на предприятии отклонений от нормальных режимов электропотребления (временное изменение схем питания, остановка на ремонт, резкое снижение
A41: эл.потребления и т.д.) последние необходимо перечислить.
A42: Главный инженер АО "Вологдаоблэнерго" А.В. Чурляев
A43: составляется самим предприятием с соблюдением всех пунктов настоящей таблицы.

Sheet 66_1
B1: АО "Вологдаоблэнерго" | J1: код 900151 | K1: ПС "Вашки" 110/10 кВ
B2: наименование предприятия | N2: наименование источника питания
B3: уч -к г. Белозерск с. Липин Бор
B4: ул. Горького, 99 | I4: Таблица № 1
B5: адрес
A6: почасовых записей показаний электрических счетчиков
A7: в режимный день 21 ДЕКАБРЯ 2022 г.
A8: 1704 | B8: 1705
A9: часы суток | B9: Активная энергия | J9: Реактивная энергия
B10: яч. 1 - ВЛ-10кВ.фид. Липин Бор | F10: яч.2 - ВЛ-10кВ.фид. Коммунальный | J10: =B10 -> яч. 1 - ВЛ-10кВ.фид. Липин Бор | N10: =F10 -> яч.2 - ВЛ-10кВ.фид. Коммунальный
B11: Расчет. Коэф. | E11: 60 | F11: Расчет. Коэф. | I11: 60 | J11: Расчет. Коэф. | M11: =E11 -> 60 | N11: Расчет. Коэф. | Q11: =I11 -> 60
B12: показания счетчика | C12: разность | E12: расход эл.энергии за час | F12: показания счетчика | G12: разность | I12: расход эл.энергии за час | J12: показания счетчика | K12: разность | M12: расход эл.энергии за час | N12: показания счетчика | O12: разность | Q12: расход эл.энергии за час
A13: 1 | B13: 2 | C13: 3 | E13: 4 | F13: 5 | G13: 6 | I13: 7 | J13: 8 | K13: 9 | M13: 10 | N13: 11 | O13: 12 | Q13: 13
A14: 0
A15: 1 | E15: 177 | I15: 942 | M15: 33 | Q15: 251
A16: 2 | E16: 168 | I16: 904 | M16: 33 | Q16: 246
A17: 3 | E17: 153 | I17: 901 | M17: 31 | Q17: 246
A18: 4 | E18: 154 | I18: 861 | M18: 32 | Q18: 242
A19: 5 | E19: 160 | I19: 837 | M19: 31 | Q19: 230
A20: 6 | E20: 161 | I20: 937 | M20: 30 | Q20: 231
A21: 7 | E21: 185 | I21: 1148 | M21: 31 | Q21: 227
A22: 8 | E22: 217 | I22: 1322 | M22: 33 | Q22: 226
A23: 9 | E23: 193 | I23: 1422 | M23: 30 | Q23: 250
A24: 10 | E24: 180 | I24: 1408 | M24: 30 | Q24: 251
A25: 11 | E25: 173 | I25: 1362 | M25: 30 | Q25: 250
A26: 12 | E26: 168 | I26: 1289 | M26: 31 | Q26: 237
... A38: 24 | E38: 176 | I38: 999 | M38: 31 | Q38: 229
A39: Итого | E39: =SUM(E15:E38) -> 4467 | I39: =SUM(I15:I38) -> 28710 | M39: =SUM(M15:M38) -> 762 | Q39: =SUM(Q15:Q38) -> 5911
A40: 1. При наличии на предприятии отклонений от нормальных режимов электропотребления (временное изменение схем питания, остановка на ремонт, резкое снижение
A41: эл.потребления и т.д.) последние необходимо перечислить.
A42: Главный инженер АО "Вологдаоблэнерго" А.В. Чурляев
A43: составляется самим предприятием с соблюдением всех пунктов настоящей таблицы.

Sheet 67
B1: АО "Вологдаоблэнерго" | J1: код 900151 | K1: ПС "Белоусово"
B2: наименование предприятия | N2: наименование источника питания
B3: уч -к г. Вытегра
B4: ул. Горького, 99 | I4: Таблица № 1
B5: адрес
A6: почасовых записей показаний электрических счетчиков
A7: в режимный день 21 ДЕКАБРЯ 2022 г.
A8: 852 | B8: 851
A9: часы суток | B9: Активная энергия | J9: Реактивная энергия
B10: ВЛ-6кВ Ф-9 Погрузка | F10: ВЛ-6 кВ Ф-7 ЛПХ | J10: =B10 -> ВЛ-6кВ Ф-9 Погрузка | N10: =F10 -> ВЛ-6 кВ Ф-7 ЛПХ
B11: Расчет. Коэф. | E11: 1800 | F11: Расчет. Коэф. | I11: 2400 | J11: Расчет. Коэф. | M11: =E11 -> 1800 | N11: Расчет. Коэф. | Q11: =I11 -> 2400
B12: показания счетчика | C12: разность | E12: расход эл.энергии за час | F12: показания счетчика | G12: разность | I12: расход эл.энергии за час | J12: показания счетчика | K12: разность | M12: расход эл.энергии за час | N12: показания счетчика | O12: разность | Q12: расход эл.энергии за час
A13: 1 | B13: 2 | C13: 3 | E13: 4 | F13: 5 | G13: 6 | I13: 7 | J13: 8 | K13: 9 | M13: 10 | N13: 11 | O13: 12 | Q13: 13
A14: 0
A15: 1 | E15: 0 | I15: 7 | M15: 0 | Q15: 35
A16: 2 | E16: 0 | I16: 7 | M16: 0 | Q16: 35
A17: 3 | E17: 0 | I17: 6 | M17: 0 | Q17: 35
A18: 4 | E18: 0 | I18: 7 | M18: 0 | Q18: 36
A19: 5 | E19: 0 | I19: 7 | M19: 0 | Q19: 36
A20: 6 | E20: 0 | I20: 7 | M20: 0 | Q20: 36
A21: 7 | E21: 0 | I21: 7 | M21: 0 | Q21: 35
A22: 8 | E22: 0 | I22: 7 | M22: 0 | Q22: 34
A23: 9 | E23: 0 | I23: 7 | M23: 0 | Q23: 32
A24: 10 | E24: 0 | I24: 7 | M24: 0 | Q24: 32
A25: 11 | E25: 0 | I25: 6 | M25: 0 | Q25: 33
A26: 12 | E26: 0 | I26: 6 | M26: 0 | Q26: 32
... A38: 24 | E38: 0 | I38: 7 | M38: 0 | Q38: 35
A39: Итого | E39: =SUM(E15:E38) -> 0 | I39: =SUM(I15:I38) -> 162 | M39: =SUM(M15:M38) -> 0 | Q39: =SUM(Q15:Q38) -> 813
A40: 1. При наличии на предприятии отклонений от нормальных режимов электропотребления (временное изменение схем питания, остановка на ремонт, резкое снижение
A41: эл.потребления и т.д.) последние необходимо перечислить.
A42: Главный инженер АО "Вологдаоблэнерго" А.В. Чурляев
A43: составляется самим предприятием с соблюдением всех пунктов настоящей таблицы.

Sheet 68
B1: АО "Вологдаоблэнерго" | J1: код 900151 | K1: ПС "Ольховская"
B2: наименование предприятия | N2: наименование источника питания
B3: уч -к г. Вытегра
B4: ул. Горького, 99 | I4: Таблица № 1
B5: адрес
A6: почасовых записей показаний электрических счетчиков
A7: в режимный день 21 ДЕКАБРЯ 2022 г.
A8: 2138 | B8: 2139
A9: часы суток | B9: Активная энергия | J9: Реактивная энергия
B10: яч. 1 - ВЛ-10 кВ Ф-2 ЛПХ | F10: ВЛ-10 кВ Ф-3 Мирный | J10: яч. 1 - ВЛ-10 кВ Ф-2 ЛПХ | N10: =F10 -> ВЛ-10 кВ Ф-3 Мирный
B11: Расчет. Коэф. | E11: 1000 | F11: Расчет. Коэф. | I11: 1000 | J11: Расчет. Коэф. | M11: =E11 -> 1000 | N11: Расчет. Коэф. | Q11: =I11 -> 1000
B12: показания счетчика | C12: разность | E12: расход эл.энергии за час | F12: показания счетчика | G12: разность | I12: расход эл.энергии за час | J12: показания счетчика | K12: разность | M12: расход эл.энергии за час | N12: показания счетчика | O12: разность | Q12: расход эл.энергии за час
A13: 1 | B13: 2 | C13: 3 | E13: 4 | F13: 5 | G13: 6 | I13: 7 | J13: 8 | K13: 9 | M13: 10 | N13: 11 | O13: 12 | Q13: 13
A14: 0
A15: 1 | E15: 63 | I15: 99 | M15: 26 | Q15: 14
A16: 2 | E16: 62 | I16: 95 | M16: 27 | Q16: 14
A17: 3 | E17: 61 | I17: 97 | M17: 26 | Q17: 13
A18: 4 | E18: 62 | I18: 97 | M18: 26 | Q18: 15
A19: 5 | E19: 63 | I19: 97 | M19: 27 | Q19: 13
A20: 6 | E20: 66 | I20: 100 | M20: 26 | Q20: 14
A21: 7 | E21: 68 | I21: 102 | M21: 25 | Q21: 14
A22: 8 | E22: 84 | I22: 112 | M22: 26 | Q22: 14
A23: 9 | E23: 84 | I23: 126 | M23: 25 | Q23: 15
A24: 10 | E24: 85 | I24: 120 | M24: 26 | Q24: 16
A25: 11 | E25: 79 | I25: 125 | M25: 25 | Q25: 15
A26: 12 | E26: 80 | I26: 128 | M26: 26 | Q26: 17
... A38: 24 | E38: 67 | I38: 101 | M38: 26 | Q38: 14
A39: Итого | E39: =SUM(E15:E38) -> 1763 | I39: =SUM(I15:I38) -> 2678 | M39: =SUM(M15:M38) -> 610 | Q39: =SUM(Q15:Q38) -> 353
A40: 1. При наличии на предприятии отклонений от нормальных режимов электропотребления (временное изменение схем питания, остановка на ремонт, резкое снижение
A41: эл.потребления и т.д.) последние необходимо перечислить.
A42: Главный инженер АО "Вологдаоблэнерго" А.В. Чурляев
A43: составляется самим предприятием с соблюдением всех пунктов настоящей таблицы.

Sheet 69
B1: АО "Вологдаоблэнерго" | J1: код 900151 | K1: ПС "Восточная"
B2: наименование предприятия | N2: наименование источника питания
B3: уч -к г. Вытегра
B4: ул. Горького, 99 | I4: Таблица № 1
B5: адрес
A6: почасовых записей показаний электрических счетчиков
A7: в режимный день 21 ДЕКАБРЯ 2022 г.
A8: 855 | B8: 854
A9: часы суток | B9: Активная энергия | J9: Реактивная энергия
B10: ВЛ-10 кВ Центр | F10: ВЛ-10 кВ Воинская часть | J10: =B10 -> ВЛ-10 кВ Центр | N10: =F10 -> ВЛ-10 кВ Воинская часть
B11: Расчет. Коэф. | E11: 6000 | F11: Расчет. Коэф. | I11: 4000 | J11: Расчет. Коэф. | M11: =E11 -> 6000 | N11: Расчет. Коэф. | Q11: =I11 -> 4000
B12: показания счетчика | C12: разность | E12: расход эл.энергии за час | F12: показания счетчика | G12: разность | I12: расход эл.энергии за час | J12: показания счетчика | K12: разность | M12: расход эл.энергии за час | N12: показания счетчика | O12: разность | Q12: расход эл.энергии за час
A13: 1 | B13: 2 | C13: 3 | E13: 4 | F13: 5 | G13: 6 | I13: 7 | J13: 8 | K13: 9 | M13: 10 | N13: 11 | O13: 12 | Q13: 13
A14: 0
A15: 1 | E15: 758 | I15: 1128 | M15: 80 | Q15: 184
A16: 2 | E16: 726 | I16: 1067 | M16: 82 | Q16: 194
A17: 3 | E17: 715 | I17: 1044 | M17: 81 | Q17: 189
A18: 4 | E18: 712 | I18: 1064 | M18: 80 | Q18: 204
A19: 5 | E19: 741 | I19: 1069 | M19: 83 | Q19: 199
A20: 6 | E20: 813 | I20: 1112 | M20: 87 | Q20: 206
A21: 7 | E21: 897 | I21: 1265 | M21: 83 | Q21: 189
A22: 8 | E22: 1012 | I22: 1341 | M22: 93 | Q22: 166
A23: 9 | E23: 1102 | I23: 1306 | M23: 102 | Q23: 173
A24: 10 | E24: 1111 | I24: 1341 | M24: 112 | Q24: 184
A25: 11 | E25: 1129 | I25: 1339 | M25: 119 | Q25: 188
A26: 12 | E26: 1091 | I26: 1336 | M26: 116 | Q26: 186
... A38: 24 | E38: 841 | I38: 1256 | M38: 87 | Q38: 184
A39: Итого | E39: =SUM(E15:E38) -> 23332 | I39: =SUM(I15:I38) -> 31662 | M39: =SUM(M15:M38) -> 2329 | Q39: =SUM(Q15:Q38) -> 4540
A40: 1. При наличии на предприятии отклонений от нормальных режимов электропотребления (временное изменение схем питания, остановка на ремонт, резкое снижение
A41: эл.потребления и т.д.) последние необходимо перечислить.
A42: Главный инженер АО "Вологдаоблэнерго" А.В. Чурляев
A43: составляется самим предприятием с соблюдением всех пунктов настоящей таблицы.

Sheet 70
B1: АО "Вологдаоблэнерго" | J1: код 900151 | K1: ПС "Восточная"
B2: наименование предприятия | N2: наименование источника питания
B3: уч -к г. Вытегра
B4: ул. Горького, 99 | I4: Таблица № 1
B5: адрес
A6: почасовых записей показаний электрических счетчиков
A7: в режимный день 21 ДЕКАБРЯ 2022 г.
A8: 856 | B8: 951
A9: часы суток | B9: Активная энергия | J9: Реактивная энергия
B10: ВЛ-10 кВ Шестово | F10: ф.1 Город | J10: =B10 -> ВЛ-10 кВ Шестово | N10: =F10 -> ф.1 Город
B11: Расчет. Коэф. | E11: 4000 | F11: Расчет. Коэф. | J11: Расчет. Коэф. | M11: =E11 -> 4000 | N11: Расчет. Коэф.
B12: показания счетчика | C12: разность | E12: расход эл.энергии за час | F12: показания счетчика | G12: разность | I12: расход эл.энергии за час | J12: показания счетчика | K12: разность | M12: расход эл.энергии за час | N12: показания счетчика | O12: разность | Q12: расход эл.энергии за час
A13: 1 | B13: 2 | C13: 3 | E13: 4 | F13: 5 | G13: 6 | I13: 7 | J13: 8 | K13: 9 | M13: 10 | N13: 11 | O13: 12 | Q13: 13
A14: 0
A15: 1 | E15: 613 | I15: 748 | M15: 138 | Q15: 177
A16: 2 | E16: 576 | I16: 718 | M16: 136 | Q16: 184
A17: 3 | E17: 544 | I17: 694 | M17: 131 | Q17: 176
A18: 4 | E18: 554 | I18: 698 | M18: 134 | Q18: 194
A19: 5 | E19: 533 | I19: 707 | M19: 132 | Q19: 195
A20: 6 | E20: 562 | I20: 772 | M20: 133 | Q20: 198
A21: 7 | E21: 684 | I21: 878 | M21: 129 | Q21: 169
A22: 8 | E22: 777 | I22: 956 | M22: 130 | Q22: 153
A23: 9 | E23: 774 | I23: 1047 | M23: 129 | Q23: 158
A24: 10 | E24: 778 | I24: 1116 | M24: 129 | Q24: 164
A25: 11 | E25: 820 | I25: 1170 | M25: 137 | Q25: 168
A26: 12 | E26: 832 | I26: 1177 | M26: 144 | Q26: 168
