Workbook

Sheet Содержание книги
A1: Содержание
A4: № листа | B4: Электросетевой участок | C4: Центр питания
A5: 1, 2 | B5: г. Вологда | C5: ПС "АНАНЬИНО"
A6: 3 | B6: г. Вологда | C6: ПС ЕРМАКОВО
A7: 4 | B7: г. Вологда | C7: ПС "МАЕГА"
A8: 5,6, 7, 8, 9 | B8: г. Вологда | C8: ПС "ЗАПАДНАЯ
A9: 10 | B9: г. Вологда | C9: ПС "СЕВЕРНАЯ 35/6 кВ
A10: 11 | B10: г. Вологда | C10: РТП "ТЕПЛИЧНОГО ХОЗ - ВА"
A11: 12,13, 14 | B11: г. Вологда | C11: ГПП 110/10 кВ "ВОМЗ"
A12: 15,16,17,18,19,20, 21, 21-1, 21-2, 21-3, 21-4 | B12: г. Вологда | C12: ПС ВОЛОГДА-ЮЖНАЯ РУ - 6 -10 кВ
A13: 21-5, | C13: ПС ВОЛОГДА-ЮЖНАЯ РУ 6 кВ ОАО "БМЗ"
A14: 22 | B14: г. Вологда | C14: ГПП ВОЛОГДА - ТЯГОВАЯ 110/27,5/6 кВ
A15: 23 | B15: г. Вологда | C15: ТП 10 РЖД
A16: 24 | B16: г. Вологда | C16: ТП 34 РЖД
A17: 25,26,27,28,29 | B17: г. Вологда | C17: ТГК- 2 ВТЭЦ РП 6 кВ
A18: 30,31,32,33,34,34-1 | B18: г. Вологда | C18: ПС "ЦЕНТРАЛЬНАЯ" 110/6 кВ
A19: 35, 36 | B19: г. Вологда | C19: ПС "ГОРОДСКАЯ" 35/6 кВ
A20: 37, 38, 39, 39-1 | B20: г. Вологда | C20: ПС "ВОСТОЧНАЯ" 110/35/10 кВ
A21: 40, 40-1, 41,41-1 | B21: г. Вологда | C21: ПС "ЛУГОВАЯ"
A22: 42 | B22: г. Вологда | C22: РП "ГОРКА"
A23: 43, 44 | B23: г. Вологда | C23: ГПП 2 ЗАО ВПЗ
A24: 45 | B24: г. Вологда | C24: ГПП 1 ЗАО ВПЗ
A25: 46 | B25: ЭСУ "Кубенское" | C25: ПС "Кубенское"
A26: 47, 48, 48-1,48-2 | B26: ЭСУ п. Молочное | C26: ПС "Молочное" 35/10 кВ
A27: 49, 50, 50-1, 50-2, 50-3 | B27: ЭСУ "Устье-Кубенское" | C27: РТП "КОРНИЛОВО" 35/10 кВ
A28: 51, 52, 53 | B28: ЭСУ "Шуйское" | C28: ПС "ШУЙСКОЕ" 35/ 10 кВ
A29: 54.55 | B29: ЭСУ г. Сокол | C29: ПС "ГДЗ" 110/6 кВ
A30: 55-1 | B30: ЭСУ г. Сокол | C30: ПС ИП Сокол 110/10/10
A31: 56, 57, 58, | B31: ЭСУ г. Сокол | C31: ОАО "Сокольский" ЦБК" ГПП 35/6 кВ
A32: 59 | B32: ЭСУ г. Сокол | C32: ОАО "Сокольский" ЦБК" ГПП 110/6 кВ
A33: 60, 61, 62, 63 | B33: ЭСУ г. Сокол | C33: ООО "Сухонский ЦБК" ГПП 110/6 кВ
A34: 64-66-1 | B34: ЭСУ "Белозерск" | C34: ПС Белозерск, ПС Вашки
A35: 67-75 | B35: ЭСУ "Вытегра" | C35: ПС 35 кВ Вытегра, ПС 110 кВ Восточная ПС
A36: 76-81_1 | B36: ЭСУ "Харовск" | C36: ПС 110 кВ Харовск (Р), ПС 110 кВ Харовск-Тяговая
A37: 82-86 | B37: ЭТУ "Вожега"
A38: 87-91 | B38: ЭТУ "Тотьма"
A39: 92-95 | B39: ЭСУ "Сямжа"
A40: 96-97 | B40: ЭСУ "Грязовец"
A42: Содержание
A45: № листа | B45: Электросетевой участок | C45: Центр питания
...

Sheet 1
B1: АО "Вологдаоблэнерго" | J1: код 900151 | N1: ПС "АНАНЬИНО"
B2: наименование предприятия | N2: наименование источника питания
N3: _________________________________
B4: ул. Горького, 99 | I4: Таблица № 1 | O4: ВЛ 10 кВ № 31
B5: адрес
A6: почасовых записей показаний электрических счетчиков
A7: в режимный день 21 ДЕКАБРЯ 2022 г.
A8: 1629
A9: часы суток | B9: Активная энергия | J9: Реактивная энергия
B10: ЯЧ. № 7 - Ф."Город 7" | J10: ЯЧ. № 7 - Ф."Город 7"
B11: Расчет. Коэф. | E11: 3600 | F11: Расчет. Коэф. | J11: Расчет. Коэф. | M11: =E11 -> 3600 | N11: Расчет. Коэф.
B12: показания счетчика | C12: разность | E12: расход эл.энергии за час | F12: показания счетчика | G12: разность | I12: расход эл.энергии за час | J12: показания счетчика | K12: разность | M12: расход эл.энергии за час | N12: показания счетчика | O12: разность | Q12: расход эл.энергии за час
A13: 1 | B13: 2 | C13: 3 | E13: 4 | F13: 5 | G13: 6 | I13: 7 | J13: 8 | K13: 9 | M13: 10 | N13: 11 | O13: 12 | Q13: 13
A14: 0
A15: 1 | E15: 670 | M15: 262
A16: 2 | E16: 657 | M16: 256
A17: 3 | E17: 647 | M17: 255
A18: 4 | E18: 615 | M18: 250
A19: 5 | E19: 641 | M19: 251
A20: 6 | E20: 686 | M20: 252
A21: 7 | E21: 727 | M21: 245
A22: 8 | E22: 680 | M22: 185
A23: 9 | E23: 849 | M23: 250
A24: 10 | E24: 854 | M24: 276
A25: 11 | E25: 826 | M25: 249
A26: 12 | E26: 866 | M26: 309
... A38: 24 | E38: 714 | M38: 222
A39: Итого | E39: =SUM(E15:E38) -> 18072 | M39: =SUM(M15:M38) -> 6124
A40: 1. При наличии на предприятии отклонений от нормальных режимов электропотребления (временное изменение схем питания, остановка на ремонт, резкое снижение
A41: эл.потребления и т.д.) последние необходимо перечислить.
A42: Главный инженер АО "Вологдаоблэнерго" А.В. Чурляев
A43: составляется самим предприятием с соблюдением всех пунктов настоящей таблицы.

Sheet 2
B1: АО "Вологдаоблэнерго" | J1: код 900151 | N1: ПС "АНАНЬИНО"
B2: наименование предприятия | N2: наименование источника питания
N3: _________________________________
B4: ул. Горького, 99 | I4: Таблица № 1 | O4: РП 36 ф 16; ТП 360
B5: адрес
A6: почасовых записей показаний электрических счетчиков
A7: в режимный день 21 ДЕКАБРЯ 2022 г.
A8: 1630 | B8: 1628
A9: часы суток | B9: Активная энергия | J9: Реактивная энергия
B10: ЯЧ. № 2 - Ф."Овощехранилище" | F10: ЯЧ. № 8 - Ф."Городской" | J10: ЯЧ. № 2 - Ф."Овощехранилище" | N10: ЯЧ. № 8 - Ф."Городской"
B11: Расчет. Коэф. | E11: 3600 | F11: Расчет. Коэф. | I11: 2400 | J11: Расчет. Коэф. | M11: =E11 -> 3600 | N11: Расчет. Коэф. | Q11: =I11 -> 2400
B12: показания счетчика | C12: разность | E12: расход эл.энергии за час | F12: показания счетчика | G12: разность | I12: расход эл.энергии за час | J12: показания счетчика | K12: разность | M12: расход эл.энергии за час | N12: показания счетчика | O12: разность | Q12: расход эл.энергии за час
A13: 1 | B13: 2 | C13: 3 | E13: 4 | F13: 5 | G13: 6 | I13: 7 | J13: 8 | K13: 9 | M13: 10 | N13: 11 | O13: 12 | Q13: 13
A14: 0
A15: 1 | E15: 207 | I15: 233 | M15: 112 | Q15: 73
A16: 2 | E16: 265 | I16: 233 | M16: 164 | Q16: 70
A17: 3 | E17: 262 | I17: 227 | M17: 158 | Q17: 72
A18: 4 | E18: 251 | I18: 229 | M18: 156 | Q18: 71
A19: 5 | E19: 234 | I19: 237 | M19: 139 | Q19: 71
A20: 6 | E20: 244 | I20: 249 | M20: 136 | Q20: 70
A21: 7 | E21: 243 | I21: 274 | M21: 127 | Q21: 74
A22: 8 | E22: 179 | I22: 292 | M22: 66 | Q22: 81
A23: 9 | E23: 245 | I23: 286 | M23: 121 | Q23: 83
A24: 10 | E24: 419 | I24: 285 | M24: 246 | Q24: 83
A25: 11 | E25: 416 | I25: 273 | M25: 230 | Q25: 80
A26: 12 | E26: 434 | I26: 274 | M26: 255 | Q26: 79
... A38: 24 | E38: 182 | I38: 248 | M38: 66 | Q38: 64
A39: Итого | E39: =SUM(E16:E38) -> 6585 | I39: =SUM(I15:I38) -> 6436 | M39: =SUM(M15:M38) -> 3567 | Q39: =SUM(Q15:Q38) -> 1801
A40: 1. При наличии на предприятии отклонений от нормальных режимов электропотребления (временное изменение схем питания, остановка на ремонт, резкое снижение
A41: эл.потребления и т.д.) последние необходимо перечислить.
A42: Главный инженер АО "Вологдаоблэнерго" А.В. Чурляев
A43: составляется самим предприятием с соблюдением всех пунктов настоящей таблицы.

Sheet 3
B1: АО "Вологдаоблэнерго" | J1: код 900151 | N1: ПС 110 кВ ЕРМАКОВО
B2: наименование предприятия | N2: наименование источника питания
N3: яч. 18 ф."РУБЦОВО"
B4: ул. Горького, 99 | I4: Таблица № 1 | O4: ВЛ-10кВ № 2
B5: адрес
A6: почасовых записей показаний электрических счетчиков
A7: в режимный день 21 ДЕКАБРЯ 2022 г.
A8: 374
A9: часы суток | B9: Активная энергия | J9: Реактивная энергия
B10: яч. 18 ф."РУБЦОВО"- ПКУ - ВЛ№2 | J10: яч. 18 ф."РУБЦОВО"- ПКУ - ВЛ№2
B11: Расчет. Коэф. | E11: 1000 | F11: Расчет. Коэф. | I11: 0 | J11: Расчет. Коэф. | M11: =E11 -> 1000 | N11: Расчет. Коэф. | Q11: =I11 -> 0
B12: показания счетчика | C12: разность | E12: расход эл.энергии за час | F12: показания счетчика | G12: разность | I12: расход эл.энергии за час | J12: показания счетчика | K12: разность | M12: расход эл.энергии за час | N12: показания счетчика | O12: разность | Q12: расход эл.энергии за час
A13: 1 | B13: 2 | C13: 3 | E13: 4 | F13: 5 | G13: 6 | I13: 7 | J13: 8 | K13: 9 | M13: 10 | N13: 11 | O13: 12 | Q13: 13
A14: 0
A15: 1 | E15: 487 | M15: 28.6
A16: 2 | E16: 461.8 | M16: 25.8
A17: 3 | E17: 448 | M17: 20.6
A18: 4 | E18: 458.2 | M18: 21.8
A19: 5 | E19: 448.8 | M19: 20
A20: 6 | E20: 472 | M20: 20.6
A21: 7 | E21: 512.2 | M21: 21.8
A22: 8 | E22: 532.8 | M22: 19.8
A23: 9 | E23: 527.2 | M23: 22
A24: 10 | E24: 472.4 | M24: 23
A25: 11 | E25: 462.4 | M25: 25
A26: 12 | E26: 464.8 | M26: 26
... A38: 24 | E38: 526 | M38: 23
A39: Итого | E39: =SUM(E15:E38) -> 12082.6 | M39: =SUM(M16:M38) -> 547.6
A40: 1. При наличии на предприятии отклонений от нормальных режимов электропотребления (временное изменение схем питания, остановка на ремонт, резкое снижение
A41: эл.потребления и т.д.) последние необходимо перечислить.
A42: Главный инженер АО "Вологдаоблэнерго" А.В. Чурляев
A43: составляется самим предприятием с соблюдением всех пунктов настоящей таблицы.

Sheet 4
B1: АО "Вологдаоблэнерго" | J1: код 900151 | N1: ПС "МАЕГА"
B2: наименование предприятия | N2: наименование источника питания
N3: яч. 13 - Ф НИКИТИНО
B4: ул. Горького, 99 | I4: Таблица № 1 | O4: ВЛ 10 кВ №27
B5: адрес
A6: почасовых записей показаний электрических счетчиков
A7: в режимный день 21 ДЕКАБРЯ 2022 г.
A8: 363
A9: часы суток | B9: Активная энергия | J9: Реактивная энергия
B10: яч. 13 - Ф НИКИТИНО-СВ - ВЛ№27 | J10: яч. 13 - Ф НИКИТИНО-СВ - ВЛ№27
B11: Расчет. Коэф. | E11: 1500 | F11: Расчет. Коэф. | I11: 0 | J11: Расчет. Коэф. | M11: =E11 -> 1500 | N11: Расчет. Коэф. | Q11: =I11 -> 0
B12: показания счетчика | C12: разность | E12: расход эл.энергии за час | F12: показания счетчика | G12: разность | I12: расход эл.энергии за час | J12: показания счетчика | K12: разность | M12: расход эл.энергии за час | N12: показания счетчика | O12: разность | Q12: расход эл.энергии за час
A13: 1 | B13: 2 | C13: 3 | E13: 4 | F13: 5 | G13: 6 | I13: 7 | J13: 8 | K13: 9 | M13: 10 | N13: 11 | O13: 12 | Q13: 13
A14: 0
A15: 1 | E15: 560.1 | M15: 45.45
A16: 2 | E16: 554.4 | M16: 42.9
A17: 3 | E17: 544.8 | M17: 43.35
A18: 4 | E18: 543.45 | M18: 43.05
A19: 5 | E19: 554.7 | M19: 41.25
A20: 6 | E20: 599.25 | M20: 38.85
A21: 7 | E21: 641.25 | M21: 41.55
A22: 8 | E22: 654.9 | M22: 47.4
A23: 9 | E23: 660.15 | M23: 48.15
A24: 10 | E24: 660.9 | M24: 52.95
A25: 11 | E25: 651.6 | M25: 54.15
A26: 12 | E26: 671.55 | M26: 57
... A38: 24 | E38: 619.95 | M38: 45.6
A39: Итого | E39: =SUM(E15:E38) -> 15630.75 | M39: =SUM(M15:M38) -> 1165.5
A40: 1. При наличии на предприятии отклонений от нормальных режимов электропотребления (временное изменение схем питания, остановка на ремонт, резкое снижение
A41: эл.потребления и т.д.) последние необходимо перечислить.
A42: Главный инженер АО "Вологдаоблэнерго" А.В. Чурляев
A43: составляется самим предприятием с соблюдением всех пунктов настоящей таблицы.

Sheet 5
B1: АО "Вологдаоблэнерго" | J1: код 900151 | N1: ПС "ЗАПАДНАЯ"
B2: наименование предприятия | N2: наименование источника питания
N3: _________________________________
B4: ул. Горького, 99 | I4: Таблица № 1 | O4: РП 16
B5: адрес
A6: почасовых записей показаний электрических счетчиков
A7: в режимный день 21 ДЕКАБРЯ 2022 г.
A8: 372 | B8: 368
A9: часы суток | B9: Активная энергия | J9: Реактивная энергия
B10: Яч. 21 - "РМЗ-1" | F10: Яч. 28 - "РМЗ-2" | J10: Яч. 21 - "РМЗ-1" | N10: Яч. 28 - "РМЗ-2"
B11: Расчет. Коэф. | E11: 7200 | F11: Расчет. Коэф. | I11: 7200 | J11: Расчет. Коэф. | M11: =E11 -> 7200 | N11: Расчет. Коэф. | Q11: =I11 -> 7200
B12: показания счетчика | C12: разность | E12: расход эл.энергии за час | F12: показания счетчика | G12: разность | I12: расход эл.энергии за час | J12: показания счетчика | K12: разность | M12: расход эл.энергии за час | N12: показания счетчика | O12: разность | Q12: расход эл.энергии за час
A13: 1 | B13: 2 | C13: 3 | E13: 4 | F13: 5 | G13: 6 | I13: 7 | J13: 8 | K13: 9 | M13: 10 | N13: 11 | O13: 12 | Q13: 13
A14: 0
A15: 1 | E15: 453 | I15: 1079 | M15: 118 | Q15: 138
A16: 2 | E16: 424 | I16: 1227 | M16: 116 | Q16: 187
A17: 3 | E17: 426 | I17: 1246 | M17: 117 | Q17: 189
A18: 4 | E18: 421 | I18: 1206 | M18: 119 | Q18: 197
A19: 5 | E19: 455 | I19: 1216 | M19: 120 | Q19: 191
A20: 6 | E20: 510 | I20: 1300 | M20: 137 | Q20: 181
A21: 7 | E21: 632 | I21: 1486 | M21: 152 | Q21: 181
A22: 8 | E22: 1010 | I22: 1726 | M22: 348 | Q22: 195
A23: 9 | E23: 1299 | I23: 1835 | M23: 524 | Q23: 242
A24: 10 | E24: 1329 | I24: 1905 | M24: 562 | Q24: 261
A25: 11 | E25: 1285 | I25: 1982 | M25: 538 | Q25: 255
A26: 12 | E26: 1339 | I26: 1971 | M26: 558 | Q26: 256
... A38: 24 | E38: 538 | I38: 1479 | M38: 135 | Q38: 170
A39: Итого | E39: =SUM(E15:E38) -> 21389 | I39: =SUM(I15:I38) -> 39971 | M39: =SUM(M15:M38) -> 7422 | Q39: =SUM(Q15:Q38) -> 4986
A40: 1. При наличии на предприятии отклонений от нормальных режимов электропотребления (временное изменение схем питания, остановка на ремонт, резкое снижение
A41: эл.потребления и т.д.) последние необходимо перечислить.
A42: Главный инженер АО "Вологдаоблэнерго" А.В. Чурляев
A43: составляется самим предприятием с соблюдением всех пунктов настоящей таблицы.

Sheet 6
B1: АО "Вологдаоблэнерго" | J1: код 900151 | N1: ПС "ЗАПАДНАЯ"
B2: наименование предприятия | N2: наименование источника питания
N3: _________________________________
B4: ул. Горького, 99 | I4: Таблица № 1 | N4: РП 10 ф7 | Q4: РП 36 ф17
B5: адрес
A6: почасовых записей показаний электрических счетчиков
A7: в режимный день 21 ДЕКАБРЯ 2022 г.
A8: 370 | B8: 365
A9: часы суток | B9: Активная энергия | J9: Реактивная энергия
B10: яч. 16 - ф."ОЧИСТНЫЕ-1" | F10: яч. 24 - "ГОРОД-1" | J10: яч. 16 - ф."ОЧИСТНЫЕ-1" | N10: яч. 24 - "ГОРОД-1"
B11: Расчет. Коэф. | E11: 4800 | F11: Расчет. Коэф. | I11: 7200 | J11: Расчет. Коэф. | M11: =E11 -> 4800 | N11: Расчет. Коэф. | Q11: =I11 -> 7200
B12: показания счетчика | C12: разность | E12: расход эл.энергии за час | F12: показания счетчика | G12: разность | I12: расход эл.энергии за час | J12: показания счетчика | K12: разность | M12: расход эл.энергии за час | N12: показания счетчика | O12: разность | Q12: расход эл.энергии за час
A13: 1 | B13: 2 | C13: 3 | E13: 4 | F13: 5 | G13: 6 | I13: 7 | J13: 8 | K13: 9 | M13: 10 | N13: 11 | O13: 12 | Q13: 13
A14: 0
A15: 1 | E15: 257 | I15: 1477 | M15: 46 | Q15: 697
A16: 2 | E16: 234 | I16: 1488 | M16: 41 | Q16: 686
A17: 3 | E17: 233 | I17: 1514 | M17: 42 | Q17: 669
A18: 4 | E18: 233 | I18: 1517 | M18: 42 | Q18: 675
A19: 5 | E19: 233 | I19: 1481 | M19: 41 | Q19: 664
A20: 6 | E20: 312 | I20: 1514 | M20: 55 | Q20: 684
A21: 7 | E21: 738 | I21: 1528 | M21: 147 | Q21: 684
A22: 8 | E22: 801 | I22: 1568 | M22: 161 | Q22: 687
A23: 9 | E23: 586 | I23: 1600 | M23: 105 | Q23: 675
A24: 10 | E24: 575 | I24: 1670 | M24: 98 | Q24: 716
A25: 11 | E25: 574 | I25: 1628 | M25: 99 | Q25: 703
A26: 12 | E26: 575 | I26: 1638 | M26: 100 | Q26: 751
... A38: 24 | E38: 363 | I38: 1471 | M38: 63 | Q38: 626
A39: Итого | E39: =SUM(E15:E38) -> 12561 | I39: =SUM(I15:I38) -> 37337 | M39: =SUM(M15:M38) -> 2312 | Q39: =SUM(Q15:Q38) -> 16811
A40: 1. При наличии на предприятии отклонений от нормальных режимов электропотребления (временное изменение схем питания, остановка на ремонт, резкое снижение
A41: эл.потребления и т.д.) последние необходимо перечислить.
A42: Главный инженер АО "Вологдаоблэнерго" А.В. Чурляев
A43: составляется самим предприятием с соблюдением всех пунктов настоящей таблицы.

Sheet 7
B1: АО "Вологдаоблэнерго" | J1: код 900151 | N1: ПС "ЗАПАДНАЯ"
B2: наименование предприятия | N2: наименование источника питания
N3: _________________________________
B4: ул. Горького, 99 | I4: Таблица № 1 | O4: РП 7
B5: адрес
A6: почасовых записей показаний электрических счетчиков
A7: в режимный день 21 ДЕКАБРЯ 2022 г.
A8: 371 | B8: 367
A9: часы суток | B9: Активная энергия | J9: Реактивная энергия
B10: яч. 3 "П/Я-1" | F10: яч. 10 "П/Я-2" | J10: яч. 3 "П/Я-1" | N10: яч. 10 "П/Я-2"
B11: Расчет. Коэф. | E11: 12000 | F11: Расчет. Коэф. | I11: 7200 | J11: Расчет. Коэф. | M11: =E11 -> 12000 | N11: Расчет. Коэф. | Q11: =I11 -> 7200
B12: показания счетчика | C12: разность | E12: расход эл.энергии за час | F12: показания счетчика | G12: разность | I12: расход эл.энергии за час | J12: показания счетчика | K12: разность | M12: расход эл.энергии за час | N12: показания счетчика | O12: разность | Q12: расход эл.энергии за час
A13: 1 | B13: 2 | C13: 3 | E13: 4 | F13: 5 | G13: 6 | I13: 7 | J13: 8 | K13: 9 | M13: 10 | N13: 11 | O13: 12 | Q13: 13
A14: 0
A15: 1 | E15: 712 | I15: 1079 | M15: 137 | Q15: 138
A16: 2 | E16: 686 | I16: 1227 | M16: 133 | Q16: 187
A17: 3 | E17: 678 | I17: 1246 | M17: 127 | Q17: 189
A18: 4 | E18: 703 | I18: 1206 | M18: 144 | Q18: 197
A19: 5 | E19: 740 | I19: 1216 | M19: 143 | Q19: 191
A20: 6 | E20: 838 | I20: 1300 | M20: 166 | Q20: 181
A21: 7 | E21: 966 | I21: 1486 | M21: 203 | Q21: 181
A22: 8 | E22: 1111 | I22: 1726 | M22: 268 | Q22: 195
A23: 9 | E23: 1386 | I23: 1835 | M23: 322 | Q23: 242
A24: 10 | E24: 1399 | I24: 1905 | M24: 338 | Q24: 261
A25: 11 | E25: 1266 | I25: 1982 | M25: 343 | Q25: 255
A26: 12 | E26: 1209 | I26: 1971 | M26: 340 | Q26: 256
... A38: 24 | E38: 885 | I38: 1479 | M38: 187 | Q38: 170
A39: Итого | E39: =SUM(E15:E38) -> 24941 | I39: =SUM(I15:I38) -> 39971 | M39: =SUM(M15:M38) -> 5679 | Q39: =SUM(Q15:Q38) -> 4986
A40: 1. При наличии на предприятии отклонений от нормальных режимов электропотребления (временное изменение схем питания, остановка на ремонт, резкое снижение
A41: эл.потребления и т.д.) последние необходимо перечислить.
A42: Главный инженер АО "Вологдаоблэнерго" А.В. Чурляев
A43: составляется самим предприятием с соблюдением всех пунктов настоящей таблицы.

Sheet 8
B1: АО "Вологдаоблэнерго" | J1: код 900151 | N1: ПС "ЗАПАДНАЯ"
B2: наименование предприятия | I2: _ | N2: наименование источника питания
N3: _________________________________
B4: ул. Горького, 99 | I4: Таблица № 1 | O4: РП 35; РП 37
B5: адрес
A6: почасовых записей показаний электрических счетчиков
A7: в режимный день 21 ДЕКАБРЯ 2022 г.
A8: 129 | B8: 130
A9: часы суток | B9: Активная энергия | J9: Реактивная энергия
B10: яч. 15 "РП -35" | F10: яч. 35 "РП-37" | J10: яч. 15 "РП -35" | N10: яч. 35 "РП-37"
B11: Расчет. Коэф. | E11: 3600 | F11: Расчет. Коэф. | I11: 4800 | J11: Расчет. Коэф. | M11: =E11 -> 3600 | N11: Расчет. Коэф. | Q11: =I11 -> 4800
B12: показания счетчика | C12: разность | E12: расход эл.энергии за час | F12: показания счетчика | G12: разность | I12: расход эл.энергии за час | J12: показания счетчика | K12: разность | M12: расход эл.энергии за час | N12: показания счетчика | O12: разность | Q12: расход эл.энергии за час
A13: 1 | B13: 2 | C13: 3 | E13: 4 | F13: 5 | G13: 6 | I13: 7 | J13: 8 | K13: 9 | M13: 10 | N13: 11 | O13: 12 | Q13: 13
A14: 0
A15: 1 | E15: 466 | I15: 896 | M15: 249 | Q15: 177
A16: 2 | E16: 465 | I16: 850 | M16: 248 | Q16: 166
A17: 3 | E17: 465 | I17: 943 | M17: 248 | Q17: 232
A18: 4 | E18: 465 | I18: 895 | M18: 250 | Q18: 214
A19: 5 | E19: 465 | I19: 833 | M19: 247 | Q19: 166
A20: 6 | E20: 464 | I20: 896 | M20: 248 | Q20: 162
A21: 7 | E21: 328 | I21: 955 | M21: 177 | Q21: 150
A22: 8 | E22: 304 | I22: 1005 | M22: 169 | Q22: 144
A23: 9 | E23: 305 | I23: 1066 | M23: 169 | Q23: 168
A24: 10 | E24: 304 | I24: 1201 | M24: 170 | Q24: 231
A25: 11 | E25: 305 | I25: 1233 | M25: 171 | Q25: 303
A26: 12 | E26: 305 | I26: 1133 | M26: 172 | Q26: 267
... A38: 24 | E38: 306 | I38: 923 | M38: 178 | Q38: 206
A39: Итого | E39: =SUM(E15:E38) -> 8305 | I39: =SUM(I15:I38) -> 24645 | M39: =SUM(M15:M38) -> 4578 | Q39: =SUM(Q15:Q38) -> 4954
A40: 1. При наличии на предприятии отклонений от нормальных режимов электропотребления (временное изменение схем питания, остановка на ремонт, резкое снижение
A41: эл.потребления и т.д.) последние необходимо перечислить.
A42: Главный инженер АО "Вологдаоблэнерго" А.В. Чурляев
A43: составляется самим предприятием с соблюдением всех пунктов настоящей таблицы.

Sheet 9
B1: АО "Вологдаоблэнерго" | J1: код 900151 | N1: ПС "ЗАПАДНАЯ"
B2: наименование предприятия | N2: наименование источника питания
N3: _________________________________
B4: ул. Горького, 99 | I4: Таблица № 1 | O4: РП 28
B5: адрес
A6: почасовых записей показаний электрических счетчиков
A7: в режимный день 21 ДЕКАБРЯ 2022 г.
A8: 366 | B8: 369
A9: часы суток | B9: Активная энергия | J9: Реактивная энергия
B10: яч. 17 "ГОРОД-2" | F10: яч. 22 - "ОЧИСТНЫЕ-2" | J10: ЯЧ. №17 - "ГОРОД-2" | N10: ЯЧ. №22 - "ОЧИСТНЫЕ-2"
B11: Расчет. Коэф. | E11: 7200 | F11: Расчет. Коэф. | I11: 7200 | J11: Расчет. Коэф. | M11: =E11 -> 7200 | N11: Расчет. Коэф. | Q11: =I11 -> 7200
B12: показания счетчика | C12: разность | E12: расход эл.энергии за час | F12: показания счетчика | G12: разность | I12: расход эл.энергии за час | J12: показания счетчика | K12: разность | M12: расход эл.энергии за час | N12: показания счетчика | O12: разность | Q12: расход эл.энергии за час
A13: 1 | B13: 2 | C13: 3 | E13: 4 | F13: 5 | G13: 6 | I13: 7 | J13: 8 | K13: 9 | M13: 10 | N13: 11 | O13: 12 | Q13: 13
A14: 0
A15: 1 | E15: 711 | I15: 690 | M15: 120 | Q15: 291
A16: 2 | E16: 690 | I16: 683 | M16: 118 | Q16: 292
A17: 3 | E17: 658 | I17: 793 | M17: 117 | Q17: 359
A18: 4 | E18: 676 | I18: 728 | M18: 121 | Q18: 318
A19: 5 | E19: 694 | I19: 675 | M19: 119 | Q19: 283
A20: 6 | E20: 708 | I20: 693 | M20: 121 | Q20: 287
A21: 7 | E21: 809 | I21: 699 | M21: 133 | Q21: 282
A22: 8 | E22: 959 | I22: 752 | M22: 163 | Q22: 280
A23: 9 | E23: 1175 | I23: 872 | M23: 242 | Q23: 327
A24: 10 | E24: 1257 | I24: 906 | M24: 276 | Q24: 329
A25: 11 | E25: 1221 | I25: 1011 | M25: 287 | Q25: 388
A26: 12 | E26: 1226 | I26: 997 | M26: 291 | Q26: 392
... A38: 24 | E38: 801 | I38: 716 | M38: 126 | Q38: 310
A39: Итого | E39: =SUM(E15:E38) -> 23700 | I39: =SUM(I15:I38) -> 19533 | M39: =SUM(M15:M38) -> 4571 | Q39: =SUM(Q15:Q38) -> 7810
A40: 1. При наличии на предприятии отклонений от нормальных режимов электропотребления (временное изменение схем питания, остановка на ремонт, резкое снижение
A41: эл.потребления и т.д.) последние необходимо перечислить.
A42: Главный инженер АО "Вологдаоблэнерго" А.В. Чурляев
A43: составляется самим предприятием с соблюдением всех пунктов настоящей таблицы.

Sheet 10
B1: АО "Вологдаоблэнерго" | J1: код 900151 | N1: ПС "СЕВЕРНАЯ 35/6 кВ
B2: наименование предприятия | N2: наименование источника питания
N3: _________________________________
B4: ул. Горького, 99 | I4: Таблица № 1 | N4: Т1, Т2 | O4: РП 5
B5: адрес
A6: почасовых записей показаний электрических счетчиков
A7: в режимный день 21 ДЕКАБРЯ 2022 г.
A8: 325 | B8: 328
A9: часы суток | B9: Активная энергия | J9: Реактивная энергия
B10: Т 1 -РП 5 Ф 3 ввод № 1 | F10: Т 2 - РП 5 Ф 17 ввод № 2 | J10: Т 1 -РП 5 Ф 3 ввод № 1 | N10: Т 2 - РП 5 Ф 17 ввод № 2
B11: Расчет. Коэф. | E11: 18000 | F11: Расчет. Коэф. | I11: 18000 | J11: Расчет. Коэф. | M11: =E11 -> 18000 | N11: Расчет. Коэф. | Q11: =I11 -> 18000
B12: показания счетчика | C12: разность | E12: расход эл.энергии за час | F12: показания счетчика | G12: разность | I12: расход эл.энергии за час | J12: показания счетчика | K12: разность | M12: расход эл.энергии за час | N12: показания счетчика | O12: разность | Q12: расход эл.энергии за час
A13: 1 | B13: 2 | C13: 3 | E13: 4 | F13: 5 | G13: 6 | I13: 7 | J13: 8 | K13: 9 | M13: 10 | N13: 11 | O13: 12 | Q13: 13
A14: 0
A15: 1 | E15: 1625.4 | I15: 2241 | M15: 349.2 | Q15: 509.4
A16: 2 | E16: 1553.4 | I16: 1890 | M16: 342 | Q16: 468
A17: 3 | E17: 1517.4 | I17: 1805.4 | M17: 327.6 | Q17: 451.8
A18: 4 | E18: 1492.2 | I18: 1791 | M18: 318.6 | Q18: 451.8
A19: 5 | E19: 1515.6 | I19: 1836 | M19: 327.6 | Q19: 437.4
A20: 6 | E20: 1634.4 | I20: 1963.8 | M20: 363.6 | Q20: 432
A21: 7 | E21: 1807.2 | I21: 2277 | M21: 372.6 | Q21: 432
A22: 8 | E22: 1980 | I22: 2498.4 | M22: 412.2 | Q22: 424.8
A23: 9 | E23: 2077.2 | I23: 2910.6 | M23: 410.4 | Q23: 586.8
A24: 10 | E24: 2122.2 | I24: 3110.4 | M24: 478.8 | Q24: 630
A25: 11 | E25: 2125.8 | I25: 3114 | M25: 480.6 | Q25: 601.2
A26: 12 | E26: 2131.2 | I26: 3213 | M26: 468 | Q26: 673.2
... A38: 24 | E38: 1656 | I38: 2113.2 | M38: 298.8 | Q38: 412.2
A39: Итого | E39: =SUM(E15:E38) -> 46166.4 | I39: =SUM(I15:I38) -> 63041.4 | M39: =SUM(M15:M38) -> 9324 | Q39: =SUM(Q15:Q38) -> 12313.8
A40: 1. При наличии на предприятии отклонений от нормальных режимов электропотребления (временное изменение схем питания, остановка на ремонт, резкое снижение
A41: эл.потребления и т.д.) последние необходимо перечислить.
A42: Главный инженер АО "Вологдаоблэнерго" А.В. Чурляев
A43: составляется самим предприятием с соблюдением всех пунктов настоящей таблицы.

Sheet 11
B1: АО "Вологдаоблэнерго" | G1: код 900151 | I1: ПС "ВОЛОГДА-ЮЖНАЯ" 110/6 транзит через РТП "ТЕПЛИЧНОГО ХОЗ - ВА"
B2: наименование предприятия | N2: наименование источника питания
N3: _________________________________
B4: ул. Горького, 99 | I4: Таблица № 1 | O4: ТП 438
B5: адрес
A6: почасовых записей показаний электрических счетчиков
A7: в режимный день 21 ДЕКАБРЯ 2022 г.
A8: 635 | B8: 634
A9: часы суток | B9: Активная энергия | J9: Реактивная энергия
B10: ЯЧ. 3 - ф. "Микрорайон-1" ввод № 1 | F10: яч. 13 - ф. "Микрорайон-2" ввод № 2 | J10: ЯЧ. 3 - ф. "Микрорайон-1" ввод № 1 | N10: яч. 13 - ф. "Микрорайон-2" ввод № 2
B11: Расчет. Коэф. | E11: 3600 | F11: Расчет. Коэф. | I11: 3600 | J11: Расчет. Коэф. | M11: =E11 -> 3600 | N11: Расчет. Коэф. | Q11: =I11 -> 3600
B12: показания счетчика | C12: разность | E12: расход эл.энергии за час | F12: показания счетчика | G12: разность | I12: расход эл.энергии за час | J12: показания счетчика | K12: разность | M12: расход эл.энергии за час | N12: показания счетчика | O12: разность | Q12: расход эл.энергии за час
A13: 1 | B13: 2 | C13: 3 | E13: 4 | F13: 5 | G13: 6 | I13: 7 | J13: 8 | K13: 9 | M13: 10 | N13: 11 | O13: 12 | Q13: 13
A14: 0
A15: 1 | E15: 116.28 | I15: 144 | M15: 43.92 | Q15: 47.88
A16: 2 | E16: 108.72 | I16: 131.4 | M16: 44.28 | Q16: 49.32
A17: 3 | E17: 101.88 | I17: 127.08 | M17: 43.2 | Q17: 48.24
A18: 4 | E18: 100.44 | I18: 127.8 | M18: 43.56 | Q18: 48.96
A19: 5 | E19: 104.04 | I19: 148.68 | M19: 48.24 | Q19: 50.76
A20: 6 | E20: 118.08 | I20: 168.12 | M20: 46.08 | Q20: 52.56
A21: 7 | E21: 158.4 | I21: 186.48 | M21: 43.56 | Q21: 50.04
A22: 8 | E22: 191.88 | I22: 202.32 | M22: 48.24 | Q22: 51.12
A23: 9 | E23: 208.8 | I23: 231.48 | M23: 56.88 | Q23: 50.76
A24: 10 | E24: 210.24 | I24: 252.72 | M24: 57.6 | Q24: 47.52
A25: 11 | E25: 209.88 | I25: 256.32 | M25: 52.56 | Q25: 46.08
A26: 12 | E26: 217.08 | I26: 253.08 | M26: 55.08 | Q26: 47.52
... A38: 24 | E38: 131.04 | I38: 175.68 | M38: 41.76 | Q38: 43.92
A39: Итого | E39: =SUM(E15:E38) -> 4190.76 | I39: =SUM(I15:I38) -> 5095.8 | M39: =SUM(M15:M38) -> 1203.12 | Q39: =SUM(Q15:Q38) -> 1175.76
A40: 1. При наличии на предприятии отклонений от нормальных режимов электропотребления (временное изменение схем питания, остановка на ремонт, резкое снижение
A41: эл.потребления и т.д.) последние необходимо перечислить.
A42: Главный инженер АО "Вологдаоблэнерго" А.В. Чурляев
A43: составляется самим предприятием с соблюдением всех пунктов настоящей таблицы.

Sheet 12
B1: АО "Вологдаоблэнерго" | J1: код 900151 | N1: ГПП 110/10 кВ "ВОМЗ"
B2: наименование предприятия | N2: наименование источника питания
N3: _________________________________
B4: ул. Горького, 99 | I4: Таблица № 1 | O4: РП 29
B5: адрес
A6: почасовых записей показаний электрических счетчиков
A7: в режимный день 21 ДЕКАБРЯ 2022 г.
A8: 613 | B8: 610
A9: часы суток | B9: Активная энергия | J9: Реактивная энергия
B10: ЯЧ.47 - РП 29 ввод № 1 | F10: ЯЧ.31 - РП 29 ввод № 2 | J10: ЯЧ.47 - РП 29 ввод № 1 | N10: ЯЧ.31 - РП 29 ввод № 2
B11: Расчет. Коэф. | E11: 12000 | F11: Расчет. Коэф. | I11: 20000 | J11: Расчет. Коэф. | M11: =E11 -> 12000 | N11: Расчет. Коэф. | Q11: =I11 -> 20000
B12: показания счетчика | C12: разность | E12: расход эл.энергии за час | F12: показания счетчика | G12: разность | I12: расход эл.энергии за час | J12: показания счетчика | K12: разность | M12: расход эл.энергии за час | N12: показания счетчика | O12: разность | Q12: расход эл.энергии за час
A13: 1 | B13: 2 | C13: 3 | E13: 4 | F13: 5 | G13: 6 | I13: 7 | J13: 8 | K13: 9 | M13: 10 | N13: 11 | O13: 12 | Q13: 13
A14: 0
A15: 1 | E15: 986 | I15: 736 | M15: 273 | Q15: 118
A16: 2 | E16: 896 | I16: 674 | M16: 268 | Q16: 108
A17: 3 | E17: 846 | I17: 650 | M17: 263 | Q17: 110
A18: 4 | E18: 837 | I18: 642 | M18: 261 | Q18: 108
A19: 5 | E19: 856 | I19: 668 | M19: 254 | Q19: 106
A20: 6 | E20: 975 | I20: 750 | M20: 260 | Q20: 110
A21: 7 | E21: 1275 | I21: 994 | M21: 270 | Q21: 120
A22: 8 | E22: 1586 | I22: 1244 | M22: 323 | Q22: 152
A23: 9 | E23: 1867 | I23: 1528 | M23: 334 | Q23: 182
A24: 10 | E24: 2055 | I24: 1590 | M24: 301 | Q24: 168
A25: 11 | E25: 2180 | I25: 1604 | M25: 302 | Q25: 174
A26: 12 | E26: 2183 | I26: 1642 | M26: 309 | Q26: 180
... A38: 24 | E38: 1104 | I38: 824 | M38: 233 | Q38: 88
A39: Итого | E39: =SUM(E15:E38) -> 39100 | I39: =SUM(I15:I38) -> 29128 | M39: =SUM(M15:M38) -> 6984 | Q39: =SUM(Q15:Q38) -> 3340
A40: 1. При наличии на предприятии отклонений от нормальных режимов электропотребления (временное изменение схем питания, остановка на ремонт, резкое снижение
A41: эл.потребления и т.д.) последние необходимо перечислить.
A42: Главный инженер АО "Вологдаоблэнерго" А.В. Чурляев
A43: составляется самим предприятием с соблюдением всех пунктов настоящей таблицы.

Sheet 13
B1: АО "Вологдаоблэнерго" | J1: код 900151 | N1: ГПП 110/10 кВ "ВОМЗ"
B2: наименование предприятия | N2: наименование источника питания
N3: _________________________________
B4: ул. Горького, 99 | I4: Таблица № 1 | O4: РП 14
B5: адрес
A6: почасовых записей показаний электрических счетчиков
A7: в режимный день 21 ДЕКАБРЯ 2022 г.
A8: 614 | B8: 615
A9: часы суток | B9: Активная энергия | J9: Реактивная энергия
B10: ЯЧ.5 - РП 14 ввод № 1 | F10: ЯЧ.22 - РП 14 ввод № 2 | J10: ЯЧ.5 - РП 14 ввод № 1 | N10: ЯЧ.22 - РП 14 ввод № 2
B11: Расчет. Коэф. | E11: 12000 | F11: Расчет. Коэф. | I11: 12000 | J11: Расчет. Коэф. | M11: =E11 -> 12000 | N11: Расчет. Коэф. | Q11: =I11 -> 12000
B12: показания счетчика | C12: разность | E12: расход эл.энергии за час | F12: показания счетчика | G12: разность | I12: расход эл.энергии за час | J12: показания счетчика | K12: разность | M12: расход эл.энергии за час | N12: показания счетчика | O12: разность | Q12: расход эл.энергии за час
A13: 1 | B13: 2 | C13: 3 | E13: 4 | F13: 5 | G13: 6 | I13: 7 | J13: 8 | K13: 9 | M13: 10 | N13: 11 | O13: 12 | Q13: 13
A14: 0
A15: 1 | E15: 2068 | I15: 2066 | M15: 9 | Q15: 145
A16: 2 | E16: 1907 | I16: 1928 | M16: 15 | Q16: 72
A17: 3 | E17: 1824 | I17: 1859 | M17: 13 | Q17: 70
A18: 4 | E18: 1819 | I18: 1849 | M18: 17 | Q18: 96
A19: 5 | E19: 1829 | I19: 1858 | M19: 14 | Q19: 60
A20: 6 | E20: 1986 | I20: 2014 | M20: 11 | Q20: 91
A21: 7 | E21: 2408 | I21: 2482 | M21: 13 | Q21: 106
A22: 8 | E22: 2716 | I22: 2983 | M22: 54 | Q22: 144
A23: 9 | E23: 3040 | I23: 3427 | M23: 70 | Q23: 274
A24: 10 | E24: 3299 | I24: 3557 | M24: 39 | Q24: 230
A25: 11 | E25: 3372 | I25: 3617 | M25: 66 | Q25: 216
A26: 12 | E26: 3396 | I26: 3797 | M26: 69 | Q26: 291
... A38: 24 | E38: 2252 | I38: 2349 | M38: 2 | Q38: 6
A39: Итого | E39: =SUM(E15:E38) -> 68043 | I39: =SUM(I15:I38) -> 73037 | M39: =SUM(M15:M38) -> 831 | Q39: =SUM(Q15:Q38) -> 3833
A40: 1. При наличии на предприятии отклонений от нормальных режимов электропотребления (временное изменение схем питания, остановка на ремонт, резкое снижение
A41: эл.потребления и т.д.) последние необходимо перечислить.
A42: Главный инженер АО "Вологдаоблэнерго" А.В. Чурляев
A43: составляется самим предприятием с соблюдением всех пунктов настоящей таблицы.

Sheet 14
B1: АО "Вологдаоблэнерго" | J1: код 900151 | N1: ГПП 110/10 кВ "ВОМЗ"
B2: наименование предприятия | N2: наименование источника питания
N3: _________________________________
B4: ул. Горького, 99 | I4: Таблица № 1 | O4: РП 2
B5: адрес
A6: почасовых записей показаний электрических счетчиков
A7: в режимный день 21 ДЕКАБРЯ 2022 г.
A8: 612 | B8: 611
A9: часы суток | B9: Активная энергия | J9: Реактивная энергия
B10: ЯЧ.44 - РП 2 ввод № 1 | F10: ЯЧ.26в - РП 2 ввод № 2 | J10: ЯЧ.44 - РП 2 ввод № 1 | N10: ЯЧ.26в - РП 2 ввод № 2
B11: Расчет. Коэф. | E11: 12000 | F11: Расчет. Коэф. | I11: 12000 | J11: Расчет. Коэф. | M11: =E11 -> 12000 | N11: Расчет. Коэф. | Q11: =I11 -> 12000
B12: показания счетчика | C12: разность | E12: расход эл.энергии за час | F12: показания счетчика | G12: разность | I12: расход эл.энергии за час | J12: показания счетчика | K12: разность | M12: расход эл.энергии за час | N12: показания счетчика | O12: разность | Q12: расход эл.энергии за час
A13: 1 | B13: 2 | C13: 3 | E13: 4 | F13: 5 | G13: 6 | I13: 7 | J13: 8 | K13: 9 | M13: 10 | N13: 11 | O13: 12 | Q13: 13
A14: 0
A15: 1 | E15: 649 | I15: 481 | M15: 17 | Q15: 43
A16: 2 | E16: 600 | I16: 450 | M16: 16 | Q16: 48
A17: 3 | E17: 576 | I17: 433 | M17: 18 | Q17: 43
A18: 4 | E18: 571 | I18: 426 | M18: 17 | Q18: 40
A19: 5 | E19: 566 | I19: 445 | M19: 12 | Q19: 39
A20: 6 | E20: 586 | I20: 485 | M20: 15 | Q20: 42
A21: 7 | E21: 696 | I21: 582 | M21: 35 | Q21: 34
A22: 8 | E22: 857 | I22: 691 | M22: 54 | Q22: 24
A23: 9 | E23: 945 | I23: 784 | M23: 72 | Q23: 28
A24: 10 | E24: 993 | I24: 878 | M24: 79 | Q24: 32
A25: 11 | E25: 1051 | I25: 935 | M25: 83 | Q25: 42
A26: 12 | E26: 1050 | I26: 898 | M26: 89 | Q26: 41
... A38: 24 | E38: 724 | I38: 528 | M38: 3 | Q38: 28
A39: Итого | E39: =SUM(E15:E38) -> 21055 | I39: =SUM(I15:I38) -> 17283 | M39: =SUM(M15:M38) -> 1062 | Q39: =SUM(Q15:Q38) -> 919
A40: 1. При наличии на предприятии отклонений от нормальных режимов электропотребления (временное изменение схем питания, остановка на ремонт, резкое снижение
A41: эл.потребления и т.д.) последние необходимо перечислить.
A42: Главный инженер АО "Вологдаоблэнерго" А.В. Чурляев
A43: составляется самим предприятием с соблюдением всех пунктов настоящей таблицы.

Sheet 15
B1: АО "Вологдаоблэнерго" | J1: код 900151 | N1: ПС ВОЛОГДА-ЮЖНАЯ РУ - 6 кВ
B2: наименование предприятия | N2: наименование источника питания
N3: _________________________________
B4: ул. Горького, 99 | I4: Таблица № 1 | N4: ТП 450 | Q4: ТП 630
B5: адрес
A6: почасовых записей показаний электрических счетчиков
A7: в режимный день 21 ДЕКАБРЯ 2022 г.
A8: 591 | B8: 595
A9: часы суток | B9: Активная энергия | J9: Реактивная энергия
B10: ЯЧ.№ 206 - "ГОРОД-15" | F10: ЯЧ.№103 - "ТУБДИСПАНСЕР" | J10: =B10 -> ЯЧ.№ 206 - "ГОРОД-15" | N10: =F10 -> ЯЧ.№103 - "ТУБДИСПАНСЕР"
B11: Расчет. Коэф. | E11: 4800 | F11: Расчет. Коэф. | I11: 2400 | J11: Расчет. Коэф. | M11: =E11 -> 4800 | N11: Расчет. Коэф. | Q11: =I11 -> 2400
B12: показания счетчика | C12: разность | E12: расход эл.энергии за час | F12: показания счетчика | G12: разность | I12: расход эл.энергии за час | J12: показания счетчика | K12: разность | M12: расход эл.энергии за час | N12: показания счетчика | O12: разность | Q12: расход эл.энергии за час
A13: 1 | B13: 2 | C13: 3 | E13: 4 | F13: 5 | G13: 6 | I13: 7 | J13: 8 | K13: 9 | M13: 10 | N13: 11 | O13: 12 | Q13: 13
A14: 0
A15: 1 | E15: 209 | I15: 255 | M15: 48 | Q15: 29
A16: 2 | E16: 188 | I16: 242 | M16: 41 | Q16: 29
A17: 3 | E17: 188 | I17: 234 | M17: 39 | Q17: 27
A18: 4 | E18: 181 | I18: 231 | M18: 38 | Q18: 29
A19: 5 | E19: 202 | I19: 231 | M19: 39 | Q19: 26
A20: 6 | E20: 208 | I20: 236 | M20: 39 | Q20: 25
A21: 7 | E21: 264 | I21: 278 | M21: 54 | Q21: 27
A22: 8 | E22: 311 | I22: 341 | M22: 88 | Q22: 38
A23: 9 | E23: 382 | I23: 391 | M23: 168 | Q23: 67
A24: 10 | E24: 413 | I24: 423 | M24: 206 | Q24: 81
A25: 11 | E25: 425 | I25: 409 | M25: 203 | Q25: 69
A26: 12 | E26: 439 | I26: 425 | M26: 215 | Q26: 71
... A38: 24 | E38: 222 | I38: 285 | M38: 37 | Q38: 25
A39: Итого | E39: =SUM(E15:E38) -> 7514 | I39: =SUM(I15:I38) -> 8385 | M39: =SUM(M15:M38) -> 2472 | Q39: =SUM(Q15:Q38) -> 1056
A40: 1. При наличии на предприятии отклонений от нормальных режимов электропотребления (временное изменение схем питания, остановка на ремонт, резкое снижение
A41: эл.потребления и т.д.) последние необходимо перечислить.
A42: Главный инженер АО "Вологдаоблэнерго" А.В. Чурляев
A43: составляется самим предприятием с соблюдением всех пунктов настоящей таблицы.

Sheet 16
B1: АО "Вологдаоблэнерго" | J1: код 900151 | N1: ПС ВОЛОГДА-ЮЖНАЯ РУ-10 кВ
B2: наименование предприятия | I2: _ | N2: наименование источника питания
N3: _________________________________
B4: ул. Горького, 99 | I4: Таблица № 1 | O4: РП 32
B5: адрес
A6: почасовых записей показаний электрических счетчиков
A7: в режимный день 21 ДЕКАБРЯ 2022 г.
A8: 590 | B8: 593
A9: часы суток | B9: Активная энергия | J9: Реактивная энергия
B10: ЯЧ.№206 - "ГОРОД-10" | F10: ЯЧ.№404- "ГОРОД-14" | J10: =B10 -> ЯЧ.№206 - "ГОРОД-10" | N10: =F10 -> ЯЧ.№404- "ГОРОД-14"
B11: Расчет. Коэф. | E11: 6000 | F11: Расчет. Коэф. | I11: 3000 | J11: Расчет. Коэф. | M11: =E11 -> 6000 | N11: Расчет. Коэф. | Q11: =I11 -> 3000
B12: показания счетчика | C12: разность | E12: расход эл.энергии за час | F12: показания счетчика | G12: разность | I12: расход эл.энергии за час | J12: показания счетчика | K12: разность | M12: расход эл.энергии за час | N12: показания счетчика | O12: разность | Q12: расход эл.энергии за час
A13: 1 | B13: 2 | C13: 3 | E13: 4 | F13: 5 | G13: 6 | I13: 7 | J13: 8 | K13: 9 | M13: 10 | N13: 11 | O13: 12 | Q13: 13
A14: 0
A15: 1 | E15: 497 | I15: 812 | M15: 11 | Q15: 81
A16: 2 | E16: 482 | I16: 798 | M16: 10 | Q16: 77
A17: 3 | E17: 470 | I17: 777 | M17: 4 | Q17: 77
A18: 4 | E18: 529 | I18: 774 | M18: 9 | Q18: 78
A19: 5 | E19: 572 | I19: 773 | M19: 8 | Q19: 70
A20: 6 | E20: 559 | I20: 786 | M20: 8 | Q20: 68
A21: 7 | E21: 577 | I21: 869 | M21: 8 | Q21: 66
A22: 8 | E22: 772 | I22: 1066 | M22: 14 | Q22: 61
A23: 9 | E23: 894 | I23: 1414 | M23: 17 | Q23: 104
A24: 10 | E24: 889 | I24: 1498 | M24: 13 | Q24: 126
A25: 11 | E25: 862 | I25: 1483 | M25: 19 | Q25: 125
A26: 12 | E26: 863 | I26: 1432 | M26: 15 | Q26: 115
... A38: 24 | E38: 584 | I38: 829 | M38: 0 | Q38: 24
A39: Итого | E39: =SUM(E15:E38) -> 16682 | I39: =SUM(I15:I38) -> 26348 | M39: =SUM(M15:M38) -> 232 | Q39: =SUM(Q15:Q38) -> 1947
A40: 1. При наличии на предприятии отклонений от нормальных режимов электропотребления (временное изменение схем питания, остановка на ремонт, резкое снижение
A41: эл.потребления и т.д.) последние необходимо перечислить.
A42: Главный инженер АО "Вологдаоблэнерго" А.В. Чурляев
A43: составляется самим предприятием с соблюдением всех пунктов настоящей таблицы.

Sheet 17
B1: АО "Вологдаоблэнерго" | J1: код 900151 | N1: ПС ВОЛОГДА-ЮЖНАЯ РУ-10 кВ
B2: наименование предприятия | N2: наименование источника питания
N3: РП-44
B4: ул. Горького, 99 | I4: Таблица № 1
B5: адрес
A6: почасовых записей показаний электрических счетчиков
A7: в режимный день 21 ДЕКАБРЯ 2022 г.
A9: часы суток | B9: Активная энергия | J9: Реактивная энергия
B10: яч. 307 ф "Охмыльцево-1" | F10: яч. 409 ф "Охмыльцево-2" | J10: яч. 307 ф "Охмыльцево-1" | N10: яч. 409 ф "Охмыльцево-2"
B11: Расчет. Коэф. | F11: Расчет. Коэф. | J11: Расчет. Коэф. | N11: Расчет. Коэф.
B12: показания счетчика | C12: разность | E12: расход эл.энергии за час | F12: показания счетчика | G12: разность | I12: расход эл.энергии за час | J12: показания счетчика | K12: разность | M12: расход эл.энергии за час | N12: показания счетчика | O12: разность | Q12: расход эл.энергии за час
A13: 1 | B13: 2 | C13: 3 | E13: 4 | F13: 5 | G13: 6 | I13: 7 | J13: 8 | K13: 9 | M13: 10 | N13: 11 | O13: 12 | Q13: 13
A14: 0
A15: 1 | E15: 779 | I15: 466 | M15: 0 | Q15: 0
A16: 2 | E16: 692 | I16: 411 | M16: 0 | Q16: 0
A17: 3 | E17: 669 | I17: 381 | M17: 0 | Q17: 0
A18: 4 | E18: 650 | I18: 375 | M18: 0 | Q18: 0
A19: 5 | E19: 663 | I19: 374 | M19: 0 | Q19: 0
A20: 6 | E20: 750 | I20: 430 | M20: 0 | Q20: 0
A21: 7 | E21: 993 | I21: 606 | M21: 0 | Q21: 0
A22: 8 | E22: 1114 | I22: 679 | M22: 0 | Q22: 0
A23: 9 | E23: 1141 | I23: 687 | M23: 0 | Q23: 0
A24: 10 | E24: 1163 | I24: 724 | M24: 0 | Q24: 0
A25: 11 | E25: 1259 | I25: 752 | M25: 0 | Q25: 0
A26: 12 | E26: 1279 | I26: 732 | M26: 0 | Q26: 0
... A38: 24 | E38: 918 | I38: 573 | M38: 0 | Q38: 0
A39: Итого | E39: =SUM(E15:E38) -> 27093 | I39: =SUM(I15:I38) -> 16249 | M39: =SUM(M15:M38) -> 1 | Q39: =SUM(Q15:Q38) -> 0
A40: 1. При наличии на предприятии отклонений от нормальных режимов электропотребления (временное изменение схем питания, остановка на ремонт, резкое снижение
A41: эл.потребления и т.д.) последние необходимо перечислить.
A42: Главный инженер АО "Вологдаоблэнерго" А.В. Чурляев
A43: составляется самим предприятием с соблюдением всех пунктов настоящей таблицы.

Sheet 18
B1: АО "Вологдаоблэнерго" | J1: код 900151 | N1: ПС ВОЛОГДА-ЮЖНАЯ РУ-10 кВ
B2: наименование предприятия | N2: наименование источника питания
N3: _________________________________
B4: ул. Горького, 99 | I4: Таблица № 1 | O4: РП 26
B5: адрес
A6: почасовых записей показаний электрических счетчиков
A7: в режимный день 21 ДЕКАБРЯ 2022 г.
A8: 589 | B8: 592
A9: часы суток | B9: Активная энергия | J9: Реактивная энергия
B10: ЯЧ. № 107- ф."ГОРОД 7" | F10: ЯЧ. № 204 - ф."ГОРОД 17" | J10: ЯЧ. № 107- ф."ГОРОД 7" | N10: ЯЧ. № 204 - ф."ГОРОД 17"
B11: Расчет. Коэф. | E11: 8000 | F11: Расчет. Коэф. | I11: 8000 | J11: Расчет. Коэф. | M11: =E11 -> 8000 | N11: Расчет. Коэф. | Q11: =I11 -> 8000
B12: показания счетчика | C12: разность | E12: расход эл.энергии за час | F12: показания счетчика | G12: разность | I12: расход эл.энергии за час | J12: показания счетчика | K12: разность | M12: расход эл.энергии за час | N12: показания счетчика | O12: разность | Q12: расход эл.энергии за час
A13: 1 | B13: 2 | C13: 3 | E13: 4 | F13: 5 | G13: 6 | I13: 7 | J13: 8 | K13: 9 | M13: 10 | N13: 11 | O13: 12 | Q13: 13
A14: 0
A15: 1 | E15: 1745 | I15: 1126 | M15: 180 | Q15: 173
A16: 2 | E16: 1588 | I16: 1040 | M16: 175 | Q16: 167
A17: 3 | E17: 1507 | I17: 999 | M17: 169 | Q17: 165
A18: 4 | E18: 1468 | I18: 991 | M18: 166 | Q18: 174
A19: 5 | E19: 1486 | I19: 1023 | M19: 162 | Q19: 160
A20: 6 | E20: 1601 | I20: 1182 | M20: 168 | Q20: 161
A21: 7 | E21: 2083 | I21: 1487 | M21: 198 | Q21: 195
A22: 8 | E22: 2403 | I22: 1695 | M22: 317 | Q22: 238
A23: 9 | E23: 2520 | I23: 1878 | M23: 278 | Q23: 217
A24: 10 | E24: 2568 | I24: 1881 | M24: 251 | Q24: 201
A25: 11 | E25: 2571 | I25: 1827 | M25: 241 | Q25: 200
A26: 12 | E26: 2644 | I26: 1810 | M26: 263 | Q26: 203
... A38: 24 | E38: 2047 | I38: 1298 | M38: 133 | Q38: 125
A39: Итого | E39: =SUM(E15:E38) -> 57996 | I39: =SUM(I15:I38) -> 37822 | M39: =SUM(M15:M38) -> 5727 | Q39: =SUM(Q15:Q38) -> 4586
A40: 1. При наличии на предприятии отклонений от нормальных режимов электропотребления (временное изменение схем питания, остановка на ремонт, резкое снижение
A41: эл.потребления и т.д.) последние необходимо перечислить.
A42: Главный инженер АО "Вологдаоблэнерго" А.В. Чурляев
A43: составляется самим предприятием с соблюдением всех пунктов настоящей таблицы.

Sheet 19
B1: АО "Вологдаоблэнерго" | J1: код 900151 | N1: ПС ВОЛОГДА-ЮЖНАЯ РУ - 10 кВ
B2: наименование предприятия | N2: наименование источника питания
N3: _________________________________
B4: ул. Горького, 99 | I4: Таблица № 1 | O4: РП 43
B5: адрес
A6: почасовых записей показаний электрических счетчиков
A7: в режимный день 21 ДЕКАБРЯ 2022 г.
A8: 597 | B8: 596
A9: часы суток | B9: Активная энергия | J9: Реактивная энергия
B10: ЯЧ.№ 407 - "ГОРОД-3" | F10: ЯЧ.№ 305 - "ГОРОД-5" | J10: ЯЧ.№ 407- "ГОРОД-3" | N10: ЯЧ.№ 305- "ГОРОД-5"
B11: Расчет. Коэф. | E11: 6000 | F11: Расчет. Коэф. | I11: 4000 | J11: Расчет. Коэф. | M11: =E11 -> 6000 | N11: Расчет. Коэф. | Q11: =I11 -> 4000
B12: показания счетчика | C12: разность | E12: расход эл.энергии за час | F12: показания счетчика | G12: разность | I12: расход эл.энергии за час | J12: показания счетчика | K12: разность | M12: расход эл.энергии за час | N12: показания счетчика | O12: разность | Q12: расход эл.энергии за час
A13: 1 | B13: 2 | C13: 3 | E13: 4 | F13: 5 | G13: 6 | I13: 7 | J13: 8 | K13: 9 | M13: 10 | N13: 11 | O13: 12 | Q13: 13
A14: 0
A15: 1 | E15: 2169 | I15: 2054 | M15: 271 | Q15: 324
A16: 2 | E16: 2009 | I16: 1904 | M16: 260 | Q16: 317
A17: 3 | E17: 1933 | I17: 1857 | M17: 251 | Q17: 315
A18: 4 | E18: 1923 | I18: 1819 | M18: 247 | Q18: 309
A19: 5 | E19: 1972 | I19: 1818 | M19: 237 | Q19: 291
A20: 6 | E20: 2288 | I20: 1953 | M20: 252 | Q20: 307
A21: 7 | E21: 2684 | I21: 2296 | M21: 284 | Q21: 333
A22: 8 | E22: 3198 | I22: 2686 | M22: 338 | Q22: 395
A23: 9 | E23: 3628 | I23: 3013 | M23: 420 | Q23: 401
A24: 10 | E24: 3908 | I24: 3240 | M24: 462 | Q24: 392
A25: 11 | E25: 4013 | I25: 3414 | M25: 454 | Q25: 383
A26: 12 | E26: 4043 | I26: 3418 | M26: 457 | Q26: 400
... A38: 24 | E38: 2445 | I38: 2394 | M38: 175 | Q38: 276
A39: Итого | E39: =SUM(E15:E38) -> 78126 | I39: =SUM(I15:I38) -> 70673 | M39: =SUM(M15:M38) -> 8382 | Q39: =SUM(Q15:Q38) -> 8792
A40: 1. При наличии на предприятии отклонений от нормальных режимов электропотребления (временное изменение схем питания, остановка на ремонт, резкое снижение
A41: эл.потребления и т.д.) последние необходимо перечислить.
A42: Главный инженер АО "Вологдаоблэнерго" А.В. Чурляев
A43: составляется самим предприятием с соблюдением всех пунктов настоящей таблицы.

Sheet 20
B1: АО "Вологдаоблэнерго" | J1: код 900151 | N1: ПС ВОЛОГДА-ЮЖНАЯ РУ-10 кВ
B2: наименование предприятия | N2: наименование источника питания
N3: _________________________________
B4: ул. Горького, 99 | I4: Таблица № 1 | O4: РП 27
B5: адрес
A6: почасовых записей показаний электрических счетчиков
A7: в режимный день 21 ДЕКАБРЯ 2022 г.
A8: 30 | B8: 49
A9: часы суток | B9: Активная энергия | J9: Реактивная энергия
B10: ЯЧ. № 408 - "ГОРОД -1" | F10: ЯЧ.№ 105 - "РП 27" | J10: ЯЧ. № 408 - "ГОРОД -1" | N10: ЯЧ.№ 105 - "РП 27"
B11: Расчет. Коэф. | E11: 12000 | F11: Расчет. Коэф. | I11: 12000 | J11: Расчет. Коэф. | M11: =E11 -> 12000 | N11: Расчет. Коэф. | Q11: =I11 -> 12000
B12: показания счетчика | C12: разность | E12: расход эл.энергии за час | F12: показания счетчика | G12: разность | I12: расход эл.энергии за час | J12: показания счетчика | K12: разность | M12: расход эл.энергии за час | N12: показания счетчика | O12: разность | Q12: расход эл.энергии за час
A13: 1 | B13: 2 | C13: 3 | E13: 4 | F13: 5 | G13: 6 | I13: 7 | J13: 8 | K13: 9 | M13: 10 | N13: 11 | O13: 12 | Q13: 13
A14: 0
A15: 1 | E15: 0 | I15: 0 | M15: 0 | Q15: 0
A16: 2 | E16: 0 | I16: 0 | M16: 0 | Q16: 0
A17: 3 | E17: 0 | I17: 0 | M17: 0 | Q17: 0
A18: 4 | E18: 0 | I18: 0 | M18: 0 | Q18: 0
A19: 5 | E19: 0 | I19: 0 | M19: 0 | Q19: 0
A20: 6 | E20: 0 | I20: 0 | M20: 0 | Q20: 0
A21: 7 | E21: 0 | I21: 0 | M21: 0 | Q21: 0
A22: 8 | E22: 0 | I22: 0 | M22: 0 | Q22: 0
A23: 9 | E23: 0 | I23: 0 | M23: 0 | Q23: 0
A24: 10 | E24: 0 | I24: 0 | M24: 0 | Q24: 0
A25: 11 | E25: 0 | I25: 0 | M25: 0 | Q25: 0
A26: 12 | E26: 0 | I26: 0 | M26: 0 | Q26: 0
... A38: 24 | E38: 0 | I38: 0 | M38: 0 | Q38: 0
A39: Итого | E39: =SUM(E15:E38) -> 0 | I39: =SUM(I15:I38) -> 0 | M39: =SUM(M15:M38) -> 0 | Q39: =SUM(Q15:Q38) -> 0
A40: 1. При наличии на предприятии отклонений от нормальных режимов электропотребления (временное изменение схем питания, остановка на ремонт, резкое снижение
A41: эл.потребления и т.д.) последние необходимо перечислить.
A42: Главный инженер АО "Вологдаоблэнерго" А.В. Чурляев
A43: составляется самим предприятием с соблюдением всех пунктов настоящей таблицы.

Sheet 21
B1: АО "Вологдаоблэнерго" | J1: код 900151 | N1: ПС ВОЛОГДА-ЮЖНАЯ РУ-10 кВ
B2: наименование предприятия | N2: наименование источника питания
N3: яч. 406 ф "РОДИОНЦЕВО",
B4: ул. Горького, 99 | I4: Таблица № 1 | N4: КТП-906, ПКУ- ЛЭП-43
B5: адрес
A6: почасовых записей показаний электрических счетчиков
A7: в режимный день 21 ДЕКАБРЯ 2022 г.
A8: 362 | B8: 985
A9: часы суток | B9: Активная энергия | J9: Реактивная энергия
B10: яч. 406 ф "РОДИОНЦЕВО" - ПКУ | F10: КТП-906 | J10: яч. 406 ф "РОДИОНЦЕВО" - ПКУ | N10: КТП-906
B11: Расчет. Коэф. | E11: 2000 | F11: Расчет. Коэф. | I11: 80 | J11: Расчет. Коэф. | M11: =E11 -> 2000 | N11: Расчет. Коэф. | Q11: =I11 -> 80
B12: показания счетчика | C12: разность | E12: расход эл.энергии за час | F12: показания счетчика | G12: разность | I12: расход эл.энергии за час | J12: показания счетчика | K12: разность | M12: расход эл.энергии за час | N12: показания счетчика | O12: разность | Q12: расход эл.энергии за час
A13: 1 | B13: 2 | C13: 3 | E13: 4 | F13: 5 | G13: 6 | I13: 7 | J13: 8 | K13: 9 | M13: 10 | N13: 11 | O13: 12 | Q13: 13
A14: 0
A15: 1 | E15: 19.4 | I15: 38.04 | M15: 0 | Q15: 3.76
A16: 2 | E16: 19.6 | I16: 38 | M16: 0 | Q16: 3.8
A17: 3 | E17: 19.4 | I17: 38.24 | M17: 0 | Q17: 4.16
A18: 4 | E18: 20 | I18: 37.24 | M18: 0 | Q18: 3.84
A19: 5 | E19: 20 | I19: 37.08 | M19: 0 | Q19: 3.16
A20: 6 | E20: 20 | I20: 38.72 | M20: 0 | Q20: 3.36
A21: 7 | E21: 22.4 | I21: 40.68 | M21: 0 | Q21: 3.84
A22: 8 | E22: 21.6 | I22: 44.12 | M22: 0 | Q22: 3.88
A23: 9 | E23: 25 | I23: 44.68 | M23: 0 | Q23: 4.28
A24: 10 | E24: 23.8 | I24: 44.56 | M24: 0 | Q24: 4.6
A25: 11 | E25: 24.8 | I25: 41.64 | M25: 0 | Q25: 3.64
A26: 12 | E26: 23.8 | I26: 42.4 | M26: 0.2 | Q26: 4
... A38: 24 | E38: 22.8 | I38: 45.96 | M38: 0 | Q38: 3.76
A39: Итого | E39: =SUM(E15:E38) -> 533.2 | I39: =SUM(I15:I38) -> 1050.92 | M39: =SUM(M15:M38) -> 0.2 | Q39: =SUM(Q15:Q38) -> 95.16
A40: 1. При наличии на предприятии отклонений от нормальных режимов электропотребления (временное изменение схем питания, остановка на ремонт, резкое снижение
A41: эл.потребления и т.д.) последние необходимо перечислить.
A42: Главный инженер АО "Вологдаоблэнерго" А.В. Чурляев
A43: составляется самим предприятием с соблюдением всех пунктов настоящей таблицы.

Sheet 21_1
B1: АО "Вологдаоблэнерго" | J1: код 900151 | N1: ПС ВОЛОГДА-ЮЖНАЯ РУ- 6 кВ
B2: наименование предприятия | N2: наименование источника питания
N3: _________________________________
B4: ул. Горького, 99 | I4: Таблица № 1 | O4: ТП 461
B5: адрес
A6: почасовых записей показаний электрических счетчиков
A7: в режимный день 21 ДЕКАБРЯ 2022 г.
A8: 594
A9: часы суток | B9: Активная энергия | J9: Реактивная энергия
B10: ЯЧ.№203 - "ГОРОД 20" | J10: ЯЧ.№203 - "ГОРОД 20"
B11: Расчет. Коэф. | E11: 7200 | F11: Расчет. Коэф. | I11: 0 | J11: Расчет. Коэф. | M11: =E11 -> 7200 | N11: Расчет. Коэф. | Q11: =I11 -> 0
B12: показания счетчика | C12: разность | E12: расход эл.энергии за час | F12: показания счетчика | G12: разность | I12: расход эл.энергии за час | J12: показания счетчика | K12: разность | M12: расход эл.энергии за час | N12: показания счетчика | O12: разность | Q12: расход эл.энергии за час
A13: 1 | B13: 2 | C13: 3 | E13: 4 | F13: 5 | G13: 6 | I13: 7 | J13: 8 | K13: 9 | M13: 10 | N13: 11 | O13: 12 | Q13: 13
A14: 0
A15: 1 | E15: 239 | M15: 46
A16: 2 | E16: 207 | M16: 47
A17: 3 | E17: 192 | M17: 41
A18: 4 | E18: 207 | M18: 43
A19: 5 | E19: 219 | M19: 39
A20: 6 | E20: 283 | M20: 50
A21: 7 | E21: 328 | M21: 52
A22: 8 | E22: 373 | M22: 58
A23: 9 | E23: 414 | M23: 60
A24: 10 | E24: 433 | M24: 64
A25: 11 | E25: 445 | M25: 62
A26: 12 | E26: 413 | M26: 56
... A38: 24 | E38: 265 | M38: 34
A39: Итого | E39: =SUM(E15:E38) -> 8042 | M39: =SUM(M15:M38) -> 1219
A40: 1. При наличии на предприятии отклонений от нормальных режимов электропотребления (временное изменение схем питания, остановка на ремонт, резкое снижение
A41: эл.потребления и т.д.) последние необходимо перечислить.
A42: Главный инженер АО "Вологдаоблэнерго" А.В. Чурляев
A43: составляется самим предприятием с соблюдением всех пунктов настоящей таблицы.

Sheet 21_2
B1: АО "Вологдаоблэнерго" | J1: код 900151 | N1: ПС ВОЛОГДА-ЮЖНАЯ РУ-10 кВ
B2: наименование предприятия | N2: наименование источника питания
N3: яч. 104 ф 6 кВ Керамик-1
B4: ул. Горького, 99 | I4: Таблица № 1
B5: адрес
A6: почасовых записей показаний электрических счетчиков
A7: в режимный день 21 ДЕКАБРЯ 2022 г.
A9: часы суток | B9: Активная энергия | J9: Реактивная энергия
B10: яч. 104 ф 6 кВ Керамик-1 ТП-841Т-1 | F10: яч. 104 ф 6 кВ Керамик-1 ТП-417 | J10: яч. 104 ф 6 кВ Керамик-1 ТП-841Т-1 | N10: яч. 104 ф 6 кВ Керамик-1 ТП-417
B11: Расчет. Коэф. | F11: Расчет. Коэф. | I11: 200 | J11: Расчет. Коэф. | N11: Расчет. Коэф. | Q11: 200
B12: показания счетчика | C12: разность | E12: расход эл.энергии за час | F12: показания счетчика | G12: разность | I12: расход эл.энергии за час | J12: показания счетчика | K12: разность | M12: расход эл.энергии за час | N12: показания счетчика | O12: разность | Q12: расход эл.энергии за час
A13: 1 | B13: 2 | C13: 3 | E13: 4 | F13: 5 | G13: 6 | I13: 7 | J13: 8 | K13: 9 | M13: 10 | N13: 11 | O13: 12 | Q13: 13
A14: 0
A15: 1 | E15: 40.5 | I15: 1.72 | M15: 0 | Q15: 0
A16: 2 | E16: 36.6 | I16: 1.64 | M16: 0 | Q16: 0
A17: 3 | E17: 32.7 | I17: 1.68 | M17: 0 | Q17: 0
A18: 4 | E18: 30.3 | I18: 1.76 | M18: 0 | Q18: 0
A19: 5 | E19: 30 | I19: 1.68 | M19: 0 | Q19: 0
A20: 6 | E20: 33.6 | I20: 1.76 | M20: 0 | Q20: 0
A21: 7 | E21: 44.85 | I21: 1.64 | M21: 0 | Q21: 0
A22: 8 | E22: 41.1 | I22: 1.8 | M22: 0 | Q22: 0
A23: 9 | E23: 44.55 | I23: 1.68 | M23: 0 | Q23: 0
A24: 10 | E24: 43.95 | I24: 1.72 | M24: 0 | Q24: 0
A25: 11 | E25: 48.75 | I25: 1.36 | M25: 0 | Q25: 0
A26: 12 | E26: 48.75 | I26: 1.32 | M26: 0 | Q26: 0
... A38: 24 | E38: 45 | I38: 4.12 | M38: 0 | Q38: 0
A39: Итого | E39: =SUM(E15:E38) -> 1132.2 | I39: =SUM(I15:I38) -> 56.32 | M39: =SUM(M15:M38) -> 0 | Q39: =SUM(Q15:Q38) -> 0
A40: 1. При наличии на предприятии отклонений от нормальных режимов электропотребления (временное изменение схем питания, остановка на ремонт, резкое снижение
A41: эл.потребления и т.д.) последние необходимо перечислить.
A42: Главный инженер АО "Вологдаоблэнерго" А.В. Чурляев
A43: составляется самим предприятием с соблюдением всех пунктов настоящей таблицы.

Sheet 21_3
B1: АО "Вологдаоблэнерго" | J1: код 900151 | N1: ПС ВОЛОГДА-ЮЖНАЯ РУ-10 кВ
B2: наименование предприятия | N2: наименование источника питания
N3: яч, 104 ф 6 кВ Керамик-1
B4: ул, Горького, 99 | I4: Таблица № 1
B5: адрес
A6: почасовых записей показаний электрических счетчиков
A7: в режимный день 21 ДЕКАБРЯ 2022 г,
A9: часы суток | B9: Активная энергия | J9: Реактивная энергия
B10: яч, 104 ф 6 кВ Керамик-1 КТП-1004 | J10: яч, 104 ф 6 кВ Керамик-1 КТП-1004
B11: Расчет, Коэф, | F11: Расчет, Коэф, | J11: Расчет, Коэф, | N11: Расчет, Коэф,
B12: показания счетчика | C12: разность | E12: расход эл,энергии за час | F12: показания счетчика | G12: разность | I12: расход эл,энергии за час | J12: показания счетчика | K12: разность | M12: расход эл,энергии за час | N12: показания счетчика | O12: разность | Q12: расход эл,энергии за час
A13: 1 | B13: 2 | C13: 3 | E13: 4 | F13: 5 | G13: 6 | I13: 7 | J13: 8 | K13: 9 | M13: 10 | N13: 11 | O13: 12 | Q13: 13
A14: 0
A15: 1 | E15: 27 | M15: 0.3
A16: 2 | E16: 24.4 | M16: 0.1
A17: 3 | E17: 21.8 | M17: 0.1
A18: 4 | E18: 20.2 | M18: 0.1
A19: 5 | E19: 20 | M19: 0.1
A20: 6 | E20: 22.4 | M20: 0
A21: 7 | E21: 29.9 | M21: 0.8
A22: 8 | E22: 27.4 | M22: 3.1
A23: 9 | E23: 29.7 | M23: 2.4
A24: 10 | E24: 29.3 | M24: 1.3
A25: 11 | E25: 32.5 | M25: 1.2
A26: 12 | E26: 32.5 | M26: 1.8
... A38: 24 | E38: 30 | M38: 0.3
A39: Итого | E39: =SUM(E15:E38) -> 754.8 | I39: =SUM(I15:I38) -> 0 | M39: =SUM(M15:M38) -> 36.1 | Q39: =SUM(Q15:Q38) -> 0
A40: 1, При наличии на предприятии отклонений от нормальных режимов электропотребления (временное изменение схем питания, остановка на ремонт, резкое снижение
A41: эл,потребления и т,д,) последние необходимо перечислить,
A42: Главный инженер АО "Вологдаоблэнерго" А,В, Чурляев
A43: составляется самим предприятием с соблюдением всех пунктов настоящей таблицы,

Sheet 21_4
B1: АО "Вологдаоблэнерго" | J1: код 900151 | N1: ПС ВОЛОГДА-ЮЖНАЯ РУ-10 кВ
B2: наименование предприятия | N2: наименование источника питания
N3: яч. 207 ф 10 кВ Керамик 2
B4: ул. Горького, 99 | I4: Таблица № 1
B5: адрес
A6: почасовых записей показаний электрических счетчиков
A7: в режимный день 21 ДЕКАБРЯ 2022 г.
A9: часы суток | B9: Активная энергия | J9: Реактивная энергия
B10: яч. 207 ф 10 кВ Керамик 2 ТП841 Т-2 | J10: яч. 207 ф 10 кВ Керамик 2 ТП841 Т-2
B11: Расчет. Коэф. | F11: Расчет. Коэф. | J11: Расчет. Коэф. | N11: Расчет. Коэф.
B12: показания счетчика | C12: разность | E12: расход эл.энергии за час | F12: показания счетчика | G12: разность | I12: расход эл.энергии за час | J12: показания счетчика | K12: разность | M12: расход эл.энергии за час | N12: показания счетчика | O12: разность | Q12: расход эл.энергии за час
A13: 1 | B13: 2 | C13: 3 | E13: 4 | F13: 5 | G13: 6 | I13: 7 | J13: 8 | K13: 9 | M13: 10 | N13: 11 | O13: 12 | Q13: 13
A14: 0
A15: 1 | E15: 48.75 | M15: 0
A16: 2 | E16: 40.95 | M16: 0
A17: 3 | E17: 37.65 | M17: 0
A18: 4 | E18: 34.05 | M18: 0
A19: 5 | E19: 33.6 | M19: 0
A20: 6 | E20: 41.85 | M20: 0
A21: 7 | E21: 58.05 | M21: 0
A22: 8 | E22: 61.05 | M22: 0
A23: 9 | E23: 56.55 | M23: 0
A24: 10 | E24: 56.85 | M24: 0
A25: 11 | E25: 60.45 | M25: 0
A26: 12 | E26: 62.85 | M26: 0
... A38: 24 | E38: 58.95 | M38: 0
A39: Итого | E39: =SUM(E15:E38) -> 1537.05 | I39: =SUM(I15:I38) -> 0 | M39: =SUM(M15:M38) -> 0 | Q39: =SUM(Q15:Q38) -> 0
A40: 1. При наличии на предприятии отклонений от нормальных режимов электропотребления (временное изменение схем питания, остановка на ремонт, резкое снижение
A41: эл.потребления и т.д.) последние необходимо перечислить.
A42: Главный инженер АО "Вологдаоблэнерго" А.В. Чурляев
A43: составляется самим предприятием с соблюдением всех пунктов настоящей таблицы.

Sheet 21_5
B1: АО "Вологдаоблэнерго" | J1: код 900151 | K1: ПС "Вологда-Южная"РУ 6кВ - транзит через "БМЗ"
B2: наименование предприятия | N2: наименование источника питания
N3: ф 6 кВ БМЗ-1, БМЗ-2
B4: ул. Горького, 99 | I4: Таблица № 1
B5: адрес
A6: почасовых записей показаний электрических счетчиков
A7: в режимный день 21 ДЕКАБРЯ 2022 г.
A9: часы суток | B9: Активная энергия | J9: Реактивная энергия
B10: яч. 106 ф 6 кВ БМЗ-1 РТП 25 Т1 | F10: яч. 204 ф 6 кВ БМЗ-2 РТП 25 Т2 | J10: яч. 204 ф 6 кВ БМЗ-2 РТП 25 Т1 | N10: яч. 204 ф 6 кВ БМЗ-2 РТП 25 Т2
B11: Расчет. Коэф. | F11: Расчет. Коэф. | J11: Расчет. Коэф. | N11: Расчет. Коэф.
B12: показания счетчика | C12: разность | E12: расход эл.энергии за час | F12: показания счетчика | G12: разность | I12: расход эл.энергии за час | J12: показания счетчика | K12: разность | M12: расход эл.энергии за час | N12: показания счетчика | O12: разность | Q12: расход эл.энергии за час
A13: 1 | B13: 2 | C13: 3 | E13: 4 | F13: 5 | G13: 6 | I13: 7 | J13: 8 | K13: 9 | M13: 10 | N13: 11 | O13: 12 | Q13: 13
A14: 0
A15: 1 | E15: 89.16 | I15: 86.28 | M15: 24.84 | Q15: 36.6
A16: 2 | E16: 79.08 | I16: 83.1 | M16: 24.36 | Q16: 35.16
A17: 3 | E17: 74.28 | I17: 79.2 | M17: 23.16 | Q17: 35.58
A18: 4 | E18: 74.76 | I18: 78.24 | M18: 24.12 | Q18: 35.1
A19: 5 | E19: 73.2 | I19: 79.02 | M19: 24.72 | Q19: 35.64
A20: 6 | E20: 82.08 | I20: 85.98 | M20: 27.12 | Q20: 34.44
A21: 7 | E21: 92.16 | I21: 124.68 | M21: 26.28 | Q21: 36.48
A22: 8 | E22: 112.08 | I22: 146.1 | M22: 27.48 | Q22: 39.36
A23: 9 | E23: 137.4 | I23: 165.42 | M23: 34.08 | Q23: 41.94
A24: 10 | E24: 142.2 | I24: 158.22 | M24: 35.64 | Q24: 43.2
A25: 11 | E25: 148.44 | I25: 159.18 | M25: 34.56 | Q25: 41.58
A26: 12 | E26: 151.56 | I26: 159.54 | M26: 35.64 | Q26: 41.64
... A38: 24 | E38: 104.88 | I38: 98.04 | M38: 20.52 | Q38: 32.64
A39: Итого | E39: =SUM(E15:E38) -> 3037.44 | I39: =SUM(I15:I38) -> 3029.52 | M39: =SUM(M15:M38) -> 695.52 | Q39: =SUM(Q15:Q38) -> 925.92
A40: 1. При наличии на предприятии отклонений от нормальных режимов электропотребления (временное изменение схем питания, остановка на ремонт, резкое снижение
A41: эл.потребления и т.д.) последние необходимо перечислить.
A42: Главный инженер АО "Вологдаоблэнерго" А.В. Чурляев
A43: составляется самим предприятием с соблюдением всех пунктов настоящей таблицы.

Sheet 21_5.1
B1: АО "Вологдаоблэнерго" | J1: код 900151 | K1: ПС "Вологда-Южная"РУ 6кВ - транзит через "БМЗ"
B2: наименование предприятия | N2: наименование источника питания
N3: ф 6 кВ БМЗ-1, БМЗ-2
B4: ул. Горького, 99 | I4: Таблица № 1
B5: адрес
A6: почасовых записей показаний электрических счетчиков
A7: в режимный день 21 ДЕКАБРЯ 2022 г.
A9: часы суток | B9: Активная энергия | J9: Реактивная энергия
B10: яч. 204 ф 6 кВ БМЗ КТП-1038 Т1 | F10: яч. 106 ф 6 кВ БМЗ-1 КТП-1038 Т2 | J10: яч. 204 ф 6 кВ БМЗ КТП-1038 Т1 | N10: яч. 106 ф 6 кВ БМЗ-1 КТП-1038 Т2
B11: Расчет. Коэф. | F11: Расчет. Коэф. | J11: Расчет. Коэф. | N11: Расчет. Коэф.
B12: показания счетчика | C12: разность | E12: расход эл.энергии за час | F12: показания счетчика | G12: разность | I12: расход эл.энергии за час | J12: показания счетчика | K12: разность | M12: расход эл.энергии за час | N12: показания счетчика | O12: разность | Q12: расход эл.энергии за час
A13: 1 | B13: 2 | C13: 3 | E13: 4 | F13: 5 | G13: 6 | I13: 7 | J13: 8 | K13: 9 | M13: 10 | N13: 11 | O13: 12 | Q13: 13
A14: 0
A15: 1 | E15: 20.9 | I15: 54.8 | M15: 2.5 | Q15: 0
A16: 2 | E16: 18.5 | I16: 47 | M16: 1.6 | Q16: 0
